BEGIN:VCALENDAR
VERSION:2.0
PRODID:-//Nicole Johnston - ECPv6.15.20//NONSGML v1.0//EN
CALSCALE:GREGORIAN
METHOD:PUBLISH
X-WR-CALNAME:Nicole Johnston
X-ORIGINAL-URL:https://nicolejohnston.com.au
X-WR-CALDESC:Events for Nicole Johnston
REFRESH-INTERVAL;VALUE=DURATION:PT1H
X-Robots-Tag:noindex
X-PUBLISHED-TTL:PT1H
BEGIN:VTIMEZONE
TZID:Australia/Brisbane
BEGIN:STANDARD
TZOFFSETFROM:+1000
TZOFFSETTO:+1000
TZNAME:AEST
DTSTART:20140101T000000
END:STANDARD
END:VTIMEZONE
BEGIN:VEVENT
DTSTART;TZID=Australia/Brisbane:20160922T190000
DTEND;TZID=Australia/Brisbane:20160922T210000
DTSTAMP:20260424T200851
CREATED:20160913T044839Z
LAST-MODIFIED:20160913T051221Z
UID:10067-1474570800-1474578000@nicolejohnston.com.au
SUMMARY:School Holidays | Movies in the Valley Malls
DESCRIPTION:Enjoy a free screening of Night at the Museum – Secret of the Tomb\, starring Ben Stiller.
URL:https://nicolejohnston.com.au/event/fortitude-valley-movies-in-the-valley-malls/
LOCATION:Chinatown Mall\, Brunswick St\, Fortitude Valley\, Qld\, 4006\, Australia
GEO:-27.4573214;153.0335625
X-APPLE-STRUCTURED-LOCATION;VALUE=URI;X-ADDRESS=Chinatown Mall Brunswick St Fortitude Valley Qld 4006 Australia;X-APPLE-RADIUS=500;X-TITLE=Brunswick St:geo:153.0335625,-27.4573214
END:VEVENT
BEGIN:VEVENT
DTSTART;TZID=Australia/Brisbane:20150927T120000
DTEND;TZID=Australia/Brisbane:20150927T170000
DTSTAMP:20260424T200851
CREATED:20150911T103037Z
LAST-MODIFIED:20150911T103037Z
UID:4086-1443355200-1443373200@nicolejohnston.com.au
SUMMARY:Chinese Moon Festival
DESCRIPTION:Bring the family along to Chinatown Mall and join in the Chinese Moon Festival celebrations.  The festivities will include lion dances\, traditional Chinese dancing\, firecrackers\, fire shows\, roving entertainment\, traditional market stalls and much more for all to enjoy. \nThere will be free Moon Cakes given away to a  lucky few people.  Come and see the traditional lanterns hung from Chinatown Mall Grand awning.
URL:https://nicolejohnston.com.au/event/chinese-moon-festival/
LOCATION:Chinatown Mall\, Brunswick St\, Fortitude Valley\, Qld\, 4006\, Australia
GEO:-27.4573214;153.0335625
X-APPLE-STRUCTURED-LOCATION;VALUE=URI;X-ADDRESS=Chinatown Mall Brunswick St Fortitude Valley Qld 4006 Australia;X-APPLE-RADIUS=500;X-TITLE=Brunswick St:geo:153.0335625,-27.4573214
END:VEVENT
END:VCALENDAR