BEGIN:VCALENDAR
VERSION:2.0
PRODID:-//Nicole Johnston - ECPv6.15.20//NONSGML v1.0//EN
CALSCALE:GREGORIAN
METHOD:PUBLISH
X-WR-CALNAME:Nicole Johnston
X-ORIGINAL-URL:https://nicolejohnston.com.au
X-WR-CALDESC:Events for Nicole Johnston
REFRESH-INTERVAL;VALUE=DURATION:PT1H
X-Robots-Tag:noindex
X-PUBLISHED-TTL:PT1H
BEGIN:VTIMEZONE
TZID:Australia/Brisbane
BEGIN:STANDARD
TZOFFSETFROM:+1000
TZOFFSETTO:+1000
TZNAME:AEST
DTSTART:20140101T000000
END:STANDARD
END:VTIMEZONE
BEGIN:VEVENT
DTSTART;TZID=Australia/Brisbane:20150613T100000
DTEND;TZID=Australia/Brisbane:20150613T120000
DTSTAMP:20260424T215546
CREATED:20150605T061349Z
LAST-MODIFIED:20150605T061349Z
UID:3282-1434189600-1434196800@nicolejohnston.com.au
SUMMARY:C&K Arnwood Place Childcare Open Day
DESCRIPTION:Come and visit C&K Arnwood Place during their open week. \nDiscuss enrolments\, meet educators and discuss curriculum and play based learning. \nExplore our wonderful indoor and outdoor learning environments. \nCome along and support C&K Arnwood Place by having your face painting or purchasing from their Cake Stall.
URL:https://nicolejohnston.com.au/event/ck-arnwood-place-childcare-open-day/
LOCATION:C&K Arnwood Place Community Childcare Centre\, 21 Arnwood Place\, Tarragindi\, Queensland\, 4121\, Australia
GEO:-27.512951;153.04
X-APPLE-STRUCTURED-LOCATION;VALUE=URI;X-ADDRESS=C&K Arnwood Place Community Childcare Centre 21 Arnwood Place Tarragindi Queensland 4121 Australia;X-APPLE-RADIUS=500;X-TITLE=21 Arnwood Place:geo:153.04,-27.512951
END:VEVENT
END:VCALENDAR