BEGIN:VCALENDAR
VERSION:2.0
PRODID:-//Nicole Johnston - ECPv6.15.20//NONSGML v1.0//EN
CALSCALE:GREGORIAN
METHOD:PUBLISH
X-ORIGINAL-URL:https://nicolejohnston.com.au
X-WR-CALDESC:Events for Nicole Johnston
REFRESH-INTERVAL;VALUE=DURATION:PT1H
X-Robots-Tag:noindex
X-PUBLISHED-TTL:PT1H
BEGIN:VTIMEZONE
TZID:Australia/Brisbane
BEGIN:STANDARD
TZOFFSETFROM:+1000
TZOFFSETTO:+1000
TZNAME:AEST
DTSTART:20150101T000000
END:STANDARD
END:VTIMEZONE
BEGIN:VEVENT
DTSTART;TZID=Australia/Brisbane:20160522T100000
DTEND;TZID=Australia/Brisbane:20160522T120000
DTSTAMP:20260424T154749
CREATED:20160516T000950Z
LAST-MODIFIED:20160516T001147Z
UID:9165-1463911200-1463918400@nicolejohnston.com.au
SUMMARY:Gumtree in the Park
DESCRIPTION:
URL:https://nicolejohnston.com.au/event/gumtree-in-the-park-2/
LOCATION:Clifton Hill Peace Park\, Eric Crescent\, Moorooka\, qld\, 4105\, Australia
GEO:-27.5232199;153.0301987
X-APPLE-STRUCTURED-LOCATION;VALUE=URI;X-ADDRESS=Clifton Hill Peace Park Eric Crescent Moorooka qld 4105 Australia;X-APPLE-RADIUS=500;X-TITLE=Eric Crescent:geo:153.0301987,-27.5232199
END:VEVENT
BEGIN:VEVENT
DTSTART;TZID=Australia/Brisbane:20160522T100000
DTEND;TZID=Australia/Brisbane:20160522T120000
DTSTAMP:20260424T154749
CREATED:20160503T052043Z
LAST-MODIFIED:20160503T052043Z
UID:9101-1463911200-1463918400@nicolejohnston.com.au
SUMMARY:Gumtree in the Park
DESCRIPTION:
URL:https://nicolejohnston.com.au/event/gumtree-in-the-park/
LOCATION:Clifton Hill Peace Park\, Eric Crescent\, Moorooka\, qld\, 4105\, Australia
GEO:-27.5232199;153.0301987
X-APPLE-STRUCTURED-LOCATION;VALUE=URI;X-ADDRESS=Clifton Hill Peace Park Eric Crescent Moorooka qld 4105 Australia;X-APPLE-RADIUS=500;X-TITLE=Eric Crescent:geo:153.0301987,-27.5232199
END:VEVENT
END:VCALENDAR