BEGIN:VCALENDAR
VERSION:2.0
PRODID:-//Nicole Johnston - ECPv6.15.20//NONSGML v1.0//EN
CALSCALE:GREGORIAN
METHOD:PUBLISH
X-ORIGINAL-URL:https://nicolejohnston.com.au
X-WR-CALDESC:Events for Nicole Johnston
REFRESH-INTERVAL;VALUE=DURATION:PT1H
X-Robots-Tag:noindex
X-PUBLISHED-TTL:PT1H
BEGIN:VTIMEZONE
TZID:Australia/Brisbane
BEGIN:STANDARD
TZOFFSETFROM:+1000
TZOFFSETTO:+1000
TZNAME:AEST
DTSTART:20240101T000000
END:STANDARD
END:VTIMEZONE
BEGIN:VEVENT
DTSTART;TZID=Australia/Brisbane:20260423T070000
DTEND;TZID=Australia/Brisbane:20260423T090000
DTSTAMP:20260424T080135
CREATED:20260119T015104Z
LAST-MODIFIED:20260119T020409Z
UID:31777-1776927600-1776934800@nicolejohnston.com.au
SUMMARY:Corinda | Creekcare: Cliveden Ave Reserve
DESCRIPTION:OCCA’s CreekCare Team is a roving group of volunteers that assists both OCCA Bushcare and Habitat Brisbane groups in Oxley Creek Catchment. The group meets at different regeneration sites each Thursday morning from 7 am to 9 am. \nCome along and enjoy the company of this hard working group of volunteers\, contribute to the maintenance of some significant sites in the catchment and share in morning tea. \nIf you are interested in being involved\, please contact the coordinator: Trevor Armstrong on 0414 691 264 or trevor.r.armstrong@gmail.com to confirm details of the next group.
URL:https://nicolejohnston.com.au/event/corinda-creekcare-cliveden-ave-reserve/2026-04-23/
LOCATION:Cliveden Avenue Reserve\, 449 Cliveden Ave\, Oxley\, Queensland\, 4075\, Australia
ORGANIZER;CN="Cliveden Reserve Bushcare Group":MAILTO:bristowc@bigpond.net.au
END:VEVENT
BEGIN:VEVENT
DTSTART;TZID=Australia/Brisbane:20251220T063000
DTEND;TZID=Australia/Brisbane:20251220T083000
DTSTAMP:20260424T080135
CREATED:20250910T014957Z
LAST-MODIFIED:20250910T014957Z
UID:30836-1766212200-1766219400@nicolejohnston.com.au
SUMMARY:Oxley | Pennywort Creek Bushcare Group Working Bee
DESCRIPTION:The Pennywort Creek Bushcare Group meet regularly on the third Saturday of each month 6.30-8.30am and welcomes new volunteers. \nFor more information\, phone volunteer group leader Trevor Armstrong on 0414 691 264 or send an email.
URL:https://nicolejohnston.com.au/event/oxley-pennywort-creek-bushcare-group-working-bee-3/
LOCATION:Cliveden Avenue Reserve\, 449 Cliveden Ave\, Oxley\, Queensland\, 4075\, Australia
ORGANIZER;CN="Pennywort Creek Bushcare Group":MAILTO:trevor.r.armstrong@gmail.com
END:VEVENT
BEGIN:VEVENT
DTSTART;TZID=Australia/Brisbane:20251115T063000
DTEND;TZID=Australia/Brisbane:20251115T083000
DTSTAMP:20260424T080135
CREATED:20250910T013522Z
LAST-MODIFIED:20250910T013522Z
UID:30823-1763188200-1763195400@nicolejohnston.com.au
SUMMARY:Oxley | Pennywort Creek Bushcare Group Working Bee
DESCRIPTION:The Pennywort Creek Bushcare Group meet regularly on the third Saturday of each month 6.30-8.30am and welcomes new volunteers. \nFor more information\, phone volunteer group leader Trevor Armstrong on 0414 691 264 or send an email.
URL:https://nicolejohnston.com.au/event/oxley-pennywort-creek-bushcare-group-working-bee-2/
LOCATION:Cliveden Avenue Reserve\, 449 Cliveden Ave\, Oxley\, Queensland\, 4075\, Australia
ORGANIZER;CN="Pennywort Creek Bushcare Group":MAILTO:trevor.r.armstrong@gmail.com
END:VEVENT
BEGIN:VEVENT
DTSTART;TZID=Australia/Brisbane:20251018T063000
DTEND;TZID=Australia/Brisbane:20251018T083000
DTSTAMP:20260424T080135
CREATED:20250910T012436Z
LAST-MODIFIED:20250910T012436Z
UID:30811-1760769000-1760776200@nicolejohnston.com.au
SUMMARY:Oxley | Pennywort Creek Bushcare Group Working Bee
DESCRIPTION:The Pennywort Creek Bushcare Group meet regularly on the third Saturday of each month 6.30-8.30am and welcomes new volunteers. \nFor more information\, phone volunteer group leader Trevor Armstrong on 0414 691 264 or send an email.
URL:https://nicolejohnston.com.au/event/oxley-pennywort-creek-bushcare-group-working-bee/
LOCATION:Cliveden Avenue Reserve\, 449 Cliveden Ave\, Oxley\, Queensland\, 4075\, Australia
ORGANIZER;CN="Pennywort Creek Bushcare Group":MAILTO:trevor.r.armstrong@gmail.com
END:VEVENT
BEGIN:VEVENT
DTSTART;TZID=Australia/Brisbane:20250920T063000
DTEND;TZID=Australia/Brisbane:20250920T083000
DTSTAMP:20260424T080135
CREATED:20250910T004233Z
LAST-MODIFIED:20250910T004233Z
UID:30788-1758349800-1758357000@nicolejohnston.com.au
SUMMARY:Oxley | Pennywort Creek Bushcare Group
DESCRIPTION:The Pennywort Creek Bushcare Group meet regularly on the third Saturday of each month 6.30-8.30am and welcomes new volunteers. \nFor more information\, phone volunteer group leader Trevor Armstrong on 0414 691 264 or send an email.
URL:https://nicolejohnston.com.au/event/oxley-pennywort-creek-bushcare-group/
LOCATION:Cliveden Avenue Reserve\, 449 Cliveden Ave\, Oxley\, Queensland\, 4075\, Australia
ORGANIZER;CN="Pennywort Creek Bushcare Group":MAILTO:trevor.r.armstrong@gmail.com
END:VEVENT
END:VCALENDAR