BEGIN:VCALENDAR
VERSION:2.0
PRODID:-//Nicole Johnston - ECPv6.15.20//NONSGML v1.0//EN
CALSCALE:GREGORIAN
METHOD:PUBLISH
X-WR-CALNAME:Nicole Johnston
X-ORIGINAL-URL:https://nicolejohnston.com.au
X-WR-CALDESC:Events for Nicole Johnston
REFRESH-INTERVAL;VALUE=DURATION:PT1H
X-Robots-Tag:noindex
X-PUBLISHED-TTL:PT1H
BEGIN:VTIMEZONE
TZID:Australia/Brisbane
BEGIN:STANDARD
TZOFFSETFROM:+1000
TZOFFSETTO:+1000
TZNAME:AEST
DTSTART:20170101T000000
END:STANDARD
END:VTIMEZONE
BEGIN:VEVENT
DTSTART;TZID=Australia/Brisbane:20240831T100000
DTEND;TZID=Australia/Brisbane:20240831T140000
DTSTAMP:20260424T195709
CREATED:20240815T033057Z
LAST-MODIFIED:20240815T033303Z
UID:27797-1725098400-1725112800@nicolejohnston.com.au
SUMMARY:Corinda | Corinda Community Kindergarten Open Day
DESCRIPTION:
URL:https://nicolejohnston.com.au/event/corinda-corinda-community-kindergarten-open-day/
LOCATION:Corinda Community Kindergarten\, 4 Clewley St\, Corinda\, Qld\, 4075\, Australia
CATEGORIES:Community Event
ATTACH;FMTTYPE=image/jpeg:https://nicolejohnston.com.au/wp-content/uploads/2024/08/Open-day-draft-poster-Corinda-Kindy.jpg
GEO:-27.537764;152.981494
X-APPLE-STRUCTURED-LOCATION;VALUE=URI;X-ADDRESS=Corinda Community Kindergarten 4 Clewley St Corinda Qld 4075 Australia;X-APPLE-RADIUS=500;X-TITLE=4 Clewley St:geo:152.981494,-27.537764
END:VEVENT
BEGIN:VEVENT
DTSTART;TZID=Australia/Brisbane:20180623T093000
DTEND;TZID=Australia/Brisbane:20180623T113000
DTSTAMP:20260424T195709
CREATED:20180612T062600Z
LAST-MODIFIED:20180612T062603Z
UID:17396-1529746200-1529753400@nicolejohnston.com.au
SUMMARY:Corinda Christian Kindergarten Open Day
DESCRIPTION:
URL:https://nicolejohnston.com.au/event/corinda-christian-kindergarten-open-day/
LOCATION:Corinda Community Kindergarten\, 4 Clewley St\, Corinda\, Qld\, 4075\, Australia
GEO:-27.537764;152.981494
X-APPLE-STRUCTURED-LOCATION;VALUE=URI;X-ADDRESS=Corinda Community Kindergarten 4 Clewley St Corinda Qld 4075 Australia;X-APPLE-RADIUS=500;X-TITLE=4 Clewley St:geo:152.981494,-27.537764
END:VEVENT
END:VCALENDAR