BEGIN:VCALENDAR
VERSION:2.0
PRODID:-//Nicole Johnston - ECPv6.15.20//NONSGML v1.0//EN
CALSCALE:GREGORIAN
METHOD:PUBLISH
X-ORIGINAL-URL:https://nicolejohnston.com.au
X-WR-CALDESC:Events for Nicole Johnston
REFRESH-INTERVAL;VALUE=DURATION:PT1H
X-Robots-Tag:noindex
X-PUBLISHED-TTL:PT1H
BEGIN:VTIMEZONE
TZID:Australia/Brisbane
BEGIN:STANDARD
TZOFFSETFROM:+1000
TZOFFSETTO:+1000
TZNAME:AEST
DTSTART:20150101T000000
END:STANDARD
END:VTIMEZONE
BEGIN:VEVENT
DTSTART;TZID=Australia/Brisbane:20250227T080000
DTEND;TZID=Australia/Brisbane:20250227T170000
DTSTAMP:20260424T214414
CREATED:20250227T035027Z
LAST-MODIFIED:20250227T035027Z
UID:29249-1740643200-1740675600@nicolejohnston.com.au
SUMMARY:Corinda - Brisbane Taylor Bridge Rotary Trivia Night
DESCRIPTION:
URL:https://nicolejohnston.com.au/event/corinda-brisbane-taylor-bridge-rotary-trivia-night/
LOCATION:Corinda RSL\, Clewley St\, Corinda\, Qld\, 4075\, Australia
CATEGORIES:Community Event
ATTACH;FMTTYPE=image/png:https://nicolejohnston.com.au/wp-content/uploads/2025/02/Brisbane-Taylor-Bridge-Rotary-Club-re-Trivia-Night-flyer.png
ORGANIZER;CN="Brisbane Taylor Bridge Rotary Club":MAILTO:trivia@btbrotary.org.au
GEO:-27.5383287;152.9839763
X-APPLE-STRUCTURED-LOCATION;VALUE=URI;X-ADDRESS=Corinda RSL Clewley St Corinda Qld 4075 Australia;X-APPLE-RADIUS=500;X-TITLE=Clewley St:geo:152.9839763,-27.5383287
END:VEVENT
BEGIN:VEVENT
DTSTART;TZID=Australia/Brisbane:20180613T110000
DTEND;TZID=Australia/Brisbane:20180613T123000
DTSTAMP:20260424T214414
CREATED:20180525T042725Z
LAST-MODIFIED:20180525T042725Z
UID:17301-1528887600-1528893000@nicolejohnston.com.au
SUMMARY:Corinda | Online safety and security basics
DESCRIPTION:Feel safe and confident online by learning the basics of secure internet use. Learn how to protect yourself against viruses and malware\, pay safely online and create strong passwords. Basic computer and internet skills required. \nA Brisbane Libraries Tech connect workshop. \n \nBooking\nBookings required. Phone Corinda Library on 07 3407 7701 to reserve your place.
URL:https://nicolejohnston.com.au/event/corinda-online-safety-and-security-basics-2/
LOCATION:Corinda RSL\, Clewley St\, Corinda\, Qld\, 4075\, Australia
GEO:-27.5383287;152.9839763
X-APPLE-STRUCTURED-LOCATION;VALUE=URI;X-ADDRESS=Corinda RSL Clewley St Corinda Qld 4075 Australia;X-APPLE-RADIUS=500;X-TITLE=Clewley St:geo:152.9839763,-27.5383287
END:VEVENT
BEGIN:VEVENT
DTSTART;TZID=Australia/Brisbane:20171227T110000
DTEND;TZID=Australia/Brisbane:20171227T123000
DTSTAMP:20260424T214414
CREATED:20171107T235059Z
LAST-MODIFIED:20171107T235059Z
UID:14406-1514372400-1514377800@nicolejohnston.com.au
SUMMARY:Corinda | Online safety and security
DESCRIPTION:Feel safe and confident online by learning the basics of secure internet use. Learn how to protect yourself against viruses and malware\, pay safely online and create strong passwords. Basic computer and internet skills required. Bookings essential.
URL:https://nicolejohnston.com.au/event/corinda-online-safety-and-security/
LOCATION:Corinda RSL\, Clewley St\, Corinda\, Qld\, 4075\, Australia
GEO:-27.5383287;152.9839763
X-APPLE-STRUCTURED-LOCATION;VALUE=URI;X-ADDRESS=Corinda RSL Clewley St Corinda Qld 4075 Australia;X-APPLE-RADIUS=500;X-TITLE=Clewley St:geo:152.9839763,-27.5383287
END:VEVENT
BEGIN:VEVENT
DTSTART;TZID=Australia/Brisbane:20171020T093000
DTEND;TZID=Australia/Brisbane:20171020T120000
DTSTAMP:20260424T214414
CREATED:20170228T022456Z
LAST-MODIFIED:20170228T022456Z
UID:11697-1508491800-1508500800@nicolejohnston.com.au
SUMMARY:Oxley Chelmer History Group Meeting
DESCRIPTION:
URL:https://nicolejohnston.com.au/event/oxley-chelmer-history-group-meeting-6/
LOCATION:Corinda RSL\, Clewley St\, Corinda\, Qld\, 4075\, Australia
GEO:-27.5383287;152.9839763
X-APPLE-STRUCTURED-LOCATION;VALUE=URI;X-ADDRESS=Corinda RSL Clewley St Corinda Qld 4075 Australia;X-APPLE-RADIUS=500;X-TITLE=Clewley St:geo:152.9839763,-27.5383287
END:VEVENT
BEGIN:VEVENT
DTSTART;TZID=Australia/Brisbane:20170915T093000
DTEND;TZID=Australia/Brisbane:20170915T120000
DTSTAMP:20260424T214414
CREATED:20170228T022409Z
LAST-MODIFIED:20170228T022409Z
UID:11695-1505467800-1505476800@nicolejohnston.com.au
SUMMARY:Oxley Chelmer History Group Meeting
DESCRIPTION:
URL:https://nicolejohnston.com.au/event/oxley-chelmer-history-group-meeting-5/
LOCATION:Corinda RSL\, Clewley St\, Corinda\, Qld\, 4075\, Australia
GEO:-27.5383287;152.9839763
X-APPLE-STRUCTURED-LOCATION;VALUE=URI;X-ADDRESS=Corinda RSL Clewley St Corinda Qld 4075 Australia;X-APPLE-RADIUS=500;X-TITLE=Clewley St:geo:152.9839763,-27.5383287
END:VEVENT
BEGIN:VEVENT
DTSTART;TZID=Australia/Brisbane:20170811T093000
DTEND;TZID=Australia/Brisbane:20170811T120000
DTSTAMP:20260424T214414
CREATED:20170228T022332Z
LAST-MODIFIED:20170228T022332Z
UID:11693-1502443800-1502452800@nicolejohnston.com.au
SUMMARY:Oxley Chelmer History Group Meeting
DESCRIPTION:
URL:https://nicolejohnston.com.au/event/oxley-chelmer-history-group-meeting-4/
LOCATION:Corinda RSL\, Clewley St\, Corinda\, Qld\, 4075\, Australia
GEO:-27.5383287;152.9839763
X-APPLE-STRUCTURED-LOCATION;VALUE=URI;X-ADDRESS=Corinda RSL Clewley St Corinda Qld 4075 Australia;X-APPLE-RADIUS=500;X-TITLE=Clewley St:geo:152.9839763,-27.5383287
END:VEVENT
BEGIN:VEVENT
DTSTART;TZID=Australia/Brisbane:20170616T093000
DTEND;TZID=Australia/Brisbane:20170616T120000
DTSTAMP:20260424T214414
CREATED:20170228T022247Z
LAST-MODIFIED:20170228T022247Z
UID:11691-1497605400-1497614400@nicolejohnston.com.au
SUMMARY:Oxley Chelmer History Group Meeting
DESCRIPTION:
URL:https://nicolejohnston.com.au/event/oxley-chelmer-history-group-meeting-3/
LOCATION:Corinda RSL\, Clewley St\, Corinda\, Qld\, 4075\, Australia
GEO:-27.5383287;152.9839763
X-APPLE-STRUCTURED-LOCATION;VALUE=URI;X-ADDRESS=Corinda RSL Clewley St Corinda Qld 4075 Australia;X-APPLE-RADIUS=500;X-TITLE=Clewley St:geo:152.9839763,-27.5383287
END:VEVENT
BEGIN:VEVENT
DTSTART;TZID=Australia/Brisbane:20170421T093000
DTEND;TZID=Australia/Brisbane:20170421T120000
DTSTAMP:20260424T214414
CREATED:20170228T022213Z
LAST-MODIFIED:20170228T022213Z
UID:11689-1492767000-1492776000@nicolejohnston.com.au
SUMMARY:Oxley Chelmer History Group Meeting
DESCRIPTION:
URL:https://nicolejohnston.com.au/event/oxley-chelmer-history-group-meeting-2/
LOCATION:Corinda RSL\, Clewley St\, Corinda\, Qld\, 4075\, Australia
GEO:-27.5383287;152.9839763
X-APPLE-STRUCTURED-LOCATION;VALUE=URI;X-ADDRESS=Corinda RSL Clewley St Corinda Qld 4075 Australia;X-APPLE-RADIUS=500;X-TITLE=Clewley St:geo:152.9839763,-27.5383287
END:VEVENT
BEGIN:VEVENT
DTSTART;TZID=Australia/Brisbane:20170317T093000
DTEND;TZID=Australia/Brisbane:20170317T120000
DTSTAMP:20260424T214414
CREATED:20170228T022115Z
LAST-MODIFIED:20170228T022115Z
UID:11687-1489743000-1489752000@nicolejohnston.com.au
SUMMARY:Oxley Chelmer History Group Meeting
DESCRIPTION:
URL:https://nicolejohnston.com.au/event/oxley-chelmer-history-group-meeting/
LOCATION:Corinda RSL\, Clewley St\, Corinda\, Qld\, 4075\, Australia
GEO:-27.5383287;152.9839763
X-APPLE-STRUCTURED-LOCATION;VALUE=URI;X-ADDRESS=Corinda RSL Clewley St Corinda Qld 4075 Australia;X-APPLE-RADIUS=500;X-TITLE=Clewley St:geo:152.9839763,-27.5383287
END:VEVENT
BEGIN:VEVENT
DTSTART;TZID=Australia/Brisbane:20160219T090000
DTEND;TZID=Australia/Brisbane:20160219T110000
DTSTAMP:20260424T214414
CREATED:20160210T123942Z
LAST-MODIFIED:20160210T123942Z
UID:6343-1455872400-1455879600@nicolejohnston.com.au
SUMMARY:Oxley-Chelmer History Group
DESCRIPTION:~Preserving out past\, sharing our memories~ \nThe Oxley-Chelmer History Group Inc meets eight times a year\, on the third Friday of the month excluding Jan\, May\, July\, November.  The December meeting will be held at a different venue TBA. \nContributions to the local history collection are welcome. \nProjects include displays\, workshops\, talks and heritage tours.  All are welcome.
URL:https://nicolejohnston.com.au/event/oxley-chelmer-history-group/2016-02-19/
LOCATION:Corinda RSL\, Clewley St\, Corinda\, Qld\, 4075\, Australia
GEO:-27.5383287;152.9839763
X-APPLE-STRUCTURED-LOCATION;VALUE=URI;X-ADDRESS=Corinda RSL Clewley St Corinda Qld 4075 Australia;X-APPLE-RADIUS=500;X-TITLE=Clewley St:geo:152.9839763,-27.5383287
END:VEVENT
END:VCALENDAR