BEGIN:VCALENDAR
VERSION:2.0
PRODID:-//Nicole Johnston - ECPv6.15.20//NONSGML v1.0//EN
CALSCALE:GREGORIAN
METHOD:PUBLISH
X-WR-CALNAME:Nicole Johnston
X-ORIGINAL-URL:https://nicolejohnston.com.au
X-WR-CALDESC:Events for Nicole Johnston
REFRESH-INTERVAL;VALUE=DURATION:PT1H
X-Robots-Tag:noindex
X-PUBLISHED-TTL:PT1H
BEGIN:VTIMEZONE
TZID:Australia/Brisbane
BEGIN:STANDARD
TZOFFSETFROM:+1000
TZOFFSETTO:+1000
TZNAME:AEST
DTSTART:20180101T000000
END:STANDARD
END:VTIMEZONE
BEGIN:VEVENT
DTSTART;TZID=Australia/Brisbane:20191116T100000
DTEND;TZID=Australia/Brisbane:20191116T120000
DTSTAMP:20260424T195328
CREATED:20191114T065341Z
LAST-MODIFIED:20191114T065341Z
UID:19857-1573898400-1573905600@nicolejohnston.com.au
SUMMARY:Annerley | Creative Sparks Street Art Workshop
DESCRIPTION:Learn basic spray painting techniques. Design and complete street art for Annerley. \nFor tickets\, visit www.eventbrite.com.au/e/create-annerley-street-art-workshop-2-tickets-76770391307
URL:https://nicolejohnston.com.au/event/annerley-creative-sparks-street-art-workshop/
LOCATION:Crush City\, 423 Ipswich Road\, Annerley\, QLD\, 4103\, Australia
END:VEVENT
BEGIN:VEVENT
DTSTART;TZID=Australia/Brisbane:20191115T100000
DTEND;TZID=Australia/Brisbane:20191115T120000
DTSTAMP:20260424T195328
CREATED:20191114T065052Z
LAST-MODIFIED:20191114T065052Z
UID:19854-1573812000-1573819200@nicolejohnston.com.au
SUMMARY:Annerley | Creative Sparks Street Art Workshops
DESCRIPTION:Learn basic spray painting techniques. Design and complete street art for Annerley. \nFor tickets\, visit www.eventbrite.com.au/e/create-annerley-street-art-workshop-1-tickets-76770391307
URL:https://nicolejohnston.com.au/event/annerley-creative-sparks-street-art-workshops/
LOCATION:Crush City\, 423 Ipswich Road\, Annerley\, QLD\, 4103\, Australia
END:VEVENT
END:VCALENDAR