BEGIN:VCALENDAR
VERSION:2.0
PRODID:-//Nicole Johnston - ECPv6.15.20//NONSGML v1.0//EN
CALSCALE:GREGORIAN
METHOD:PUBLISH
X-WR-CALNAME:Nicole Johnston
X-ORIGINAL-URL:https://nicolejohnston.com.au
X-WR-CALDESC:Events for Nicole Johnston
REFRESH-INTERVAL;VALUE=DURATION:PT1H
X-Robots-Tag:noindex
X-PUBLISHED-TTL:PT1H
BEGIN:VTIMEZONE
TZID:Australia/Brisbane
BEGIN:STANDARD
TZOFFSETFROM:+1000
TZOFFSETTO:+1000
TZNAME:AEST
DTSTART:20140101T000000
END:STANDARD
END:VTIMEZONE
BEGIN:VEVENT
DTSTART;TZID=Australia/Brisbane:20150605T173000
DTEND;TZID=Australia/Brisbane:20150605T203000
DTSTAMP:20260424T234141
CREATED:20150526T043051Z
LAST-MODIFIED:20150526T043051Z
UID:3122-1433525400-1433536200@nicolejohnston.com.au
SUMMARY:Luminous Lantern Parade
DESCRIPTION:Brisbane comes together in South Bank Parklands to welcome new arrivals to our city at the Luminous Lantern Parade. \nEnjoy a visual feast of mesmerising lanterns shaped like exotic and native animals\, celestial beings and characters. \nThe light from the lanterns is symbolic of our strong community support for new arrivals to Australia.  The finale for the evening is a high energy concert of world music\, singing and dancing.
URL:https://nicolejohnston.com.au/event/luminous-lantern-parade/
LOCATION:Cultural Forecourt\, South Bank Parklands\, Brisbane\, Queensland\, 4103\, Australia
GEO:-27.4784715;153.0229399
X-APPLE-STRUCTURED-LOCATION;VALUE=URI;X-ADDRESS=Cultural Forecourt South Bank Parklands Brisbane Queensland 4103 Australia;X-APPLE-RADIUS=500;X-TITLE=South Bank Parklands:geo:153.0229399,-27.4784715
END:VEVENT
END:VCALENDAR