BEGIN:VCALENDAR
VERSION:2.0
PRODID:-//Nicole Johnston - ECPv6.15.20//NONSGML v1.0//EN
CALSCALE:GREGORIAN
METHOD:PUBLISH
X-ORIGINAL-URL:https://nicolejohnston.com.au
X-WR-CALDESC:Events for Nicole Johnston
REFRESH-INTERVAL;VALUE=DURATION:PT1H
X-Robots-Tag:noindex
X-PUBLISHED-TTL:PT1H
BEGIN:VTIMEZONE
TZID:Australia/Brisbane
BEGIN:STANDARD
TZOFFSETFROM:+1000
TZOFFSETTO:+1000
TZNAME:AEST
DTSTART:20140101T000000
END:STANDARD
END:VTIMEZONE
BEGIN:VEVENT
DTSTART;TZID=Australia/Brisbane:20151110T170000
DTEND;TZID=Australia/Brisbane:20151110T190000
DTSTAMP:20260424T122510
CREATED:20151102T201017Z
LAST-MODIFIED:20151102T201017Z
UID:4725-1447174800-1447182000@nicolejohnston.com.au
SUMMARY:Talk to a Planner - Dutton Park Fairfield Neighbourhood Plan
DESCRIPTION:Council is holding Talk to a Planner sessions where you can speak one-on-one with a Council officer about the draft Dutton Park – Fairfield Neighbourhood Plan.
URL:https://nicolejohnston.com.au/event/talk-to-a-planner-dutton-park-fairfield-neighbourhood-plan-2/
LOCATION:Diana Plaza Hotel\, 12 Annerley Rd\, Woolloongabba\, Qld\, 4102\, Australia
GEO:-27.4866651;153.0295053
X-APPLE-STRUCTURED-LOCATION;VALUE=URI;X-ADDRESS=Diana Plaza Hotel 12 Annerley Rd Woolloongabba Qld 4102 Australia;X-APPLE-RADIUS=500;X-TITLE=12 Annerley Rd:geo:153.0295053,-27.4866651
END:VEVENT
BEGIN:VEVENT
DTSTART;TZID=Australia/Brisbane:20151110T140000
DTEND;TZID=Australia/Brisbane:20151110T160000
DTSTAMP:20260424T122510
CREATED:20151102T200915Z
LAST-MODIFIED:20151102T200915Z
UID:4723-1447164000-1447171200@nicolejohnston.com.au
SUMMARY:Talk to a Planner - Dutton Park Fairfield Neighbourhood Plan
DESCRIPTION:Council is holding Talk to A Planner sessions where you can speak one-on-one with a Council officer about the draft Dutton Park – Fairfield Neighbourhood Plan.
URL:https://nicolejohnston.com.au/event/talk-to-a-planner-dutton-park-fairfield-neighbourhood-plan/
LOCATION:Diana Plaza Hotel\, 12 Annerley Rd\, Woolloongabba\, Qld\, 4102\, Australia
GEO:-27.4866651;153.0295053
X-APPLE-STRUCTURED-LOCATION;VALUE=URI;X-ADDRESS=Diana Plaza Hotel 12 Annerley Rd Woolloongabba Qld 4102 Australia;X-APPLE-RADIUS=500;X-TITLE=12 Annerley Rd:geo:153.0295053,-27.4866651
END:VEVENT
END:VCALENDAR