BEGIN:VCALENDAR
VERSION:2.0
PRODID:-//Nicole Johnston - ECPv6.15.20//NONSGML v1.0//EN
CALSCALE:GREGORIAN
METHOD:PUBLISH
X-WR-CALNAME:Nicole Johnston
X-ORIGINAL-URL:https://nicolejohnston.com.au
X-WR-CALDESC:Events for Nicole Johnston
REFRESH-INTERVAL;VALUE=DURATION:PT1H
X-Robots-Tag:noindex
X-PUBLISHED-TTL:PT1H
BEGIN:VTIMEZONE
TZID:Australia/Brisbane
BEGIN:STANDARD
TZOFFSETFROM:+1000
TZOFFSETTO:+1000
TZNAME:AEST
DTSTART:20170101T000000
END:STANDARD
END:VTIMEZONE
BEGIN:VEVENT
DTSTART;TZID=Australia/Brisbane:20181208T180000
DTEND;TZID=Australia/Brisbane:20181208T220000
DTSTAMP:20260424T195619
CREATED:20181122T054424Z
LAST-MODIFIED:20181122T054424Z
UID:18136-1544292000-1544306400@nicolejohnston.com.au
SUMMARY:Annerley | Summer Night Festival
DESCRIPTION:
URL:https://nicolejohnston.com.au/event/annerley-summer-night-festival/
LOCATION:Dudley Street Espresso\, 494 Ipswich Rd\, Annerley\, Qld\, 4103\, Australia
END:VEVENT
END:VCALENDAR