BEGIN:VCALENDAR
VERSION:2.0
PRODID:-//Nicole Johnston - ECPv6.15.20//NONSGML v1.0//EN
CALSCALE:GREGORIAN
METHOD:PUBLISH
X-ORIGINAL-URL:https://nicolejohnston.com.au
X-WR-CALDESC:Events for Nicole Johnston
REFRESH-INTERVAL;VALUE=DURATION:PT1H
X-Robots-Tag:noindex
X-PUBLISHED-TTL:PT1H
BEGIN:VTIMEZONE
TZID:Australia/Brisbane
BEGIN:STANDARD
TZOFFSETFROM:+1000
TZOFFSETTO:+1000
TZNAME:AEST
DTSTART:20150101T000000
END:STANDARD
END:VTIMEZONE
BEGIN:VEVENT
DTSTART;TZID=Australia/Brisbane:20210925T153000
DTEND;TZID=Australia/Brisbane:20210925T160000
DTSTAMP:20260424T160920
CREATED:20210906T041031Z
LAST-MODIFIED:20210906T041534Z
UID:24839-1632583800-1632585600@nicolejohnston.com.au
SUMMARY:Brisbane Festival Street Serenades | Casus Circus Vs Mad Dance
DESCRIPTION:
URL:https://nicolejohnston.com.au/event/brisbane-festival-street-serenades-casus-circus-vs-mad-dance/
LOCATION:Dunlop Park\, 44 Turner Street\, Corinda\, Qld\, 4075\, Australia
CATEGORIES:Community Event
ORGANIZER;CN="Brisbane Festival":MAILTO:brisbane@brisbanefestival.com.au
GEO:-27.5467975;152.9830299
X-APPLE-STRUCTURED-LOCATION;VALUE=URI;X-ADDRESS=Dunlop Park 44 Turner Street Corinda Qld 4075 Australia;X-APPLE-RADIUS=500;X-TITLE=44 Turner Street:geo:152.9830299,-27.5467975
END:VEVENT
BEGIN:VEVENT
DTSTART;TZID=Australia/Brisbane:20161204T160000
DTEND;TZID=Australia/Brisbane:20161204T200000
DTSTAMP:20260424T160920
CREATED:20161128T234959Z
LAST-MODIFIED:20161128T235006Z
UID:10764-1480867200-1480881600@nicolejohnston.com.au
SUMMARY:Christmas Markets at Dunlop Park
DESCRIPTION:Oxley United FC in conjunction with World Food Markets (who run numerous markets in Brisbane including those at King George Square and Newstead House) are holding Christmas markets at Dunlop Park\, Corinda on Sunday 4 December from 4-8pm. This will include 20 stall holders selling Christmas gifts and 10 food trucks\, live music and a bar.  \n 
URL:https://nicolejohnston.com.au/event/christmas-markets-at-dunlop-park/
LOCATION:Dunlop Park\, 44 Turner Street\, Corinda\, Qld\, 4075\, Australia
ORGANIZER;CN="Oxley Football Club":MAILTO:oxleyunited@hotmail.com
GEO:-27.5467975;152.9830299
X-APPLE-STRUCTURED-LOCATION;VALUE=URI;X-ADDRESS=Dunlop Park 44 Turner Street Corinda Qld 4075 Australia;X-APPLE-RADIUS=500;X-TITLE=44 Turner Street:geo:152.9830299,-27.5467975
END:VEVENT
END:VCALENDAR