BEGIN:VCALENDAR
VERSION:2.0
PRODID:-//Nicole Johnston - ECPv6.15.20//NONSGML v1.0//EN
CALSCALE:GREGORIAN
METHOD:PUBLISH
X-WR-CALNAME:Nicole Johnston
X-ORIGINAL-URL:https://nicolejohnston.com.au
X-WR-CALDESC:Events for Nicole Johnston
REFRESH-INTERVAL;VALUE=DURATION:PT1H
X-Robots-Tag:noindex
X-PUBLISHED-TTL:PT1H
BEGIN:VTIMEZONE
TZID:Australia/Brisbane
BEGIN:STANDARD
TZOFFSETFROM:+1000
TZOFFSETTO:+1000
TZNAME:AEST
DTSTART:20230101T000000
END:STANDARD
END:VTIMEZONE
BEGIN:VEVENT
DTSTART;TZID=Australia/Brisbane:20240913T163000
DTEND;TZID=Australia/Brisbane:20240913T203000
DTSTAMP:20260425T024302
CREATED:20240829T044507Z
LAST-MODIFIED:20240829T044511Z
UID:28057-1726245000-1726259400@nicolejohnston.com.au
SUMMARY:Dutton Park | Dutton Park State School Community Movie Night
DESCRIPTION:Gates open at 4:30pm\, food service starts at 5pm\, movie starts at 6:30pm. The movie will be “Scooby-Doo and the Curse of the 13th Ghost” \nThis is a free event\, but please register your attendance and pre-order food here.
URL:https://nicolejohnston.com.au/event/dutton-park-dutton-park-state-school-community-movie-night/
LOCATION:Dutton Park State School\, 112 Annerley Rd\, Dutton Park\, QLD\, 4102\, Australia
CATEGORIES:Community Event
END:VEVENT
END:VCALENDAR