BEGIN:VCALENDAR
VERSION:2.0
PRODID:-//Nicole Johnston - ECPv6.15.20//NONSGML v1.0//EN
CALSCALE:GREGORIAN
METHOD:PUBLISH
X-ORIGINAL-URL:https://nicolejohnston.com.au
X-WR-CALDESC:Events for Nicole Johnston
REFRESH-INTERVAL;VALUE=DURATION:PT1H
X-Robots-Tag:noindex
X-PUBLISHED-TTL:PT1H
BEGIN:VTIMEZONE
TZID:Australia/Brisbane
BEGIN:STANDARD
TZOFFSETFROM:+1000
TZOFFSETTO:+1000
TZNAME:AEST
DTSTART:20200101T000000
END:STANDARD
END:VTIMEZONE
BEGIN:VEVENT
DTSTART;TZID=Australia/Brisbane:20210916T181500
DTEND;TZID=Australia/Brisbane:20210916T184500
DTSTAMP:20260424T154744
CREATED:20210906T042005Z
LAST-MODIFIED:20210906T042005Z
UID:24841-1631816100-1631817900@nicolejohnston.com.au
SUMMARY:Brisbane Festival Street Serenade | ELEEA
DESCRIPTION:
URL:https://nicolejohnston.com.au/event/brisbane-festival-street-serenade-eleea/
LOCATION:Eric Cres Park\, Annerley\, 40 Eric Cres\, Annerley\, QLD\, 4103\, Australia
CATEGORIES:Community Event
ORGANIZER;CN="Brisbane Festival":MAILTO:brisbane@brisbanefestival.com.au
END:VEVENT
END:VCALENDAR