BEGIN:VCALENDAR
VERSION:2.0
PRODID:-//Nicole Johnston - ECPv6.15.20//NONSGML v1.0//EN
CALSCALE:GREGORIAN
METHOD:PUBLISH
X-ORIGINAL-URL:https://nicolejohnston.com.au
X-WR-CALDESC:Events for Nicole Johnston
REFRESH-INTERVAL;VALUE=DURATION:PT1H
X-Robots-Tag:noindex
X-PUBLISHED-TTL:PT1H
BEGIN:VTIMEZONE
TZID:Australia/Brisbane
BEGIN:STANDARD
TZOFFSETFROM:+1000
TZOFFSETTO:+1000
TZNAME:AEST
DTSTART:20140101T000000
END:STANDARD
END:VTIMEZONE
BEGIN:VEVENT
DTSTART;TZID=Australia/Brisbane:20250826T090000
DTEND;TZID=Australia/Brisbane:20250826T170000
DTSTAMP:20260424T141425
CREATED:20250822T040148Z
LAST-MODIFIED:20250822T042612Z
UID:30506-1756198800-1756227600@nicolejohnston.com.au
SUMMARY:Fairfield | Learn about your new green waste recycling bin
DESCRIPTION:Get ready to use your new green waste recycling bin! \nJoin the team to learn all about the green waste recycling bin and how it will help make our city more sustainable. \nBring your questions\, get helpful tips\, enter our competition to win a garden transformation prize and have fun discovering how taking garden waste out of the red bin can make a big difference. \nVenue: Fairfield Gardens\, 180 Fairfield Road\, Fairfield.
URL:https://nicolejohnston.com.au/event/learn-about-your-new-green-waste-recycling-bin-fairfield/
LOCATION:Fairfield Gardens Shopping Centre\, 180 Fairfield Rd\, Fairfield\, Qld\, 4103\, Australia
GEO:-27.508752;153.025501
X-APPLE-STRUCTURED-LOCATION;VALUE=URI;X-ADDRESS=Fairfield Gardens Shopping Centre 180 Fairfield Rd Fairfield Qld 4103 Australia;X-APPLE-RADIUS=500;X-TITLE=180 Fairfield Rd:geo:153.025501,-27.508752
END:VEVENT
BEGIN:VEVENT
DTSTART;TZID=Australia/Brisbane:20151112T160000
DTEND;TZID=Australia/Brisbane:20151112T180000
DTSTAMP:20260424T141425
CREATED:20151102T201440Z
LAST-MODIFIED:20151102T201440Z
UID:4728-1447344000-1447351200@nicolejohnston.com.au
SUMMARY:Information Kiosk - Dutton Park Fairfield Neighbourhood Plan
DESCRIPTION:Council is holding an information kiosk where you can speak one-on-one with a Council officer about the draft Dutton Park – Fairfield Neighbourhood Plan. \nTennyson Ward Office will also be open until 6pm to discuss your views on the Neighbourhood Plan also.
URL:https://nicolejohnston.com.au/event/information-kiosk-dutton-park-fairfield-neighbourhood-plan-2/
LOCATION:Fairfield Gardens Shopping Centre\, 180 Fairfield Rd\, Fairfield\, Qld\, 4103\, Australia
GEO:-27.508752;153.025501
X-APPLE-STRUCTURED-LOCATION;VALUE=URI;X-ADDRESS=Fairfield Gardens Shopping Centre 180 Fairfield Rd Fairfield Qld 4103 Australia;X-APPLE-RADIUS=500;X-TITLE=180 Fairfield Rd:geo:153.025501,-27.508752
END:VEVENT
END:VCALENDAR