BEGIN:VCALENDAR
VERSION:2.0
PRODID:-//Nicole Johnston - ECPv6.15.20//NONSGML v1.0//EN
CALSCALE:GREGORIAN
METHOD:PUBLISH
X-WR-CALNAME:Nicole Johnston
X-ORIGINAL-URL:https://nicolejohnston.com.au
X-WR-CALDESC:Events for Nicole Johnston
REFRESH-INTERVAL;VALUE=DURATION:PT1H
X-Robots-Tag:noindex
X-PUBLISHED-TTL:PT1H
BEGIN:VTIMEZONE
TZID:Australia/Brisbane
BEGIN:STANDARD
TZOFFSETFROM:+1000
TZOFFSETTO:+1000
TZNAME:AEST
DTSTART:20140101T000000
END:STANDARD
END:VTIMEZONE
BEGIN:VEVENT
DTSTART;TZID=Australia/Brisbane:20191207T090000
DTEND;TZID=Australia/Brisbane:20191207T170000
DTSTAMP:20260424T141932
CREATED:20191127T042952Z
LAST-MODIFIED:20191127T042952Z
UID:19964-1575709200-1575738000@nicolejohnston.com.au
SUMMARY:Fairfield | Link Vision Pop-Up Fair
DESCRIPTION:
URL:https://nicolejohnston.com.au/event/fairfield-link-vision-pop-up-fair/
LOCATION:Fairfield Park\, 94 Fairfield Road\, Fairfield\, Qld\, 4103\, Australia
GEO:-27.504116;153.026907
X-APPLE-STRUCTURED-LOCATION;VALUE=URI;X-ADDRESS=Fairfield Park 94 Fairfield Road Fairfield Qld 4103 Australia;X-APPLE-RADIUS=500;X-TITLE=94 Fairfield Road:geo:153.026907,-27.504116
END:VEVENT
BEGIN:VEVENT
DTSTART;TZID=Australia/Brisbane:20161029T070000
DTEND;TZID=Australia/Brisbane:20161029T080000
DTSTAMP:20260424T141932
CREATED:20161026T034205Z
LAST-MODIFIED:20161026T034225Z
UID:10504-1477724400-1477728000@nicolejohnston.com.au
SUMMARY:Fairfield | 8 Week Weight Loss Challenge
DESCRIPTION:Lose weight and tone-up in 8 weeks for a new and healthier you.
URL:https://nicolejohnston.com.au/event/fairfield-8-week-weight-loss-challenge/2016-10-29/
LOCATION:Fairfield Park\, 94 Fairfield Road\, Fairfield\, Qld\, 4103\, Australia
GEO:-27.504116;153.026907
X-APPLE-STRUCTURED-LOCATION;VALUE=URI;X-ADDRESS=Fairfield Park 94 Fairfield Road Fairfield Qld 4103 Australia;X-APPLE-RADIUS=500;X-TITLE=94 Fairfield Road:geo:153.026907,-27.504116
END:VEVENT
BEGIN:VEVENT
DTSTART;TZID=Australia/Brisbane:20160203T171500
DTEND;TZID=Australia/Brisbane:20160203T180000
DTSTAMP:20260424T141932
CREATED:20160127T110921Z
LAST-MODIFIED:20160127T110921Z
UID:6247-1454519700-1454522400@nicolejohnston.com.au
SUMMARY:Stretchband Pilates
DESCRIPTION:Adding a new element to Pilates\, the Stretchband workout will provide you with more fitness skills to improve your health at home.  Designed for beginner to intermediate and suitable for adults of all ages. \nBookings not required.  Please wear exercise clothes and shoes and bring along a mat or towel\, sun protection and water.
URL:https://nicolejohnston.com.au/event/stretchband-pilates/2016-02-03/
LOCATION:Fairfield Park\, 94 Fairfield Road\, Fairfield\, Qld\, 4103\, Australia
GEO:-27.504116;153.026907
X-APPLE-STRUCTURED-LOCATION;VALUE=URI;X-ADDRESS=Fairfield Park 94 Fairfield Road Fairfield Qld 4103 Australia;X-APPLE-RADIUS=500;X-TITLE=94 Fairfield Road:geo:153.026907,-27.504116
END:VEVENT
BEGIN:VEVENT
DTSTART;TZID=Australia/Brisbane:20151010T070000
DTEND;TZID=Australia/Brisbane:20151010T080000
DTSTAMP:20260424T141932
CREATED:20150915T095003Z
LAST-MODIFIED:20150915T095003Z
UID:4259-1444460400-1444464000@nicolejohnston.com.au
SUMMARY:8 Week Weight Loss Challenge - Fairfield
DESCRIPTION:Make a start to a healthier and slimmer you by mixing with like minded people.  Good nutrition and exercise tips to help you shed those unwanted kilos. \n 
URL:https://nicolejohnston.com.au/event/8-week-weight-loss-challenge-fairfield/2015-10-10/
LOCATION:Fairfield Park\, 94 Fairfield Road\, Fairfield\, Qld\, 4103\, Australia
GEO:-27.504116;153.026907
X-APPLE-STRUCTURED-LOCATION;VALUE=URI;X-ADDRESS=Fairfield Park 94 Fairfield Road Fairfield Qld 4103 Australia;X-APPLE-RADIUS=500;X-TITLE=94 Fairfield Road:geo:153.026907,-27.504116
END:VEVENT
END:VCALENDAR