BEGIN:VCALENDAR
VERSION:2.0
PRODID:-//Nicole Johnston - ECPv6.15.20//NONSGML v1.0//EN
CALSCALE:GREGORIAN
METHOD:PUBLISH
X-WR-CALNAME:Nicole Johnston
X-ORIGINAL-URL:https://nicolejohnston.com.au
X-WR-CALDESC:Events for Nicole Johnston
REFRESH-INTERVAL;VALUE=DURATION:PT1H
X-Robots-Tag:noindex
X-PUBLISHED-TTL:PT1H
BEGIN:VTIMEZONE
TZID:Australia/Brisbane
BEGIN:STANDARD
TZOFFSETFROM:+1000
TZOFFSETTO:+1000
TZNAME:AEST
DTSTART:20150101T000000
END:STANDARD
END:VTIMEZONE
BEGIN:VEVENT
DTSTART;TZID=Australia/Brisbane:20231004T161500
DTEND;TZID=Australia/Brisbane:20231004T170000
DTSTAMP:20260424T192833
CREATED:20230807T022854Z
LAST-MODIFIED:20230807T022855Z
UID:26755-1696436100-1696438800@nicolejohnston.com.au
SUMMARY:Quest Football Academy Girls Fun Football (9-11 year olds)
DESCRIPTION:Bookings essential. Come and learn the basics of soccer in a welcoming\, safe and enjoyable environment. Whether you have never played before or have limited experience\, our program is designed to give you the skills and confidence to enjoy the beautiful game. \nBookings essential. To book visit Quest Football Academy. For more information email us at info@questfa.com.au \nMeet to the left of the carpark and below the play ground. There is a car park off Hyde Road that is next to the kindergarten for the best parking.
URL:https://nicolejohnston.com.au/event/quest-football-academy-girls-fun-football-9-11-year-olds/2023-10-04/
LOCATION:Fehlberg Park\, 230 Brisbane Corso\, Yeronga\, Qld\, 4104\, Australia
GEO:-27.5059029;153.0167108
X-APPLE-STRUCTURED-LOCATION;VALUE=URI;X-ADDRESS=Fehlberg Park 230 Brisbane Corso Yeronga Qld 4104 Australia;X-APPLE-RADIUS=500;X-TITLE=230 Brisbane Corso:geo:153.0167108,-27.5059029
END:VEVENT
BEGIN:VEVENT
DTSTART;TZID=Australia/Brisbane:20231004T153000
DTEND;TZID=Australia/Brisbane:20231004T161500
DTSTAMP:20260424T192833
CREATED:20230807T022554Z
LAST-MODIFIED:20230807T022555Z
UID:26750-1696433400-1696436100@nicolejohnston.com.au
SUMMARY:Fairfield | Quest Football Academy Girls Fun Football (6-8 year olds)
DESCRIPTION:Come and learn the basics of soccer in a welcoming\, safe and enjoyable environment. Whether you have never played before or have limited experience\, our program is designed to give you the skills and confidence to enjoy the beautiful game. \nBookings essential. To book visit Quest Football Academy. For more information email us at info@questfa.com.au \n\n\nMeet to the left of the carpark and below the play ground. There is a car park off Hyde Road that is next to the kindergarten for the best parking.
URL:https://nicolejohnston.com.au/event/fairfield-quest-football-academy-girls-fun-football-6-8-year-olds/2023-10-04/
LOCATION:Fehlberg Park\, 230 Brisbane Corso\, Yeronga\, Qld\, 4104\, Australia
GEO:-27.5059029;153.0167108
X-APPLE-STRUCTURED-LOCATION;VALUE=URI;X-ADDRESS=Fehlberg Park 230 Brisbane Corso Yeronga Qld 4104 Australia;X-APPLE-RADIUS=500;X-TITLE=230 Brisbane Corso:geo:153.0167108,-27.5059029
END:VEVENT
BEGIN:VEVENT
DTSTART;TZID=Australia/Brisbane:20220128T063000
DTEND;TZID=Australia/Brisbane:20220128T073000
DTSTAMP:20260424T192833
CREATED:20211214T041913Z
LAST-MODIFIED:20220503T051330Z
UID:25236-1643351400-1643355000@nicolejohnston.com.au
SUMMARY:Fairfield | Yoga
DESCRIPTION:Yoga for fitness\, flexibility\, balance and posture. Static stretching and dynamic movements that work on stability\, coordination and strength. Bring yoga mat\, towel\, 2 yoga blocks and a yoga strap if you have them. \nMeet at the end of Venner Road. \nNo bookings required. For more information phone Deanna on 0401 247 328.
URL:https://nicolejohnston.com.au/event/fairfield-yoga/2022-01-28/
LOCATION:Fehlberg Park\, 230 Brisbane Corso\, Yeronga\, Qld\, 4104\, Australia
GEO:-27.5059029;153.0167108
X-APPLE-STRUCTURED-LOCATION;VALUE=URI;X-ADDRESS=Fehlberg Park 230 Brisbane Corso Yeronga Qld 4104 Australia;X-APPLE-RADIUS=500;X-TITLE=230 Brisbane Corso:geo:153.0167108,-27.5059029
END:VEVENT
BEGIN:VEVENT
DTSTART;TZID=Australia/Brisbane:20200713T170000
DTEND;TZID=Australia/Brisbane:20200713T180000
DTSTAMP:20260424T192833
CREATED:20200629T022352Z
LAST-MODIFIED:20200629T022352Z
UID:21964-1594659600-1594663200@nicolejohnston.com.au
SUMMARY:Yeronga | Interval Training
DESCRIPTION:Low and high impact interval training for all fitness levels. \nBookings essential. To book phone Nadia on 0487 070 174. \nBring a yoga mat.
URL:https://nicolejohnston.com.au/event/yeronga-interval-training/2020-07-13/
LOCATION:Fehlberg Park\, 230 Brisbane Corso\, Yeronga\, Qld\, 4104\, Australia
GEO:-27.5059029;153.0167108
X-APPLE-STRUCTURED-LOCATION;VALUE=URI;X-ADDRESS=Fehlberg Park 230 Brisbane Corso Yeronga Qld 4104 Australia;X-APPLE-RADIUS=500;X-TITLE=230 Brisbane Corso:geo:153.0167108,-27.5059029
END:VEVENT
BEGIN:VEVENT
DTSTART;TZID=Australia/Brisbane:20160919T100000
DTEND;TZID=Australia/Brisbane:20160919T110000
DTSTAMP:20260424T192833
CREATED:20160913T045631Z
LAST-MODIFIED:20160913T045719Z
UID:10078-1474279200-1474282800@nicolejohnston.com.au
SUMMARY:School Holidays | Circuit training
DESCRIPTION:Bring a friend along and enjoy a mix of high and low impact training.
URL:https://nicolejohnston.com.au/event/yeronga-circuit-training/
LOCATION:Fehlberg Park\, 230 Brisbane Corso\, Yeronga\, Qld\, 4104\, Australia
GEO:-27.5059029;153.0167108
X-APPLE-STRUCTURED-LOCATION;VALUE=URI;X-ADDRESS=Fehlberg Park 230 Brisbane Corso Yeronga Qld 4104 Australia;X-APPLE-RADIUS=500;X-TITLE=230 Brisbane Corso:geo:153.0167108,-27.5059029
END:VEVENT
BEGIN:VEVENT
DTSTART;TZID=Australia/Brisbane:20160115T090000
DTEND;TZID=Australia/Brisbane:20160115T100000
DTSTAMP:20260424T192833
CREATED:20151228T142257Z
LAST-MODIFIED:20151228T142257Z
UID:6081-1452848400-1452852000@nicolejohnston.com.au
SUMMARY:Circuit Training
DESCRIPTION:*Bookings required.  Contact Nadia on 0487 070 174. \nExercise clothes\, sun protection and water bottle are also required. \nSuitable for participants aged 10 – 17 years. \nBring some friends along and enjoy some high fun and low intensity strength and endurance training where you can experience a range of exercises that focus on improving tone and definition.
URL:https://nicolejohnston.com.au/event/circuit-training-3/
LOCATION:Fehlberg Park\, 230 Brisbane Corso\, Yeronga\, Qld\, 4104\, Australia
GEO:-27.5059029;153.0167108
X-APPLE-STRUCTURED-LOCATION;VALUE=URI;X-ADDRESS=Fehlberg Park 230 Brisbane Corso Yeronga Qld 4104 Australia;X-APPLE-RADIUS=500;X-TITLE=230 Brisbane Corso:geo:153.0167108,-27.5059029
END:VEVENT
BEGIN:VEVENT
DTSTART;TZID=Australia/Brisbane:20160113T090000
DTEND;TZID=Australia/Brisbane:20160113T100000
DTSTAMP:20260424T192833
CREATED:20151228T142143Z
LAST-MODIFIED:20151228T142143Z
UID:6080-1452675600-1452679200@nicolejohnston.com.au
SUMMARY:Circuit Training
DESCRIPTION:*Bookings required.  Contact Nadia on 0487 070 174. \nExercise clothes\, sun protection and water bottle are also required. \nSuitable for participants aged 10 – 17 years. \nBring some friends along and enjoy some high fun and low intensity strength and endurance training where you can experience a range of exercises that focus on improving tone and definition.
URL:https://nicolejohnston.com.au/event/circuit-training-2/
LOCATION:Fehlberg Park\, 230 Brisbane Corso\, Yeronga\, Qld\, 4104\, Australia
GEO:-27.5059029;153.0167108
X-APPLE-STRUCTURED-LOCATION;VALUE=URI;X-ADDRESS=Fehlberg Park 230 Brisbane Corso Yeronga Qld 4104 Australia;X-APPLE-RADIUS=500;X-TITLE=230 Brisbane Corso:geo:153.0167108,-27.5059029
END:VEVENT
BEGIN:VEVENT
DTSTART;TZID=Australia/Brisbane:20160111T090000
DTEND;TZID=Australia/Brisbane:20160111T100000
DTSTAMP:20260424T192833
CREATED:20151228T142021Z
LAST-MODIFIED:20151228T142021Z
UID:6077-1452502800-1452506400@nicolejohnston.com.au
SUMMARY:Circuit Training
DESCRIPTION:*Bookings required.  Contact Nadia on 0487 070 174. \nExercise clothes\, sun protection and water bottle are also required. \nSuitable for participants aged 10 – 17 years. \nBring some friends along and enjoy some high fun and low intensity strength and endurance training where you can experience a range of exercises that focus on improving tone and definition.
URL:https://nicolejohnston.com.au/event/circuit-training/
LOCATION:Fehlberg Park\, 230 Brisbane Corso\, Yeronga\, Qld\, 4104\, Australia
GEO:-27.5059029;153.0167108
X-APPLE-STRUCTURED-LOCATION;VALUE=URI;X-ADDRESS=Fehlberg Park 230 Brisbane Corso Yeronga Qld 4104 Australia;X-APPLE-RADIUS=500;X-TITLE=230 Brisbane Corso:geo:153.0167108,-27.5059029
END:VEVENT
END:VCALENDAR