BEGIN:VCALENDAR
VERSION:2.0
PRODID:-//Nicole Johnston - ECPv6.15.20//NONSGML v1.0//EN
CALSCALE:GREGORIAN
METHOD:PUBLISH
X-WR-CALNAME:Nicole Johnston
X-ORIGINAL-URL:https://nicolejohnston.com.au
X-WR-CALDESC:Events for Nicole Johnston
REFRESH-INTERVAL;VALUE=DURATION:PT1H
X-Robots-Tag:noindex
X-PUBLISHED-TTL:PT1H
BEGIN:VTIMEZONE
TZID:Australia/Brisbane
BEGIN:STANDARD
TZOFFSETFROM:+1000
TZOFFSETTO:+1000
TZNAME:AEST
DTSTART:20250101T000000
END:STANDARD
END:VTIMEZONE
BEGIN:VEVENT
DTSTART;TZID=Australia/Brisbane:20260501T150000
DTEND;TZID=Australia/Brisbane:20260501T160000
DTSTAMP:20260424T081031
CREATED:20260302T051606Z
LAST-MODIFIED:20260302T051606Z
UID:32204-1777647600-1777651200@nicolejohnston.com.au
SUMMARY:Graceville | GOLD Beginners Lawn Bowls
DESCRIPTION:Try lawn bowls\, a sport that helps to build leg and core strength\, stability and coordination in a friendly social environment. This is a GOLD event suitable for seniors. \nBookings essential. To book phone or text David on 0407 894 727 or email dschonfe@bigpond.net.au
URL:https://nicolejohnston.com.au/event/graceville-gold-beginners-lawn-bowls/
LOCATION:Graceville Bowls Club\, 16 Wylie St\, Graceville\, Qld\, 4075\, Australia
ORGANIZER;CN="Graceville Bowls Club":MAILTO:dschonfe@bigpond.net.au
END:VEVENT
BEGIN:VEVENT
DTSTART;TZID=Australia/Brisbane:20260508T150000
DTEND;TZID=Australia/Brisbane:20260508T163000
DTSTAMP:20260424T081031
CREATED:20260302T053755Z
LAST-MODIFIED:20260302T053755Z
UID:32224-1778252400-1778257800@nicolejohnston.com.au
SUMMARY:Graceville | GOLD Beginners Lawn Bowls
DESCRIPTION:Try lawn bowls\, a sport that helps to build leg and core strength\, stability and coordination in a friendly social environment. This is a GOLD event suitable for seniors. \nBookings essential. To book phone or text David on 0407 894 727 or email dschonfe@bigpond.net.au
URL:https://nicolejohnston.com.au/event/graceville-gold-beginners-lawn-bowls-2/
LOCATION:Graceville Bowls Club\, 16 Wylie St\, Graceville\, Qld\, 4075\, Australia
END:VEVENT
BEGIN:VEVENT
DTSTART;TZID=Australia/Brisbane:20260515T150000
DTEND;TZID=Australia/Brisbane:20260515T163000
DTSTAMP:20260424T081031
CREATED:20260319T004817Z
LAST-MODIFIED:20260319T004817Z
UID:32447-1778857200-1778862600@nicolejohnston.com.au
SUMMARY:Graceville | GOLD Beginners Lawn Bowls
DESCRIPTION:Try lawn bowls\, a sport that helps to build leg and core strength\, stability and coordination in a friendly social environment. This is a GOLD event suitable for seniors. \nBookings essential. To book phone or text David on 0407 894 727 or email dschonfe@bigpond.net.au
URL:https://nicolejohnston.com.au/event/graceville-gold-beginners-lawn-bowls-3/
LOCATION:Graceville Bowls Club\, 16 Wylie St\, Graceville\, Qld\, 4075\, Australia
ORGANIZER;CN="Graceville Bowls Club":MAILTO:dschonfe@bigpond.net.au
END:VEVENT
BEGIN:VEVENT
DTSTART;TZID=Australia/Brisbane:20260522T150000
DTEND;TZID=Australia/Brisbane:20260522T163000
DTSTAMP:20260424T081031
CREATED:20260319T013301Z
LAST-MODIFIED:20260319T013301Z
UID:32473-1779462000-1779467400@nicolejohnston.com.au
SUMMARY:Graceville | Beginners Lawn Bowls
DESCRIPTION:Try lawn bowls\, a sport that helps to build leg and core strength\, stability and coordination in a friendly social environment. This is a GOLD event suitable for seniors. \nBookings essential. To book phone or text David on 0407 894 727 or email dschonfe@bigpond.net.au
URL:https://nicolejohnston.com.au/event/graceville-beginners-lawn-bowls-5/
LOCATION:Graceville Bowls Club\, 16 Wylie St\, Graceville\, Qld\, 4075\, Australia
ORGANIZER;CN="Graceville Bowls Club":MAILTO:dschonfe@bigpond.net.au
END:VEVENT
BEGIN:VEVENT
DTSTART;TZID=Australia/Brisbane:20260529T150000
DTEND;TZID=Australia/Brisbane:20260529T160000
DTSTAMP:20260424T081031
CREATED:20260319T021632Z
LAST-MODIFIED:20260319T021632Z
UID:32499-1780066800-1780070400@nicolejohnston.com.au
SUMMARY:Graceville | Beginners Lawn Bowls
DESCRIPTION:Try lawn bowls\, a sport that helps to build leg and core strength\, stability and coordination in a friendly social environment. This is a GOLD event suitable for seniors. \nBookings essential. To book phone or text David on 0407 894 727 or email dschonfe@bigpond.net.au
URL:https://nicolejohnston.com.au/event/graceville-beginners-lawn-bowls-6/
LOCATION:Graceville Bowls Club\, 16 Wylie St\, Graceville\, Qld\, 4075\, Australia
END:VEVENT
BEGIN:VEVENT
DTSTART;TZID=Australia/Brisbane:20260605T150000
DTEND;TZID=Australia/Brisbane:20260605T163000
DTSTAMP:20260424T081031
CREATED:20260319T033438Z
LAST-MODIFIED:20260319T033438Z
UID:32521-1780671600-1780677000@nicolejohnston.com.au
SUMMARY:Graceville | Beginners Lawn Bowls
DESCRIPTION:Try lawn bowls\, a sport that helps to build leg and core strength\, stability and coordination in a friendly social environment. This is a GOLD event suitable for seniors. \nBookings essential. To book phone or text David on 0407 894 727 or email dschonfe@bigpond.net.au
URL:https://nicolejohnston.com.au/event/graceville-beginners-lawn-bowls-7/
LOCATION:Graceville Bowls Club\, 16 Wylie St\, Graceville\, Qld\, 4075\, Australia
ORGANIZER;CN="Graceville Bowls Club":MAILTO:dschonfe@bigpond.net.au
END:VEVENT
END:VCALENDAR