BEGIN:VCALENDAR
VERSION:2.0
PRODID:-//Nicole Johnston - ECPv6.15.20//NONSGML v1.0//EN
CALSCALE:GREGORIAN
METHOD:PUBLISH
X-ORIGINAL-URL:https://nicolejohnston.com.au
X-WR-CALDESC:Events for Nicole Johnston
REFRESH-INTERVAL;VALUE=DURATION:PT1H
X-Robots-Tag:noindex
X-PUBLISHED-TTL:PT1H
BEGIN:VTIMEZONE
TZID:Australia/Brisbane
BEGIN:STANDARD
TZOFFSETFROM:+1000
TZOFFSETTO:+1000
TZNAME:AEST
DTSTART:20150101T000000
END:STANDARD
END:VTIMEZONE
BEGIN:VEVENT
DTSTART;TZID=Australia/Brisbane:20161113T140000
DTEND;TZID=Australia/Brisbane:20161113T160000
DTSTAMP:20260424T063603
CREATED:20161028T035039Z
LAST-MODIFIED:20161028T035039Z
UID:10595-1479045600-1479052800@nicolejohnston.com.au
SUMMARY:Graceville | Decorative Clay Masks
DESCRIPTION:Go for a nature walk around the gardens to gain inspiration to create your very own mask from clay.  You might create a traditional style of mask featuring patterns observed in the natural environment or perhaps you might like to create an animal\, an alien\, a monster or even a self-portrait.  You are limited only by your imagination.
URL:https://nicolejohnston.com.au/event/graceville-decorative-clay-masks/
LOCATION:Graceville Memorial Park\, 173 Oxley Rd\, Graceville\, Qld\, 4075\, Australia
GEO:-27.5176118;152.9764956
X-APPLE-STRUCTURED-LOCATION;VALUE=URI;X-ADDRESS=Graceville Memorial Park 173 Oxley Rd Graceville Qld 4075 Australia;X-APPLE-RADIUS=500;X-TITLE=173 Oxley Rd:geo:152.9764956,-27.5176118
END:VEVENT
END:VCALENDAR