BEGIN:VCALENDAR
VERSION:2.0
PRODID:-//Nicole Johnston - ECPv6.15.20//NONSGML v1.0//EN
CALSCALE:GREGORIAN
METHOD:PUBLISH
X-ORIGINAL-URL:https://nicolejohnston.com.au
X-WR-CALDESC:Events for Nicole Johnston
REFRESH-INTERVAL;VALUE=DURATION:PT1H
X-Robots-Tag:noindex
X-PUBLISHED-TTL:PT1H
BEGIN:VTIMEZONE
TZID:Australia/Brisbane
BEGIN:STANDARD
TZOFFSETFROM:+1000
TZOFFSETTO:+1000
TZNAME:AEST
DTSTART:20140101T000000
END:STANDARD
END:VTIMEZONE
BEGIN:VEVENT
DTSTART;TZID=Australia/Brisbane:20161015T180000
DTEND;TZID=Australia/Brisbane:20161015T220000
DTSTAMP:20260424T205822
CREATED:20160922T225259Z
LAST-MODIFIED:20160922T225324Z
UID:10173-1476554400-1476568800@nicolejohnston.com.au
SUMMARY:Graceville | Bush Dance
DESCRIPTION:Come along to Graceville Presbyterian Church on Saturday\, October 15 at 6pm for a fun night filled with bush dancing\, live music\, jumping castle\, BBQ and more!
URL:https://nicolejohnston.com.au/event/graceville-bush-dance/
LOCATION:Graceville Presbyterian Church\, 12 Bank Road\, Graceville\, Queensland\, 4075\, Australia
GEO:-27.5217673;152.9756777
X-APPLE-STRUCTURED-LOCATION;VALUE=URI;X-ADDRESS=Graceville Presbyterian Church 12 Bank Road Graceville Queensland 4075 Australia;X-APPLE-RADIUS=500;X-TITLE=12 Bank Road:geo:152.9756777,-27.5217673
END:VEVENT
BEGIN:VEVENT
DTSTART;TZID=Australia/Brisbane:20150606T130000
DTEND;TZID=Australia/Brisbane:20150606T150000
DTSTAMP:20260424T205822
CREATED:20150601T022733Z
LAST-MODIFIED:20150601T022733Z
UID:3172-1433595600-1433602800@nicolejohnston.com.au
SUMMARY:Graceville SCIP Art Workshops
DESCRIPTION:As part of Council’s deliver of the Honour Avenue Graceville SCIP\, the project will include community artwork in the centre. \nArtist Deb Mostert will be running two workshops with community members and will allow Deb to gather stories and information from the Graceville community to help form the development of her artwork. \nWorkshop themes include: \n– still life\, objects and their significant \n– objects as containers for memory and storytelling \nParticipants are invited to bring along small objects which reflect personal or community significance to Graceville. \nParticipant numbers are limited.  Please email with your name\, contact details\, address and which workshop time you’d like to attend. \nAttendance will be confirmed prior to the workshop date.
URL:https://nicolejohnston.com.au/event/graceville-scip-art-workshops-2/
LOCATION:Graceville Presbyterian Church\, 12 Bank Road\, Graceville\, Queensland\, 4075\, Australia
GEO:-27.5217673;152.9756777
X-APPLE-STRUCTURED-LOCATION;VALUE=URI;X-ADDRESS=Graceville Presbyterian Church 12 Bank Road Graceville Queensland 4075 Australia;X-APPLE-RADIUS=500;X-TITLE=12 Bank Road:geo:152.9756777,-27.5217673
END:VEVENT
BEGIN:VEVENT
DTSTART;TZID=Australia/Brisbane:20150606T100000
DTEND;TZID=Australia/Brisbane:20150606T120000
DTSTAMP:20260424T205822
CREATED:20150601T022451Z
LAST-MODIFIED:20150601T022630Z
UID:3169-1433584800-1433592000@nicolejohnston.com.au
SUMMARY:Graceville SCIP Art Workshops
DESCRIPTION:As part of Council’s deliver of the Honour Avenue Graceville SCIP\, the project will include community artwork in the centre. \nArtist Deb Mostert will be running two workshops with community members and will allow Deb to gather stories and information from the Graceville community to help form the development of her artwork. \nWorkshop themes include: \n– still life\, objects and their significant \n– objects as containers for memory and storytelling \nParticipants are invited to bring along small objects which reflect personal or community significance to Graceville. \nParticipant numbers are limited.  Please email with your name\, contact details\, address and which workshop time you’d like to attend. \nAttendance will be confirmed prior to the workshop date. \n 
URL:https://nicolejohnston.com.au/event/graceville-scip-art-workshops/
LOCATION:Graceville Presbyterian Church\, 12 Bank Road\, Graceville\, Queensland\, 4075\, Australia
GEO:-27.5217673;152.9756777
X-APPLE-STRUCTURED-LOCATION;VALUE=URI;X-ADDRESS=Graceville Presbyterian Church 12 Bank Road Graceville Queensland 4075 Australia;X-APPLE-RADIUS=500;X-TITLE=12 Bank Road:geo:152.9756777,-27.5217673
END:VEVENT
END:VCALENDAR