BEGIN:VCALENDAR
VERSION:2.0
PRODID:-//Nicole Johnston - ECPv6.15.20//NONSGML v1.0//EN
CALSCALE:GREGORIAN
METHOD:PUBLISH
X-WR-CALNAME:Nicole Johnston
X-ORIGINAL-URL:https://nicolejohnston.com.au
X-WR-CALDESC:Events for Nicole Johnston
REFRESH-INTERVAL;VALUE=DURATION:PT1H
X-Robots-Tag:noindex
X-PUBLISHED-TTL:PT1H
BEGIN:VTIMEZONE
TZID:Australia/Brisbane
BEGIN:STANDARD
TZOFFSETFROM:+1000
TZOFFSETTO:+1000
TZNAME:AEST
DTSTART:20160101T000000
END:STANDARD
END:VTIMEZONE
BEGIN:VEVENT
DTSTART;TZID=Australia/Brisbane:20241224T190000
DTEND;TZID=Australia/Brisbane:20241224T210000
DTSTAMP:20260424T162130
CREATED:20241205T053945Z
LAST-MODIFIED:20241205T053945Z
UID:28650-1735066800-1735074000@nicolejohnston.com.au
SUMMARY:Graceville | Community Christmas Light Display
DESCRIPTION:
URL:https://nicolejohnston.com.au/event/graceville-community-christmas-light-display/2024-12-24/
LOCATION:Graceville Uniting Church\, 215 Oxley Rd\, Graceville\, Qld\, 4075\, Australia
CATEGORIES:Community Event
ATTACH;FMTTYPE=image/jpeg:https://nicolejohnston.com.au/wp-content/uploads/2024/12/Graceville-Uniting-Church-Christmas-Lights-Display.jpg
ORGANIZER;CN="Graceville Central Uniting Church":MAILTO:GracevilleCentralUC@gmail.com
GEO:-27.5206728;152.9790538
X-APPLE-STRUCTURED-LOCATION;VALUE=URI;X-ADDRESS=Graceville Uniting Church 215 Oxley Rd Graceville Qld 4075 Australia;X-APPLE-RADIUS=500;X-TITLE=215 Oxley Rd:geo:152.9790538,-27.5206728
END:VEVENT
BEGIN:VEVENT
DTSTART;TZID=Australia/Brisbane:20241223T190000
DTEND;TZID=Australia/Brisbane:20241223T210000
DTSTAMP:20260424T162130
CREATED:20241205T053945Z
LAST-MODIFIED:20241205T053945Z
UID:28649-1734980400-1734987600@nicolejohnston.com.au
SUMMARY:Graceville | Community Christmas Light Display
DESCRIPTION:
URL:https://nicolejohnston.com.au/event/graceville-community-christmas-light-display/2024-12-23/
LOCATION:Graceville Uniting Church\, 215 Oxley Rd\, Graceville\, Qld\, 4075\, Australia
CATEGORIES:Community Event
ATTACH;FMTTYPE=image/jpeg:https://nicolejohnston.com.au/wp-content/uploads/2024/12/Graceville-Uniting-Church-Christmas-Lights-Display.jpg
ORGANIZER;CN="Graceville Central Uniting Church":MAILTO:GracevilleCentralUC@gmail.com
GEO:-27.5206728;152.9790538
X-APPLE-STRUCTURED-LOCATION;VALUE=URI;X-ADDRESS=Graceville Uniting Church 215 Oxley Rd Graceville Qld 4075 Australia;X-APPLE-RADIUS=500;X-TITLE=215 Oxley Rd:geo:152.9790538,-27.5206728
END:VEVENT
BEGIN:VEVENT
DTSTART;TZID=Australia/Brisbane:20241222T190000
DTEND;TZID=Australia/Brisbane:20241222T210000
DTSTAMP:20260424T162130
CREATED:20241205T053945Z
LAST-MODIFIED:20241205T053945Z
UID:28648-1734894000-1734901200@nicolejohnston.com.au
SUMMARY:Graceville | Community Christmas Light Display
DESCRIPTION:
URL:https://nicolejohnston.com.au/event/graceville-community-christmas-light-display/2024-12-22/
LOCATION:Graceville Uniting Church\, 215 Oxley Rd\, Graceville\, Qld\, 4075\, Australia
CATEGORIES:Community Event
ATTACH;FMTTYPE=image/jpeg:https://nicolejohnston.com.au/wp-content/uploads/2024/12/Graceville-Uniting-Church-Christmas-Lights-Display.jpg
ORGANIZER;CN="Graceville Central Uniting Church":MAILTO:GracevilleCentralUC@gmail.com
GEO:-27.5206728;152.9790538
X-APPLE-STRUCTURED-LOCATION;VALUE=URI;X-ADDRESS=Graceville Uniting Church 215 Oxley Rd Graceville Qld 4075 Australia;X-APPLE-RADIUS=500;X-TITLE=215 Oxley Rd:geo:152.9790538,-27.5206728
END:VEVENT
BEGIN:VEVENT
DTSTART;TZID=Australia/Brisbane:20241221T190000
DTEND;TZID=Australia/Brisbane:20241221T210000
DTSTAMP:20260424T162130
CREATED:20241205T053945Z
LAST-MODIFIED:20241205T053945Z
UID:28647-1734807600-1734814800@nicolejohnston.com.au
SUMMARY:Graceville | Community Christmas Light Display
DESCRIPTION:
URL:https://nicolejohnston.com.au/event/graceville-community-christmas-light-display/2024-12-21/
LOCATION:Graceville Uniting Church\, 215 Oxley Rd\, Graceville\, Qld\, 4075\, Australia
CATEGORIES:Community Event
ATTACH;FMTTYPE=image/jpeg:https://nicolejohnston.com.au/wp-content/uploads/2024/12/Graceville-Uniting-Church-Christmas-Lights-Display.jpg
ORGANIZER;CN="Graceville Central Uniting Church":MAILTO:GracevilleCentralUC@gmail.com
GEO:-27.5206728;152.9790538
X-APPLE-STRUCTURED-LOCATION;VALUE=URI;X-ADDRESS=Graceville Uniting Church 215 Oxley Rd Graceville Qld 4075 Australia;X-APPLE-RADIUS=500;X-TITLE=215 Oxley Rd:geo:152.9790538,-27.5206728
END:VEVENT
BEGIN:VEVENT
DTSTART;TZID=Australia/Brisbane:20241220T190000
DTEND;TZID=Australia/Brisbane:20241220T210000
DTSTAMP:20260424T162130
CREATED:20241205T053945Z
LAST-MODIFIED:20241205T053945Z
UID:28646-1734721200-1734728400@nicolejohnston.com.au
SUMMARY:Graceville | Community Christmas Light Display
DESCRIPTION:
URL:https://nicolejohnston.com.au/event/graceville-community-christmas-light-display/2024-12-20/
LOCATION:Graceville Uniting Church\, 215 Oxley Rd\, Graceville\, Qld\, 4075\, Australia
CATEGORIES:Community Event
ATTACH;FMTTYPE=image/jpeg:https://nicolejohnston.com.au/wp-content/uploads/2024/12/Graceville-Uniting-Church-Christmas-Lights-Display.jpg
ORGANIZER;CN="Graceville Central Uniting Church":MAILTO:GracevilleCentralUC@gmail.com
GEO:-27.5206728;152.9790538
X-APPLE-STRUCTURED-LOCATION;VALUE=URI;X-ADDRESS=Graceville Uniting Church 215 Oxley Rd Graceville Qld 4075 Australia;X-APPLE-RADIUS=500;X-TITLE=215 Oxley Rd:geo:152.9790538,-27.5206728
END:VEVENT
BEGIN:VEVENT
DTSTART;TZID=Australia/Brisbane:20241219T190000
DTEND;TZID=Australia/Brisbane:20241219T210000
DTSTAMP:20260424T162130
CREATED:20241205T053945Z
LAST-MODIFIED:20241205T053945Z
UID:28645-1734634800-1734642000@nicolejohnston.com.au
SUMMARY:Graceville | Community Christmas Light Display
DESCRIPTION:
URL:https://nicolejohnston.com.au/event/graceville-community-christmas-light-display/2024-12-19/
LOCATION:Graceville Uniting Church\, 215 Oxley Rd\, Graceville\, Qld\, 4075\, Australia
CATEGORIES:Community Event
ATTACH;FMTTYPE=image/jpeg:https://nicolejohnston.com.au/wp-content/uploads/2024/12/Graceville-Uniting-Church-Christmas-Lights-Display.jpg
ORGANIZER;CN="Graceville Central Uniting Church":MAILTO:GracevilleCentralUC@gmail.com
GEO:-27.5206728;152.9790538
X-APPLE-STRUCTURED-LOCATION;VALUE=URI;X-ADDRESS=Graceville Uniting Church 215 Oxley Rd Graceville Qld 4075 Australia;X-APPLE-RADIUS=500;X-TITLE=215 Oxley Rd:geo:152.9790538,-27.5206728
END:VEVENT
BEGIN:VEVENT
DTSTART;TZID=Australia/Brisbane:20241218T190000
DTEND;TZID=Australia/Brisbane:20241218T210000
DTSTAMP:20260424T162130
CREATED:20241205T053945Z
LAST-MODIFIED:20241205T053945Z
UID:28644-1734548400-1734555600@nicolejohnston.com.au
SUMMARY:Graceville | Community Christmas Light Display
DESCRIPTION:
URL:https://nicolejohnston.com.au/event/graceville-community-christmas-light-display/2024-12-18/
LOCATION:Graceville Uniting Church\, 215 Oxley Rd\, Graceville\, Qld\, 4075\, Australia
CATEGORIES:Community Event
ATTACH;FMTTYPE=image/jpeg:https://nicolejohnston.com.au/wp-content/uploads/2024/12/Graceville-Uniting-Church-Christmas-Lights-Display.jpg
ORGANIZER;CN="Graceville Central Uniting Church":MAILTO:GracevilleCentralUC@gmail.com
GEO:-27.5206728;152.9790538
X-APPLE-STRUCTURED-LOCATION;VALUE=URI;X-ADDRESS=Graceville Uniting Church 215 Oxley Rd Graceville Qld 4075 Australia;X-APPLE-RADIUS=500;X-TITLE=215 Oxley Rd:geo:152.9790538,-27.5206728
END:VEVENT
BEGIN:VEVENT
DTSTART;TZID=Australia/Brisbane:20241217T190000
DTEND;TZID=Australia/Brisbane:20241217T210000
DTSTAMP:20260424T162130
CREATED:20241205T053945Z
LAST-MODIFIED:20241205T053945Z
UID:28643-1734462000-1734469200@nicolejohnston.com.au
SUMMARY:Graceville | Community Christmas Light Display
DESCRIPTION:
URL:https://nicolejohnston.com.au/event/graceville-community-christmas-light-display/2024-12-17/
LOCATION:Graceville Uniting Church\, 215 Oxley Rd\, Graceville\, Qld\, 4075\, Australia
CATEGORIES:Community Event
ATTACH;FMTTYPE=image/jpeg:https://nicolejohnston.com.au/wp-content/uploads/2024/12/Graceville-Uniting-Church-Christmas-Lights-Display.jpg
ORGANIZER;CN="Graceville Central Uniting Church":MAILTO:GracevilleCentralUC@gmail.com
GEO:-27.5206728;152.9790538
X-APPLE-STRUCTURED-LOCATION;VALUE=URI;X-ADDRESS=Graceville Uniting Church 215 Oxley Rd Graceville Qld 4075 Australia;X-APPLE-RADIUS=500;X-TITLE=215 Oxley Rd:geo:152.9790538,-27.5206728
END:VEVENT
BEGIN:VEVENT
DTSTART;TZID=Australia/Brisbane:20241216T190000
DTEND;TZID=Australia/Brisbane:20241216T210000
DTSTAMP:20260424T162130
CREATED:20241205T053945Z
LAST-MODIFIED:20241205T053945Z
UID:28642-1734375600-1734382800@nicolejohnston.com.au
SUMMARY:Graceville | Community Christmas Light Display
DESCRIPTION:
URL:https://nicolejohnston.com.au/event/graceville-community-christmas-light-display/2024-12-16/
LOCATION:Graceville Uniting Church\, 215 Oxley Rd\, Graceville\, Qld\, 4075\, Australia
CATEGORIES:Community Event
ATTACH;FMTTYPE=image/jpeg:https://nicolejohnston.com.au/wp-content/uploads/2024/12/Graceville-Uniting-Church-Christmas-Lights-Display.jpg
ORGANIZER;CN="Graceville Central Uniting Church":MAILTO:GracevilleCentralUC@gmail.com
GEO:-27.5206728;152.9790538
X-APPLE-STRUCTURED-LOCATION;VALUE=URI;X-ADDRESS=Graceville Uniting Church 215 Oxley Rd Graceville Qld 4075 Australia;X-APPLE-RADIUS=500;X-TITLE=215 Oxley Rd:geo:152.9790538,-27.5206728
END:VEVENT
BEGIN:VEVENT
DTSTART;TZID=Australia/Brisbane:20241215T190000
DTEND;TZID=Australia/Brisbane:20241215T210000
DTSTAMP:20260424T162130
CREATED:20241205T053945Z
LAST-MODIFIED:20241205T053945Z
UID:28641-1734289200-1734296400@nicolejohnston.com.au
SUMMARY:Graceville | Community Christmas Light Display
DESCRIPTION:
URL:https://nicolejohnston.com.au/event/graceville-community-christmas-light-display/2024-12-15/
LOCATION:Graceville Uniting Church\, 215 Oxley Rd\, Graceville\, Qld\, 4075\, Australia
CATEGORIES:Community Event
ATTACH;FMTTYPE=image/jpeg:https://nicolejohnston.com.au/wp-content/uploads/2024/12/Graceville-Uniting-Church-Christmas-Lights-Display.jpg
ORGANIZER;CN="Graceville Central Uniting Church":MAILTO:GracevilleCentralUC@gmail.com
GEO:-27.5206728;152.9790538
X-APPLE-STRUCTURED-LOCATION;VALUE=URI;X-ADDRESS=Graceville Uniting Church 215 Oxley Rd Graceville Qld 4075 Australia;X-APPLE-RADIUS=500;X-TITLE=215 Oxley Rd:geo:152.9790538,-27.5206728
END:VEVENT
BEGIN:VEVENT
DTSTART;TZID=Australia/Brisbane:20241214T190000
DTEND;TZID=Australia/Brisbane:20241214T210000
DTSTAMP:20260424T162130
CREATED:20241205T053945Z
LAST-MODIFIED:20241205T053945Z
UID:28640-1734202800-1734210000@nicolejohnston.com.au
SUMMARY:Graceville | Community Christmas Light Display
DESCRIPTION:
URL:https://nicolejohnston.com.au/event/graceville-community-christmas-light-display/2024-12-14/
LOCATION:Graceville Uniting Church\, 215 Oxley Rd\, Graceville\, Qld\, 4075\, Australia
CATEGORIES:Community Event
ATTACH;FMTTYPE=image/jpeg:https://nicolejohnston.com.au/wp-content/uploads/2024/12/Graceville-Uniting-Church-Christmas-Lights-Display.jpg
ORGANIZER;CN="Graceville Central Uniting Church":MAILTO:GracevilleCentralUC@gmail.com
GEO:-27.5206728;152.9790538
X-APPLE-STRUCTURED-LOCATION;VALUE=URI;X-ADDRESS=Graceville Uniting Church 215 Oxley Rd Graceville Qld 4075 Australia;X-APPLE-RADIUS=500;X-TITLE=215 Oxley Rd:geo:152.9790538,-27.5206728
END:VEVENT
BEGIN:VEVENT
DTSTART;TZID=Australia/Brisbane:20241213T190000
DTEND;TZID=Australia/Brisbane:20241213T210000
DTSTAMP:20260424T162130
CREATED:20241205T053945Z
LAST-MODIFIED:20241205T053945Z
UID:28639-1734116400-1734123600@nicolejohnston.com.au
SUMMARY:Graceville | Community Christmas Light Display
DESCRIPTION:
URL:https://nicolejohnston.com.au/event/graceville-community-christmas-light-display/2024-12-13/
LOCATION:Graceville Uniting Church\, 215 Oxley Rd\, Graceville\, Qld\, 4075\, Australia
CATEGORIES:Community Event
ATTACH;FMTTYPE=image/jpeg:https://nicolejohnston.com.au/wp-content/uploads/2024/12/Graceville-Uniting-Church-Christmas-Lights-Display.jpg
ORGANIZER;CN="Graceville Central Uniting Church":MAILTO:GracevilleCentralUC@gmail.com
GEO:-27.5206728;152.9790538
X-APPLE-STRUCTURED-LOCATION;VALUE=URI;X-ADDRESS=Graceville Uniting Church 215 Oxley Rd Graceville Qld 4075 Australia;X-APPLE-RADIUS=500;X-TITLE=215 Oxley Rd:geo:152.9790538,-27.5206728
END:VEVENT
BEGIN:VEVENT
DTSTART;TZID=Australia/Brisbane:20241212T190000
DTEND;TZID=Australia/Brisbane:20241212T210000
DTSTAMP:20260424T162130
CREATED:20241205T053945Z
LAST-MODIFIED:20241205T053945Z
UID:28638-1734030000-1734037200@nicolejohnston.com.au
SUMMARY:Graceville | Community Christmas Light Display
DESCRIPTION:
URL:https://nicolejohnston.com.au/event/graceville-community-christmas-light-display/2024-12-12/
LOCATION:Graceville Uniting Church\, 215 Oxley Rd\, Graceville\, Qld\, 4075\, Australia
CATEGORIES:Community Event
ATTACH;FMTTYPE=image/jpeg:https://nicolejohnston.com.au/wp-content/uploads/2024/12/Graceville-Uniting-Church-Christmas-Lights-Display.jpg
ORGANIZER;CN="Graceville Central Uniting Church":MAILTO:GracevilleCentralUC@gmail.com
GEO:-27.5206728;152.9790538
X-APPLE-STRUCTURED-LOCATION;VALUE=URI;X-ADDRESS=Graceville Uniting Church 215 Oxley Rd Graceville Qld 4075 Australia;X-APPLE-RADIUS=500;X-TITLE=215 Oxley Rd:geo:152.9790538,-27.5206728
END:VEVENT
BEGIN:VEVENT
DTSTART;TZID=Australia/Brisbane:20241211T190000
DTEND;TZID=Australia/Brisbane:20241211T210000
DTSTAMP:20260424T162130
CREATED:20241205T053945Z
LAST-MODIFIED:20241205T053945Z
UID:28637-1733943600-1733950800@nicolejohnston.com.au
SUMMARY:Graceville | Community Christmas Light Display
DESCRIPTION:
URL:https://nicolejohnston.com.au/event/graceville-community-christmas-light-display/2024-12-11/
LOCATION:Graceville Uniting Church\, 215 Oxley Rd\, Graceville\, Qld\, 4075\, Australia
CATEGORIES:Community Event
ATTACH;FMTTYPE=image/jpeg:https://nicolejohnston.com.au/wp-content/uploads/2024/12/Graceville-Uniting-Church-Christmas-Lights-Display.jpg
ORGANIZER;CN="Graceville Central Uniting Church":MAILTO:GracevilleCentralUC@gmail.com
GEO:-27.5206728;152.9790538
X-APPLE-STRUCTURED-LOCATION;VALUE=URI;X-ADDRESS=Graceville Uniting Church 215 Oxley Rd Graceville Qld 4075 Australia;X-APPLE-RADIUS=500;X-TITLE=215 Oxley Rd:geo:152.9790538,-27.5206728
END:VEVENT
BEGIN:VEVENT
DTSTART;TZID=Australia/Brisbane:20241210T190000
DTEND;TZID=Australia/Brisbane:20241210T210000
DTSTAMP:20260424T162130
CREATED:20241205T053945Z
LAST-MODIFIED:20241205T053945Z
UID:28636-1733857200-1733864400@nicolejohnston.com.au
SUMMARY:Graceville | Community Christmas Light Display
DESCRIPTION:
URL:https://nicolejohnston.com.au/event/graceville-community-christmas-light-display/2024-12-10/
LOCATION:Graceville Uniting Church\, 215 Oxley Rd\, Graceville\, Qld\, 4075\, Australia
CATEGORIES:Community Event
ATTACH;FMTTYPE=image/jpeg:https://nicolejohnston.com.au/wp-content/uploads/2024/12/Graceville-Uniting-Church-Christmas-Lights-Display.jpg
ORGANIZER;CN="Graceville Central Uniting Church":MAILTO:GracevilleCentralUC@gmail.com
GEO:-27.5206728;152.9790538
X-APPLE-STRUCTURED-LOCATION;VALUE=URI;X-ADDRESS=Graceville Uniting Church 215 Oxley Rd Graceville Qld 4075 Australia;X-APPLE-RADIUS=500;X-TITLE=215 Oxley Rd:geo:152.9790538,-27.5206728
END:VEVENT
BEGIN:VEVENT
DTSTART;TZID=Australia/Brisbane:20241209T190000
DTEND;TZID=Australia/Brisbane:20241209T210000
DTSTAMP:20260424T162130
CREATED:20241205T053945Z
LAST-MODIFIED:20241205T053945Z
UID:28635-1733770800-1733778000@nicolejohnston.com.au
SUMMARY:Graceville | Community Christmas Light Display
DESCRIPTION:
URL:https://nicolejohnston.com.au/event/graceville-community-christmas-light-display/2024-12-09/
LOCATION:Graceville Uniting Church\, 215 Oxley Rd\, Graceville\, Qld\, 4075\, Australia
CATEGORIES:Community Event
ATTACH;FMTTYPE=image/jpeg:https://nicolejohnston.com.au/wp-content/uploads/2024/12/Graceville-Uniting-Church-Christmas-Lights-Display.jpg
ORGANIZER;CN="Graceville Central Uniting Church":MAILTO:GracevilleCentralUC@gmail.com
GEO:-27.5206728;152.9790538
X-APPLE-STRUCTURED-LOCATION;VALUE=URI;X-ADDRESS=Graceville Uniting Church 215 Oxley Rd Graceville Qld 4075 Australia;X-APPLE-RADIUS=500;X-TITLE=215 Oxley Rd:geo:152.9790538,-27.5206728
END:VEVENT
BEGIN:VEVENT
DTSTART;TZID=Australia/Brisbane:20241208T190000
DTEND;TZID=Australia/Brisbane:20241208T210000
DTSTAMP:20260424T162130
CREATED:20241205T053945Z
LAST-MODIFIED:20241205T053945Z
UID:28634-1733684400-1733691600@nicolejohnston.com.au
SUMMARY:Graceville | Community Christmas Light Display
DESCRIPTION:
URL:https://nicolejohnston.com.au/event/graceville-community-christmas-light-display/2024-12-08/
LOCATION:Graceville Uniting Church\, 215 Oxley Rd\, Graceville\, Qld\, 4075\, Australia
CATEGORIES:Community Event
ATTACH;FMTTYPE=image/jpeg:https://nicolejohnston.com.au/wp-content/uploads/2024/12/Graceville-Uniting-Church-Christmas-Lights-Display.jpg
ORGANIZER;CN="Graceville Central Uniting Church":MAILTO:GracevilleCentralUC@gmail.com
GEO:-27.5206728;152.9790538
X-APPLE-STRUCTURED-LOCATION;VALUE=URI;X-ADDRESS=Graceville Uniting Church 215 Oxley Rd Graceville Qld 4075 Australia;X-APPLE-RADIUS=500;X-TITLE=215 Oxley Rd:geo:152.9790538,-27.5206728
END:VEVENT
BEGIN:VEVENT
DTSTART;TZID=Australia/Brisbane:20241207T190000
DTEND;TZID=Australia/Brisbane:20241207T210000
DTSTAMP:20260424T162130
CREATED:20241205T053945Z
LAST-MODIFIED:20241205T053945Z
UID:28633-1733598000-1733605200@nicolejohnston.com.au
SUMMARY:Graceville | Community Christmas Light Display
DESCRIPTION:
URL:https://nicolejohnston.com.au/event/graceville-community-christmas-light-display/2024-12-07/
LOCATION:Graceville Uniting Church\, 215 Oxley Rd\, Graceville\, Qld\, 4075\, Australia
CATEGORIES:Community Event
ATTACH;FMTTYPE=image/jpeg:https://nicolejohnston.com.au/wp-content/uploads/2024/12/Graceville-Uniting-Church-Christmas-Lights-Display.jpg
ORGANIZER;CN="Graceville Central Uniting Church":MAILTO:GracevilleCentralUC@gmail.com
GEO:-27.5206728;152.9790538
X-APPLE-STRUCTURED-LOCATION;VALUE=URI;X-ADDRESS=Graceville Uniting Church 215 Oxley Rd Graceville Qld 4075 Australia;X-APPLE-RADIUS=500;X-TITLE=215 Oxley Rd:geo:152.9790538,-27.5206728
END:VEVENT
BEGIN:VEVENT
DTSTART;TZID=Australia/Brisbane:20241206T190000
DTEND;TZID=Australia/Brisbane:20241206T210000
DTSTAMP:20260424T162130
CREATED:20241205T053945Z
LAST-MODIFIED:20241205T053945Z
UID:28632-1733511600-1733518800@nicolejohnston.com.au
SUMMARY:Graceville | Community Christmas Light Display
DESCRIPTION:
URL:https://nicolejohnston.com.au/event/graceville-community-christmas-light-display/2024-12-06/
LOCATION:Graceville Uniting Church\, 215 Oxley Rd\, Graceville\, Qld\, 4075\, Australia
CATEGORIES:Community Event
ATTACH;FMTTYPE=image/jpeg:https://nicolejohnston.com.au/wp-content/uploads/2024/12/Graceville-Uniting-Church-Christmas-Lights-Display.jpg
ORGANIZER;CN="Graceville Central Uniting Church":MAILTO:GracevilleCentralUC@gmail.com
GEO:-27.5206728;152.9790538
X-APPLE-STRUCTURED-LOCATION;VALUE=URI;X-ADDRESS=Graceville Uniting Church 215 Oxley Rd Graceville Qld 4075 Australia;X-APPLE-RADIUS=500;X-TITLE=215 Oxley Rd:geo:152.9790538,-27.5206728
END:VEVENT
BEGIN:VEVENT
DTSTART;TZID=Australia/Brisbane:20241205T190000
DTEND;TZID=Australia/Brisbane:20241205T210000
DTSTAMP:20260424T162130
CREATED:20241205T053945Z
LAST-MODIFIED:20241205T053946Z
UID:28628-1733425200-1733432400@nicolejohnston.com.au
SUMMARY:Graceville | Community Christmas Light Display
DESCRIPTION:
URL:https://nicolejohnston.com.au/event/graceville-community-christmas-light-display/2024-12-05/
LOCATION:Graceville Uniting Church\, 215 Oxley Rd\, Graceville\, Qld\, 4075\, Australia
CATEGORIES:Community Event
ATTACH;FMTTYPE=image/jpeg:https://nicolejohnston.com.au/wp-content/uploads/2024/12/Graceville-Uniting-Church-Christmas-Lights-Display.jpg
ORGANIZER;CN="Graceville Central Uniting Church":MAILTO:GracevilleCentralUC@gmail.com
GEO:-27.5206728;152.9790538
X-APPLE-STRUCTURED-LOCATION;VALUE=URI;X-ADDRESS=Graceville Uniting Church 215 Oxley Rd Graceville Qld 4075 Australia;X-APPLE-RADIUS=500;X-TITLE=215 Oxley Rd:geo:152.9790538,-27.5206728
END:VEVENT
BEGIN:VEVENT
DTSTART;TZID=Australia/Brisbane:20180907T090000
DTEND;TZID=Australia/Brisbane:20180907T160000
DTSTAMP:20260424T162130
CREATED:20180725T054915Z
LAST-MODIFIED:20180725T054915Z
UID:17634-1536310800-1536336000@nicolejohnston.com.au
SUMMARY:"Our World" Artfest
DESCRIPTION:“Our World” ARTFEST \n  \nArt Show (+ music\, indigenous activities) \n  \npresented by Graceville Uniting Church and Milpera State High School – at Graceville Uniting Church\, Cnr Verney Rd East/Oxley Rd \n  \n\nFri Sept 7\, 9am – 4pm (opening concert 10am)\nSat Sept 8\, 9am – 4pm (+ 1/2 hourly activities from 10am)\nSun Sept 9\, 11am – 4pm (+ 1/2 hourly activities from 11am)
URL:https://nicolejohnston.com.au/event/our-world-artfest/2018-09-07/
LOCATION:Graceville Uniting Church\, 215 Oxley Rd\, Graceville\, Qld\, 4075\, Australia
GEO:-27.5206728;152.9790538
X-APPLE-STRUCTURED-LOCATION;VALUE=URI;X-ADDRESS=Graceville Uniting Church 215 Oxley Rd Graceville Qld 4075 Australia;X-APPLE-RADIUS=500;X-TITLE=215 Oxley Rd:geo:152.9790538,-27.5206728
END:VEVENT
BEGIN:VEVENT
DTSTART;TZID=Australia/Brisbane:20170901T094500
DTEND;TZID=Australia/Brisbane:20170901T170000
DTSTAMP:20260424T162130
CREATED:20170703T225806Z
LAST-MODIFIED:20170703T225806Z
UID:12989-1504259100-1504285200@nicolejohnston.com.au
SUMMARY:Milperra State High School Art Exhibition
DESCRIPTION:
URL:https://nicolejohnston.com.au/event/milperra-state-high-school-art-exhibition/
LOCATION:Graceville Uniting Church\, 215 Oxley Rd\, Graceville\, Qld\, 4075\, Australia
ORGANIZER;CN="Milperra State High School":MAILTO:admin@milperashs.eq.edu.au
GEO:-27.5206728;152.9790538
X-APPLE-STRUCTURED-LOCATION;VALUE=URI;X-ADDRESS=Graceville Uniting Church 215 Oxley Rd Graceville Qld 4075 Australia;X-APPLE-RADIUS=500;X-TITLE=215 Oxley Rd:geo:152.9790538,-27.5206728
END:VEVENT
END:VCALENDAR