BEGIN:VCALENDAR
VERSION:2.0
PRODID:-//Nicole Johnston - ECPv6.15.20//NONSGML v1.0//EN
CALSCALE:GREGORIAN
METHOD:PUBLISH
X-WR-CALNAME:Nicole Johnston
X-ORIGINAL-URL:https://nicolejohnston.com.au
X-WR-CALDESC:Events for Nicole Johnston
REFRESH-INTERVAL;VALUE=DURATION:PT1H
X-Robots-Tag:noindex
X-PUBLISHED-TTL:PT1H
BEGIN:VTIMEZONE
TZID:Australia/Brisbane
BEGIN:STANDARD
TZOFFSETFROM:+1000
TZOFFSETTO:+1000
TZNAME:AEST
DTSTART:20200101T000000
END:STANDARD
END:VTIMEZONE
BEGIN:VEVENT
DTSTART;TZID=Australia/Brisbane:20230908T150000
DTEND;TZID=Australia/Brisbane:20230908T170000
DTSTAMP:20260424T163223
CREATED:20230829T051507Z
LAST-MODIFIED:20230829T051508Z
UID:26884-1694185200-1694192400@nicolejohnston.com.au
SUMMARY:Annerley | Hefferan Park Edible Garden Spring Working Bee
DESCRIPTION:Roll up your sleeves and help give our community garden some TLC for Spring \nTools and afternoon tea provided. BYO hat\, sunscreen and gloves.
URL:https://nicolejohnston.com.au/event/annerley-hefferan-park-edible-garden-spring-working-bee/
LOCATION:Hefferan Park\, Annerley\, 260 Annerley Rd\, Annerley\, QLD\, 4103\, Australia
CATEGORIES:Community Event
ATTACH;FMTTYPE=image/png:https://nicolejohnston.com.au/wp-content/uploads/2023/08/Hefferan-Park-Planting-Bee.png
END:VEVENT
BEGIN:VEVENT
DTSTART;TZID=Australia/Brisbane:20210918T090000
DTEND;TZID=Australia/Brisbane:20210918T110000
DTSTAMP:20260424T163223
CREATED:20210906T022932Z
LAST-MODIFIED:20210906T030445Z
UID:24821-1631955600-1631962800@nicolejohnston.com.au
SUMMARY:Community Planting Day | Hefferan Park\, Annerley
DESCRIPTION:Join our local community to plant an edible garden in Annerley’s recently-upgraded pocket park\, Hefferan Park. Bring the kids along to enjoy a free show from Geckoes Wildlife and morning tea.
URL:https://nicolejohnston.com.au/event/community-planting-day-hefferan-park-annerley/
LOCATION:Hefferan Park\, Annerley\, 260 Annerley Rd\, Annerley\, QLD\, 4103\, Australia
CATEGORIES:Community Event
ATTACH;FMTTYPE=image/png:https://nicolejohnston.com.au/wp-content/uploads/2021/09/Hefferan-Park-Facebook-Cover-Pic.png
END:VEVENT
END:VCALENDAR