BEGIN:VCALENDAR
VERSION:2.0
PRODID:-//Nicole Johnston - ECPv6.15.20//NONSGML v1.0//EN
CALSCALE:GREGORIAN
METHOD:PUBLISH
X-ORIGINAL-URL:https://nicolejohnston.com.au
X-WR-CALDESC:Events for Nicole Johnston
REFRESH-INTERVAL;VALUE=DURATION:PT1H
X-Robots-Tag:noindex
X-PUBLISHED-TTL:PT1H
BEGIN:VTIMEZONE
TZID:Australia/Brisbane
BEGIN:STANDARD
TZOFFSETFROM:+1000
TZOFFSETTO:+1000
TZNAME:AEST
DTSTART:20200101T000000
END:STANDARD
END:VTIMEZONE
BEGIN:VEVENT
DTSTART;TZID=Australia/Brisbane:20211113T110000
DTEND;TZID=Australia/Brisbane:20211113T160000
DTSTAMP:20260424T163721
CREATED:20210924T070811Z
LAST-MODIFIED:20210924T070811Z
UID:24945-1636801200-1636819200@nicolejohnston.com.au
SUMMARY:Sherwood | Sherwood Community Festival Family Fun Day
DESCRIPTION:
URL:https://nicolejohnston.com.au/event/sherwood-sherwood-community-festival-family-fun-day/
LOCATION:Holland and Holland carpark\, 679 Sherwood Rd\, Sherwood\, QLD\, 4075\, Australia
ORGANIZER;CN="Sherwood Community Festival":MAILTO:enquiries@sherwoodfestival.com
END:VEVENT
END:VCALENDAR