BEGIN:VCALENDAR
VERSION:2.0
PRODID:-//Nicole Johnston - ECPv6.15.20//NONSGML v1.0//EN
CALSCALE:GREGORIAN
METHOD:PUBLISH
X-ORIGINAL-URL:https://nicolejohnston.com.au
X-WR-CALDESC:Events for Nicole Johnston
REFRESH-INTERVAL;VALUE=DURATION:PT1H
X-Robots-Tag:noindex
X-PUBLISHED-TTL:PT1H
BEGIN:VTIMEZONE
TZID:Australia/Brisbane
BEGIN:STANDARD
TZOFFSETFROM:+1000
TZOFFSETTO:+1000
TZNAME:AEST
DTSTART:20200101T000000
END:STANDARD
END:VTIMEZONE
BEGIN:VEVENT
DTSTART;TZID=Australia/Brisbane:20260420T090000
DTEND;TZID=Australia/Brisbane:20260420T093000
DTSTAMP:20260424T075923
CREATED:20260302T041333Z
LAST-MODIFIED:20260302T041333Z
UID:32166-1776675600-1776677400@nicolejohnston.com.au
SUMMARY:Yeronga | Billy Buddies Ball Sports
DESCRIPTION:This program is designed for kids aged 2-7 and serves as the home of Non-Contact Rugby League for children. At Billy Buddies\, they celebrate all sports not just Rugby League! Their programs focus on fun\, helping kids build social skills while learning the fundamentals of Rugby League and ball sports in general. \nMeet on the oval\, next to the playground. \nBookings essential. To book visit Billy’s Buddies. For more information email office@billysbuddies.com.au.
URL:https://nicolejohnston.com.au/event/yeronga-billy-buddies-ball-sports-2/
LOCATION:Hyde Rd Park\, Yeronga\, 331 Fairfield Rd\, Yeronga\, QLD\, 4104\, Australia
END:VEVENT
BEGIN:VEVENT
DTSTART;TZID=Australia/Brisbane:20260420T083000
DTEND;TZID=Australia/Brisbane:20260420T090000
DTSTAMP:20260424T075923
CREATED:20260302T041120Z
LAST-MODIFIED:20260302T041120Z
UID:32164-1776673800-1776675600@nicolejohnston.com.au
SUMMARY:Yeronga | Billy Buddies Ball Sports
DESCRIPTION:This program is designed for kids aged 2-7 and serves as the home of Non-Contact Rugby League for children. At Billy Buddies\, they celebrate all sports not just Rugby League! Their programs focus on fun\, helping kids build social skills while learning the fundamentals of Rugby League and ball sports in general. \nMeet on the oval\, next to the playground \nBookings essential. To book visit Billy’s Buddies. For more information email office@billysbuddies.com.au.
URL:https://nicolejohnston.com.au/event/yeronga-billy-buddies-ball-sports/
LOCATION:Hyde Rd Park\, Yeronga\, 331 Fairfield Rd\, Yeronga\, QLD\, 4104\, Australia
END:VEVENT
BEGIN:VEVENT
DTSTART;TZID=Australia/Brisbane:20210916T170000
DTEND;TZID=Australia/Brisbane:20210916T173000
DTSTAMP:20260424T075923
CREATED:20210906T040246Z
LAST-MODIFIED:20210906T040342Z
UID:24829-1631811600-1631813400@nicolejohnston.com.au
SUMMARY:Brisbane Festival Street Serenades | Evangie
DESCRIPTION:
URL:https://nicolejohnston.com.au/event/brisbane-festival-street-serenades-evangie/
LOCATION:Hyde Rd Park\, Yeronga\, 331 Fairfield Rd\, Yeronga\, QLD\, 4104\, Australia
CATEGORIES:Community Event
ATTACH;FMTTYPE=image/png:https://nicolejohnston.com.au/wp-content/uploads/2021/09/Street-Serenades-Square.png
ORGANIZER;CN="Brisbane Festival":MAILTO:brisbane@brisbanefestival.com.au
END:VEVENT
END:VCALENDAR