BEGIN:VCALENDAR
VERSION:2.0
PRODID:-//Nicole Johnston - ECPv6.15.20//NONSGML v1.0//EN
CALSCALE:GREGORIAN
METHOD:PUBLISH
X-WR-CALNAME:Nicole Johnston
X-ORIGINAL-URL:https://nicolejohnston.com.au
X-WR-CALDESC:Events for Nicole Johnston
REFRESH-INTERVAL;VALUE=DURATION:PT1H
X-Robots-Tag:noindex
X-PUBLISHED-TTL:PT1H
BEGIN:VTIMEZONE
TZID:Australia/Brisbane
BEGIN:STANDARD
TZOFFSETFROM:+1000
TZOFFSETTO:+1000
TZNAME:AEST
DTSTART:20250101T000000
END:STANDARD
END:VTIMEZONE
BEGIN:VEVENT
DTSTART;TZID=Australia/Brisbane:20260427T083000
DTEND;TZID=Australia/Brisbane:20260427T090000
DTSTAMP:20260424T060518
CREATED:20260302T045058Z
LAST-MODIFIED:20260302T045058Z
UID:32186-1777278600-1777280400@nicolejohnston.com.au
SUMMARY:Yeronga | Billy Buddies Ball Sports
DESCRIPTION:This program is designed for kids aged 2-7 and serves as the home of Non-Contact Rugby League for children. At Billy Buddies\, they celebrate all sports not just Rugby League! Their programs focus on fun\, helping kids build social skills while learning the fundamentals of Rugby League and ball sports in general. \nBookings essential. To book visit Billy’s Buddies. For more information email office@billysbuddies.com.au. \nMeet on the oval\, next to the playground.
URL:https://nicolejohnston.com.au/event/yeronga-billy-buddies-ball-sports-3/
LOCATION:Hyde Rd Park\, Yeronga\, 331 Fairfield Rd\, Yeronga\, QLD\, 4104\, Australia
END:VEVENT
BEGIN:VEVENT
DTSTART;TZID=Australia/Brisbane:20260511T083000
DTEND;TZID=Australia/Brisbane:20260511T090000
DTSTAMP:20260424T060518
CREATED:20260318T044053Z
LAST-MODIFIED:20260318T044053Z
UID:32430-1778488200-1778490000@nicolejohnston.com.au
SUMMARY:Yeronga | Billy Buddies Ball Sports
DESCRIPTION:This program is designed for kids aged 2-7 and serves as the home of Non-Contact Rugby League for children. At Billy Buddies\, they celebrate all sports not just Rugby League! Their programs focus on fun\, helping kids build social skills while learning the fundamentals of Rugby League and ball sports in general. \nBookings essential. To book visit Billy’s Buddies. For more information email office@billysbuddies.com.au.
URL:https://nicolejohnston.com.au/event/yeronga-billy-buddies-ball-sports-4/
LOCATION:Hyde Rd Park\, Yeronga\, 331 Fairfield Rd\, Yeronga\, QLD\, 4104\, Australia
END:VEVENT
BEGIN:VEVENT
DTSTART;TZID=Australia/Brisbane:20260511T090000
DTEND;TZID=Australia/Brisbane:20260511T093000
DTSTAMP:20260424T060518
CREATED:20260318T044200Z
LAST-MODIFIED:20260318T044200Z
UID:32432-1778490000-1778491800@nicolejohnston.com.au
SUMMARY:Yeronga | Billy Buddies Ball Sports
DESCRIPTION:This program is designed for kids aged 2-7 and serves as the home of Non-Contact Rugby League for children. At Billy Buddies\, they celebrate all sports not just Rugby League! Their programs focus on fun\, helping kids build social skills while learning the fundamentals of Rugby League and ball sports in general. \nBookings essential. To book visit Billy’s Buddies. For more information email office@billysbuddies.com.au.
URL:https://nicolejohnston.com.au/event/yeronga-billy-buddies-ball-sports-5/
LOCATION:Hyde Rd Park\, Yeronga\, 331 Fairfield Rd\, Yeronga\, QLD\, 4104\, Australia
END:VEVENT
BEGIN:VEVENT
DTSTART;TZID=Australia/Brisbane:20260518T083000
DTEND;TZID=Australia/Brisbane:20260518T090000
DTSTAMP:20260424T060518
CREATED:20260319T011050Z
LAST-MODIFIED:20260319T011050Z
UID:32455-1779093000-1779094800@nicolejohnston.com.au
SUMMARY:Yeronga | Billy Buddies Ball Sports
DESCRIPTION:This program is designed for kids aged 2-7 and serves as the home of Non-Contact Rugby League for children. At Billy Buddies\, they celebrate all sports not just Rugby League! Their programs focus on fun\, helping kids build social skills while learning the fundamentals of Rugby League and ball sports in general. \nBookings essential. To book visit Billy’s Buddies. For more information email office@billysbuddies.com.au.
URL:https://nicolejohnston.com.au/event/yeronga-billy-buddies-ball-sports-6/
LOCATION:Hyde Rd Park\, Yeronga\, 331 Fairfield Rd\, Yeronga\, QLD\, 4104\, Australia
END:VEVENT
BEGIN:VEVENT
DTSTART;TZID=Australia/Brisbane:20260518T090000
DTEND;TZID=Australia/Brisbane:20260518T093000
DTSTAMP:20260424T060518
CREATED:20260319T011144Z
LAST-MODIFIED:20260319T011144Z
UID:32457-1779094800-1779096600@nicolejohnston.com.au
SUMMARY:Yeronga | Billy Buddies Ball Sports
DESCRIPTION:This program is designed for kids aged 2-7 and serves as the home of Non-Contact Rugby League for children. At Billy Buddies\, they celebrate all sports not just Rugby League! Their programs focus on fun\, helping kids build social skills while learning the fundamentals of Rugby League and ball sports in general. \nBookings essential. To book visit Billy’s Buddies. For more information email office@billysbuddies.com.au.
URL:https://nicolejohnston.com.au/event/yeronga-billy-buddies-ball-sports-7/
LOCATION:Hyde Rd Park\, Yeronga\, 331 Fairfield Rd\, Yeronga\, QLD\, 4104\, Australia
END:VEVENT
BEGIN:VEVENT
DTSTART;TZID=Australia/Brisbane:20260525T083000
DTEND;TZID=Australia/Brisbane:20260525T090000
DTSTAMP:20260424T060518
CREATED:20260319T015247Z
LAST-MODIFIED:20260319T015247Z
UID:32481-1779697800-1779699600@nicolejohnston.com.au
SUMMARY:Yeronga | Billy Buddies Ball Sports
DESCRIPTION:This program is designed for kids aged 2-7 and serves as the home of Non-Contact Rugby League for children. At Billy Buddies\, they celebrate all sports not just Rugby League! Their programs focus on fun\, helping kids build social skills while learning the fundamentals of Rugby League and ball sports in general. \nBookings essential. To book visit Billy’s Buddies. For more information email office@billysbuddies.com.au.
URL:https://nicolejohnston.com.au/event/yeronga-billy-buddies-ball-sports-8/
LOCATION:Hyde Rd Park\, Yeronga\, 331 Fairfield Rd\, Yeronga\, QLD\, 4104\, Australia
END:VEVENT
BEGIN:VEVENT
DTSTART;TZID=Australia/Brisbane:20260525T090000
DTEND;TZID=Australia/Brisbane:20260525T093000
DTSTAMP:20260424T060518
CREATED:20260319T015707Z
LAST-MODIFIED:20260319T015707Z
UID:32483-1779699600-1779701400@nicolejohnston.com.au
SUMMARY:Yeronga | Billy Buddies Ball Sports
DESCRIPTION:This program is designed for kids aged 2-7 and serves as the home of Non-Contact Rugby League for children. At Billy Buddies\, they celebrate all sports not just Rugby League! Their programs focus on fun\, helping kids build social skills while learning the fundamentals of Rugby League and ball sports in general. \nBookings essential. To book visit Billy’s Buddies. For more information email office@billysbuddies.com.au.
URL:https://nicolejohnston.com.au/event/yeronga-billy-buddies-ball-sports-9/
LOCATION:Hyde Rd Park\, Yeronga\, 331 Fairfield Rd\, Yeronga\, QLD\, 4104\, Australia
END:VEVENT
BEGIN:VEVENT
DTSTART;TZID=Australia/Brisbane:20260601T083000
DTEND;TZID=Australia/Brisbane:20260601T090000
DTSTAMP:20260424T060518
CREATED:20260319T022419Z
LAST-MODIFIED:20260319T022419Z
UID:32509-1780302600-1780304400@nicolejohnston.com.au
SUMMARY:Yeronga | Billy Buddies Ball Sports
DESCRIPTION:This program is designed for kids aged 2-7 and serves as the home of Non-Contact Rugby League for children. At Billy Buddies\, they celebrate all sports not just Rugby League! Their programs focus on fun\, helping kids build social skills while learning the fundamentals of Rugby League and ball sports in general. \nBookings essential. To book visit Billy’s Buddies. For more information email office@billysbuddies.com.au.
URL:https://nicolejohnston.com.au/event/yeronga-billy-buddies-ball-sports-10/
LOCATION:Hyde Rd Park\, Yeronga\, 331 Fairfield Rd\, Yeronga\, QLD\, 4104\, Australia
END:VEVENT
BEGIN:VEVENT
DTSTART;TZID=Australia/Brisbane:20260601T090000
DTEND;TZID=Australia/Brisbane:20260601T093000
DTSTAMP:20260424T060518
CREATED:20260319T022510Z
LAST-MODIFIED:20260319T022510Z
UID:32511-1780304400-1780306200@nicolejohnston.com.au
SUMMARY:Yeronga | Billy Buddies Ball Sports
DESCRIPTION:This program is designed for kids aged 2-7 and serves as the home of Non-Contact Rugby League for children. At Billy Buddies\, they celebrate all sports not just Rugby League! Their programs focus on fun\, helping kids build social skills while learning the fundamentals of Rugby League and ball sports in general. \nBookings essential. To book visit Billy’s Buddies. For more information email office@billysbuddies.com.au.
URL:https://nicolejohnston.com.au/event/yeronga-billy-buddies-ball-sports-11/
LOCATION:Hyde Rd Park\, Yeronga\, 331 Fairfield Rd\, Yeronga\, QLD\, 4104\, Australia
END:VEVENT
END:VCALENDAR