BEGIN:VCALENDAR
VERSION:2.0
PRODID:-//Nicole Johnston - ECPv6.15.20//NONSGML v1.0//EN
CALSCALE:GREGORIAN
METHOD:PUBLISH
X-WR-CALNAME:Nicole Johnston
X-ORIGINAL-URL:https://nicolejohnston.com.au
X-WR-CALDESC:Events for Nicole Johnston
REFRESH-INTERVAL;VALUE=DURATION:PT1H
X-Robots-Tag:noindex
X-PUBLISHED-TTL:PT1H
BEGIN:VTIMEZONE
TZID:Australia/Brisbane
BEGIN:STANDARD
TZOFFSETFROM:+1000
TZOFFSETTO:+1000
TZNAME:AEST
DTSTART:20240101T000000
END:STANDARD
END:VTIMEZONE
BEGIN:VEVENT
DTSTART;TZID=Australia/Brisbane:20260422T083000
DTEND;TZID=Australia/Brisbane:20260422T093000
DTSTAMP:20260424T075918
CREATED:20260302T041811Z
LAST-MODIFIED:20260302T041811Z
UID:32172-1776846600-1776850200@nicolejohnston.com.au
SUMMARY:Yeronga | GOLD Yoga for Mobility
DESCRIPTION:A gentle movement class blended with yoga to improve your strength\, balance and posture. No floor work included. Suitable for all fitness levels. An exercise band is required. \nThis is a GOLD event suitable for seniors. \nNo bookings required. For more information phone Cassie from Foxinsox Yoga on 0431 594 388.
URL:https://nicolejohnston.com.au/event/yeronga-gold-yoga-for-mobility-31/
LOCATION:John Walker Place\, 323 Brisbane Corso\, Yeronga\, QLD\, 4104\, Australia
END:VEVENT
BEGIN:VEVENT
DTSTART;TZID=Australia/Brisbane:20260401T083000
DTEND;TZID=Australia/Brisbane:20260401T093000
DTSTAMP:20260424T075918
CREATED:20260129T021213Z
LAST-MODIFIED:20260129T021213Z
UID:32060-1775032200-1775035800@nicolejohnston.com.au
SUMMARY:Yeronga | GOLD Yoga for Mobility
DESCRIPTION:A gentle movement class blended with yoga to improve your strength\, balance and posture. No floor work included. Suitable for all fitness levels. An exercise band is required. \nThis is a GOLD event suitable for seniors. \nNo bookings required. For more information phone Cassie from Foxinsox Yoga on 0431 594 388. \nMeet under the large shady trees opposite Cansdale Street and right of the playground.
URL:https://nicolejohnston.com.au/event/yeronga-gold-yoga-for-mobility-30/
LOCATION:John Walker Place\, 323 Brisbane Corso\, Yeronga\, QLD\, 4104\, Australia
END:VEVENT
BEGIN:VEVENT
DTSTART;TZID=Australia/Brisbane:20260325T083000
DTEND;TZID=Australia/Brisbane:20260325T093000
DTSTAMP:20260424T075918
CREATED:20260129T020529Z
LAST-MODIFIED:20260129T020529Z
UID:32048-1774427400-1774431000@nicolejohnston.com.au
SUMMARY:Yeronga | GOLD Yoga for Mobility
DESCRIPTION:A gentle movement class blended with yoga to improve your strength\, balance and posture. No floor work included. Suitable for all fitness levels. An exercise band is required. \nThis is a GOLD event suitable for seniors. \nNo bookings required. For more information phone Cassie from Foxinsox Yoga on 0431 594 388.
URL:https://nicolejohnston.com.au/event/yeronga-gold-yoga-for-mobility-29/
LOCATION:John Walker Place\, 323 Brisbane Corso\, Yeronga\, QLD\, 4104\, Australia
END:VEVENT
BEGIN:VEVENT
DTSTART;TZID=Australia/Brisbane:20260318T083000
DTEND;TZID=Australia/Brisbane:20260318T093000
DTSTAMP:20260424T075918
CREATED:20260129T010644Z
LAST-MODIFIED:20260129T010644Z
UID:32018-1773822600-1773826200@nicolejohnston.com.au
SUMMARY:Yeronga | GOLD Yoga for Mobility
DESCRIPTION:A gentle movement class blended with yoga to improve your strength\, balance and posture. No floor work included. Suitable for all fitness levels. An exercise band is required. \nThis is a GOLD event suitable for seniors. \nNo bookings required. For more information phone Cassie from Foxinsox Yoga on 0431 594 388.
URL:https://nicolejohnston.com.au/event/yeronga-gold-yoga-for-mobility-28/
LOCATION:John Walker Place\, 323 Brisbane Corso\, Yeronga\, QLD\, 4104\, Australia
END:VEVENT
BEGIN:VEVENT
DTSTART;TZID=Australia/Brisbane:20260311T083000
DTEND;TZID=Australia/Brisbane:20260311T093000
DTSTAMP:20260424T075918
CREATED:20260129T002014Z
LAST-MODIFIED:20260129T002014Z
UID:31988-1773217800-1773221400@nicolejohnston.com.au
SUMMARY:Yeronga | GOLD Yoga for Mobility
DESCRIPTION:A gentle movement class blended with yoga to improve your strength\, balance and posture. No floor work included. Suitable for all fitness levels. An exercise band is required. \nThis is a GOLD event suitable for seniors. \nNo bookings required. For more information phone Cassie from Foxinsox Yoga on 0431 594 388. \nMeet under the large shady trees opposite Cansdale Street and right of the playground.
URL:https://nicolejohnston.com.au/event/yeronga-gold-yoga-for-mobility-27/
LOCATION:John Walker Place\, 323 Brisbane Corso\, Yeronga\, QLD\, 4104\, Australia
END:VEVENT
BEGIN:VEVENT
DTSTART;TZID=Australia/Brisbane:20260304T083000
DTEND;TZID=Australia/Brisbane:20260304T093000
DTSTAMP:20260424T075918
CREATED:20260128T233910Z
LAST-MODIFIED:20260128T233910Z
UID:31958-1772613000-1772616600@nicolejohnston.com.au
SUMMARY:Yeronga | GOLD Yoga for Mobility
DESCRIPTION:A gentle movement class blended with yoga to improve your strength\, balance and posture. No floor work included. Suitable for all fitness levels. An exercise band is required. \nThis is a GOLD event suitable for seniors. \nNo bookings required. For more information phone Cassie from Foxinsox Yoga on 0431 594 388. \nMeet under the large shady trees opposite Cansdale Street and right of the playground.
URL:https://nicolejohnston.com.au/event/yeronga-gold-yoga-for-mobility-26/
LOCATION:John Walker Place\, 323 Brisbane Corso\, Yeronga\, QLD\, 4104\, Australia
END:VEVENT
BEGIN:VEVENT
DTSTART;TZID=Australia/Brisbane:20260225T083000
DTEND;TZID=Australia/Brisbane:20260225T093000
DTSTAMP:20260424T075918
CREATED:20260107T043008Z
LAST-MODIFIED:20260107T043008Z
UID:31631-1772008200-1772011800@nicolejohnston.com.au
SUMMARY:Yeronga | GOLD Yoga for Mobility
DESCRIPTION:A gentle movement class blended with yoga to improve your strength\, balance and posture. No floor work included. Suitable for all fitness levels. An exercise band is required. \nThis is a GOLD event suitable for seniors. \nNo bookings required. For more information phone Cassie from Foxinsox Yoga on 0431 594 388.
URL:https://nicolejohnston.com.au/event/yeronga-gold-yoga-for-mobility-25/
LOCATION:John Walker Place\, 323 Brisbane Corso\, Yeronga\, QLD\, 4104\, Australia
END:VEVENT
BEGIN:VEVENT
DTSTART;TZID=Australia/Brisbane:20260218T083000
DTEND;TZID=Australia/Brisbane:20260218T093000
DTSTAMP:20260424T075918
CREATED:20260107T034042Z
LAST-MODIFIED:20260107T034042Z
UID:31585-1771403400-1771407000@nicolejohnston.com.au
SUMMARY:Yeronga | GOLD Yoga for Mobility
DESCRIPTION:A gentle movement class blended with yoga to improve your strength\, balance and posture. No floor work included. Suitable for all fitness levels. An exercise band is required. \nThis is a GOLD event suitable for seniors. \nNo bookings required. For more information phone Cassie from Foxinsox Yoga on 0431 594 388.
URL:https://nicolejohnston.com.au/event/yeronga-gold-yoga-for-mobility-24/
LOCATION:John Walker Place\, 323 Brisbane Corso\, Yeronga\, QLD\, 4104\, Australia
END:VEVENT
BEGIN:VEVENT
DTSTART;TZID=Australia/Brisbane:20260211T083000
DTEND;TZID=Australia/Brisbane:20260211T093000
DTSTAMP:20260424T075918
CREATED:20260107T030208Z
LAST-MODIFIED:20260107T030208Z
UID:31543-1770798600-1770802200@nicolejohnston.com.au
SUMMARY:Yeronga | GOLD Yoga for Mobility
DESCRIPTION:A gentle movement class blended with yoga to improve your strength\, balance and posture. No floor work included. Suitable for all fitness levels. An exercise band is required. \nThis is a GOLD event suitable for seniors. \nNo bookings required. For more information phone Cassie from Foxinsox Yoga on 0431 594 388.
URL:https://nicolejohnston.com.au/event/yeronga-gold-yoga-for-mobility-23/
LOCATION:John Walker Place\, 323 Brisbane Corso\, Yeronga\, QLD\, 4104\, Australia
END:VEVENT
BEGIN:VEVENT
DTSTART;TZID=Australia/Brisbane:20260204T083000
DTEND;TZID=Australia/Brisbane:20260204T093000
DTSTAMP:20260424T075918
CREATED:20260107T015034Z
LAST-MODIFIED:20260107T015034Z
UID:31501-1770193800-1770197400@nicolejohnston.com.au
SUMMARY:Yeronga | GOLD Yoga for Mobility
DESCRIPTION:A gentle movement class blended with yoga to improve your strength\, balance and posture. No floor work included. Suitable for all fitness levels. An exercise band is required. \nThis is a GOLD event suitable for seniors. \nNo bookings required. For more information phone Cassie from Foxinsox Yoga on 0431 594 388.
URL:https://nicolejohnston.com.au/event/yeronga-gold-yoga-for-mobility-22/
LOCATION:John Walker Place\, 323 Brisbane Corso\, Yeronga\, QLD\, 4104\, Australia
END:VEVENT
BEGIN:VEVENT
DTSTART;TZID=Australia/Brisbane:20260128T083000
DTEND;TZID=Australia/Brisbane:20260128T093000
DTSTAMP:20260424T075918
CREATED:20251125T031403Z
LAST-MODIFIED:20251125T031403Z
UID:31445-1769589000-1769592600@nicolejohnston.com.au
SUMMARY:Yeronga | GOLD Yoga for Mobility
DESCRIPTION:A gentle movement class blended with yoga to improve your strength\, balance and posture. No floor work included. Suitable for all fitness levels. An exercise band is required. \nThis is a GOLD event suitable for seniors. \nFor more information phone Cassie from Foxinsox Yoga on 0431 594 388. \nMeet under the large shady trees opposite Cansdale Street and right of the playground.
URL:https://nicolejohnston.com.au/event/yeronga-gold-yoga-for-mobility-21/
LOCATION:John Walker Place\, 323 Brisbane Corso\, Yeronga\, QLD\, 4104\, Australia
END:VEVENT
BEGIN:VEVENT
DTSTART;TZID=Australia/Brisbane:20251210T083000
DTEND;TZID=Australia/Brisbane:20251210T093000
DTSTAMP:20260424T075918
CREATED:20251120T054742Z
LAST-MODIFIED:20251120T054742Z
UID:31406-1765355400-1765359000@nicolejohnston.com.au
SUMMARY:Yeronga | GOLD Yoga for Mobility
DESCRIPTION:A gentle movement class blended with yoga to improve your strength\, balance and posture. No floor work included. Suitable for all fitness levels. An exercise band is required. \nThis is a GOLD event suitable for seniors. \nNo bookings required. For more information phone Cassie from Foxinsox Yoga on 0431 594 388.
URL:https://nicolejohnston.com.au/event/yeronga-gold-yoga-for-mobility-20/
LOCATION:John Walker Place\, 323 Brisbane Corso\, Yeronga\, QLD\, 4104\, Australia
END:VEVENT
BEGIN:VEVENT
DTSTART;TZID=Australia/Brisbane:20251203T083000
DTEND;TZID=Australia/Brisbane:20251203T093000
DTSTAMP:20260424T075918
CREATED:20251120T052327Z
LAST-MODIFIED:20251120T052327Z
UID:31378-1764750600-1764754200@nicolejohnston.com.au
SUMMARY:Yeronga | GOLD Yoga for Mobility
DESCRIPTION:A gentle movement class blended with yoga to improve your strength\, balance and posture. No floor work included. Suitable for all fitness levels. An exercise band is required. \nThis is a GOLD event suitable for seniors. \nNo bookings required. For more information phone Cassie from Foxinsox Yoga on 0431 594 388.
URL:https://nicolejohnston.com.au/event/yeronga-gold-yoga-for-mobility-19/
LOCATION:John Walker Place\, 323 Brisbane Corso\, Yeronga\, QLD\, 4104\, Australia
END:VEVENT
BEGIN:VEVENT
DTSTART;TZID=Australia/Brisbane:20251126T083000
DTEND;TZID=Australia/Brisbane:20251126T093000
DTSTAMP:20260424T075918
CREATED:20251120T045852Z
LAST-MODIFIED:20251120T045852Z
UID:31350-1764145800-1764149400@nicolejohnston.com.au
SUMMARY:Yeronga | GOLD Yoga for Mobility
DESCRIPTION:A gentle movement class blended with yoga to improve your strength\, balance and posture. No floor work included. Suitable for all fitness levels. An exercise band is required. \nThis is a GOLD event suitable for seniors. \nNo bookings required. For more information phone Cassie from Foxinsox Yoga on 0431 594 388.
URL:https://nicolejohnston.com.au/event/yeronga-gold-yoga-for-mobility-18/
LOCATION:John Walker Place\, 323 Brisbane Corso\, Yeronga\, QLD\, 4104\, Australia
END:VEVENT
BEGIN:VEVENT
DTSTART;TZID=Australia/Brisbane:20251126T083000
DTEND;TZID=Australia/Brisbane:20251126T093000
DTSTAMP:20260424T075918
CREATED:20250909T052906Z
LAST-MODIFIED:20250909T052906Z
UID:30771-1764145800-1764149400@nicolejohnston.com.au
SUMMARY:Yeronga | GOLD Yoga for Mobility
DESCRIPTION:A gentle movement class blended with yoga to improve your strength\, balance and posture. No floor work included. Suitable for all fitness levels. An exercise band is required. \nThis is a GOLD event suitable for seniors. \nNo bookings required. For more information phone Cassie from Foxinsox Yoga on 0431 594 388.
URL:https://nicolejohnston.com.au/event/yeronga-gold-yoga-for-mobility-17/
LOCATION:John Walker Place\, 323 Brisbane Corso\, Yeronga\, QLD\, 4104\, Australia
END:VEVENT
BEGIN:VEVENT
DTSTART;TZID=Australia/Brisbane:20251119T083000
DTEND;TZID=Australia/Brisbane:20251119T093000
DTSTAMP:20260424T075918
CREATED:20250909T051729Z
LAST-MODIFIED:20250909T051729Z
UID:30759-1763541000-1763544600@nicolejohnston.com.au
SUMMARY:Yeronga | GOLD Yoga for Mobility
DESCRIPTION:A gentle movement class blended with yoga to improve your strength\, balance and posture. No floor work included. Suitable for all fitness levels. An exercise band is required. \nThis is a GOLD event suitable for seniors. \nNo bookings required. For more information phone Cassie from Foxinsox Yoga on 0431 594 388.
URL:https://nicolejohnston.com.au/event/yeronga-gold-yoga-for-mobility-16/
LOCATION:John Walker Place\, 323 Brisbane Corso\, Yeronga\, QLD\, 4104\, Australia
END:VEVENT
BEGIN:VEVENT
DTSTART;TZID=Australia/Brisbane:20251112T083000
DTEND;TZID=Australia/Brisbane:20251112T093000
DTSTAMP:20260424T075918
CREATED:20250909T045939Z
LAST-MODIFIED:20250909T045939Z
UID:30747-1762936200-1762939800@nicolejohnston.com.au
SUMMARY:Yeronga | GOLD Yoga for Mobility
DESCRIPTION:A gentle movement class blended with yoga to improve your strength\, balance and posture. No floor work included. Suitable for all fitness levels. An exercise band is required. \nThis is a GOLD event suitable for seniors. \nNo bookings required. For more information phone Cassie from Foxinsox Yoga on 0431 594 388.
URL:https://nicolejohnston.com.au/event/yeronga-gold-yoga-for-mobility-15/
LOCATION:John Walker Place\, 323 Brisbane Corso\, Yeronga\, QLD\, 4104\, Australia
END:VEVENT
BEGIN:VEVENT
DTSTART;TZID=Australia/Brisbane:20251105T083000
DTEND;TZID=Australia/Brisbane:20251105T093000
DTSTAMP:20260424T075918
CREATED:20250909T044142Z
LAST-MODIFIED:20250909T044142Z
UID:30735-1762331400-1762335000@nicolejohnston.com.au
SUMMARY:Yeronga | GOLD Yoga for Mobility
DESCRIPTION:A gentle movement class blended with yoga to improve your strength\, balance and posture. No floor work included. Suitable for all fitness levels. An exercise band is required. \nThis is a GOLD event suitable for seniors. \nNo bookings required. For more information phone Cassie from Foxinsox Yoga on 0431 594 388.
URL:https://nicolejohnston.com.au/event/yeronga-gold-yoga-for-mobility-14/
LOCATION:John Walker Place\, 323 Brisbane Corso\, Yeronga\, QLD\, 4104\, Australia
END:VEVENT
BEGIN:VEVENT
DTSTART;TZID=Australia/Brisbane:20251029T083000
DTEND;TZID=Australia/Brisbane:20251029T093000
DTSTAMP:20260424T075918
CREATED:20250909T034619Z
LAST-MODIFIED:20250909T034619Z
UID:30723-1761726600-1761730200@nicolejohnston.com.au
SUMMARY:Yeronga | GOLD Yoga for Mobility
DESCRIPTION:A gentle movement class blended with yoga to improve your strength\, balance and posture. No floor work included. Suitable for all fitness levels. An exercise band is required. \nThis is a GOLD event suitable for seniors. \nNo bookings required. For more information phone Cassie from Foxinsox Yoga on 0431 594 388.
URL:https://nicolejohnston.com.au/event/yeronga-gold-yoga-for-mobility-13/
LOCATION:John Walker Place\, 323 Brisbane Corso\, Yeronga\, QLD\, 4104\, Australia
END:VEVENT
BEGIN:VEVENT
DTSTART;TZID=Australia/Brisbane:20251022T083000
DTEND;TZID=Australia/Brisbane:20251022T093000
DTSTAMP:20260424T075918
CREATED:20250909T033133Z
LAST-MODIFIED:20250909T033133Z
UID:30709-1761121800-1761125400@nicolejohnston.com.au
SUMMARY:Yeronga | GOLD Yoga for Mobility
DESCRIPTION:A gentle movement class blended with yoga to improve your strength\, balance and posture. No floor work included. Suitable for all fitness levels. An exercise band is required. \nThis is a GOLD event suitable for seniors. \nNo bookings required. For more information phone Cassie from Foxinsox Yoga on 0431 594 388.
URL:https://nicolejohnston.com.au/event/yeronga-gold-yoga-for-mobility-12/
LOCATION:John Walker Place\, 323 Brisbane Corso\, Yeronga\, QLD\, 4104\, Australia
END:VEVENT
BEGIN:VEVENT
DTSTART;TZID=Australia/Brisbane:20251015T083000
DTEND;TZID=Australia/Brisbane:20251015T093000
DTSTAMP:20260424T075918
CREATED:20250909T022650Z
LAST-MODIFIED:20250909T022650Z
UID:30697-1760517000-1760520600@nicolejohnston.com.au
SUMMARY:Yeronga | GOLD Yoga for Mobility
DESCRIPTION:A gentle movement class blended with yoga to improve your strength\, balance and posture. No floor work included. Suitable for all fitness levels. An exercise band is required. \nThis is a GOLD event suitable for seniors. \nNo bookings required. For more information phone Cassie from Foxinsox Yoga on 0431 594 388.
URL:https://nicolejohnston.com.au/event/yeronga-gold-yoga-for-mobility-11/
LOCATION:John Walker Place\, 323 Brisbane Corso\, Yeronga\, QLD\, 4104\, Australia
END:VEVENT
BEGIN:VEVENT
DTSTART;TZID=Australia/Brisbane:20251008T083000
DTEND;TZID=Australia/Brisbane:20251008T093000
DTSTAMP:20260424T075918
CREATED:20250909T022003Z
LAST-MODIFIED:20250909T022003Z
UID:30685-1759912200-1759915800@nicolejohnston.com.au
SUMMARY:Yeronga | GOLD Yoga for Mobility
DESCRIPTION:A gentle movement class blended with yoga to improve your strength\, balance and posture. No floor work included. Suitable for all fitness levels. An exercise band is required. \nThis is a GOLD event suitable for seniors. \nNo bookings required. For more information phone Cassie from Foxinsox Yoga on 0431 594 388.
URL:https://nicolejohnston.com.au/event/yeronga-gold-yoga-for-mobility-10/
LOCATION:John Walker Place\, 323 Brisbane Corso\, Yeronga\, QLD\, 4104\, Australia
END:VEVENT
BEGIN:VEVENT
DTSTART;TZID=Australia/Brisbane:20250917T083000
DTEND;TZID=Australia/Brisbane:20250917T093000
DTSTAMP:20260424T075918
CREATED:20250610T055659Z
LAST-MODIFIED:20250610T055659Z
UID:30172-1758097800-1758101400@nicolejohnston.com.au
SUMMARY:Yeronga | GOLD Yoga for Mobility
DESCRIPTION:A gentle movement class blended with yoga to improve your strength\, balance and posture. No floor work included. Suitable for all fitness levels. An exercise band is required. \nThis is a GOLD event suitable for seniors. \nNo bookings required. For more information phone Cassie from Foxinsox Yoga on 0431 594 388. \nMeet under the large shady trees opposite Cansdale Street and right of the playground.
URL:https://nicolejohnston.com.au/event/yeronga-gold-yoga-for-mobility-9/
LOCATION:John Walker Place\, 323 Brisbane Corso\, Yeronga\, QLD\, 4104\, Australia
END:VEVENT
BEGIN:VEVENT
DTSTART;TZID=Australia/Brisbane:20250910T083000
DTEND;TZID=Australia/Brisbane:20250910T093000
DTSTAMP:20260424T075918
CREATED:20250609T045952Z
LAST-MODIFIED:20250609T045952Z
UID:30139-1757493000-1757496600@nicolejohnston.com.au
SUMMARY:Yeronga | GOLD Yoga for Mobility
DESCRIPTION:A gentle movement class blended with yoga to improve your strength\, balance and posture. No floor work included. Suitable for all fitness levels. An exercise band is required. \nThis is a GOLD event suitable for seniors. \nNo bookings required. For more information phone Cassie from Foxinsox Yoga on 0431 594 388.
URL:https://nicolejohnston.com.au/event/yeronga-gold-yoga-for-mobility-8/
LOCATION:John Walker Place\, 323 Brisbane Corso\, Yeronga\, QLD\, 4104\, Australia
END:VEVENT
BEGIN:VEVENT
DTSTART;TZID=Australia/Brisbane:20250903T083000
DTEND;TZID=Australia/Brisbane:20250903T093000
DTSTAMP:20260424T075918
CREATED:20250609T042159Z
LAST-MODIFIED:20250609T042159Z
UID:30111-1756888200-1756891800@nicolejohnston.com.au
SUMMARY:Yeronga | GOLD Yoga for Mobility
DESCRIPTION:A gentle movement class blended with yoga to improve your strength\, balance and posture. No floor work included. Suitable for all fitness levels. An exercise band is required. \nThis is a GOLD event suitable for seniors. \nNo bookings required. For more information phone Cassie from Foxinsox Yoga on 0431 594 388. \nMeet under the large shady trees opposite Cansdale Street and right of the playground.
URL:https://nicolejohnston.com.au/event/yeronga-gold-yoga-for-mobility-7/
LOCATION:John Walker Place\, 323 Brisbane Corso\, Yeronga\, QLD\, 4104\, Australia
END:VEVENT
BEGIN:VEVENT
DTSTART;TZID=Australia/Brisbane:20250827T083000
DTEND;TZID=Australia/Brisbane:20250827T093000
DTSTAMP:20260424T075918
CREATED:20250605T044024Z
LAST-MODIFIED:20250605T044024Z
UID:30073-1756283400-1756287000@nicolejohnston.com.au
SUMMARY:Yeronga | Yoga for Mobility
DESCRIPTION:A gentle movement class blended with yoga to improve your strength\, balance and posture. No floor work included. Suitable for all fitness levels. An exercise band is required. \nThis is a GOLD event suitable for seniors. \nNo bookings required. For more information phone Cassie from Foxinsox Yoga on 0431 594 388. \nMeet under the large shady trees opposite Cansdale Street and right of the playground.
URL:https://nicolejohnston.com.au/event/yeronga-yoga-for-mobility-2/
LOCATION:John Walker Place\, 323 Brisbane Corso\, Yeronga\, QLD\, 4104\, Australia
END:VEVENT
BEGIN:VEVENT
DTSTART;TZID=Australia/Brisbane:20250820T083000
DTEND;TZID=Australia/Brisbane:20250820T093000
DTSTAMP:20260424T075918
CREATED:20250605T041149Z
LAST-MODIFIED:20250605T041149Z
UID:30042-1755678600-1755682200@nicolejohnston.com.au
SUMMARY:Yeronga | GOLD Yoga for Mobility
DESCRIPTION:A gentle movement class blended with yoga to improve your strength\, balance and posture. No floor work included. Suitable for all fitness levels. An exercise band is required. \nThis is a GOLD event suitable for seniors. \nNo bookings required. For more information phone Cassie from Foxinsox Yoga on 0431 594 388. \nMeet under the large shady trees opposite Cansdale Street and right of the playground.
URL:https://nicolejohnston.com.au/event/yeronga-gold-yoga-for-mobility-6/
LOCATION:John Walker Place\, 323 Brisbane Corso\, Yeronga\, QLD\, 4104\, Australia
END:VEVENT
BEGIN:VEVENT
DTSTART;TZID=Australia/Brisbane:20250806T083000
DTEND;TZID=Australia/Brisbane:20250806T093000
DTSTAMP:20260424T075918
CREATED:20250605T030846Z
LAST-MODIFIED:20250605T030846Z
UID:29985-1754469000-1754472600@nicolejohnston.com.au
SUMMARY:Yeronga | GOLD Yoga for Mobility
DESCRIPTION:A gentle movement class blended with yoga to improve your strength\, balance and posture. No floor work included. Suitable for all fitness levels. An exercise band is required. \nThis is a GOLD event suitable for seniors. \nNo bookings required. For more information phone Cassie from Foxinsox Yoga on 0431 594 388. \nMeet under the large shady trees opposite Cansdale Street and right of the playground.
URL:https://nicolejohnston.com.au/event/yeronga-gold-yoga-for-mobility-5/
LOCATION:John Walker Place\, 323 Brisbane Corso\, Yeronga\, QLD\, 4104\, Australia
END:VEVENT
BEGIN:VEVENT
DTSTART;TZID=Australia/Brisbane:20250730T083000
DTEND;TZID=Australia/Brisbane:20250730T093000
DTSTAMP:20260424T075918
CREATED:20250605T014121Z
LAST-MODIFIED:20250605T014121Z
UID:29955-1753864200-1753867800@nicolejohnston.com.au
SUMMARY:Yeronga | GOLD Yoga for Mobility
DESCRIPTION:A gentle movement class blended with yoga to improve your strength\, balance and posture. No floor work included. Suitable for all fitness levels. An exercise band is required. \nThis is a GOLD event suitable for seniors. \nNo bookings required. For more information phone Cassie from Foxinsox Yoga on 0431 594 388. \nMeet under the large shady trees opposite Cansdale Street and right of the playground.
URL:https://nicolejohnston.com.au/event/yeronga-gold-yoga-for-mobility-4/
LOCATION:John Walker Place\, 323 Brisbane Corso\, Yeronga\, QLD\, 4104\, Australia
END:VEVENT
BEGIN:VEVENT
DTSTART;TZID=Australia/Brisbane:20250723T083000
DTEND;TZID=Australia/Brisbane:20250723T093000
DTSTAMP:20260424T075918
CREATED:20250605T005306Z
LAST-MODIFIED:20250605T005306Z
UID:29925-1753259400-1753263000@nicolejohnston.com.au
SUMMARY:Yeronga | GOLD Yoga for Mobility
DESCRIPTION:A gentle movement class blended with yoga to improve your strength\, balance and posture. No floor work included. Suitable for all fitness levels. An exercise band is required. \nThis is a GOLD event suitable for seniors. \nFor more information phone Cassie from Foxinsox Yoga on 0431 594 388. \nBYO exercise band. Meet under the large shady trees opposite Cansdale Street and right of the playground.
URL:https://nicolejohnston.com.au/event/yeronga-gold-yoga-for-mobility-3/
LOCATION:John Walker Place\, 323 Brisbane Corso\, Yeronga\, QLD\, 4104\, Australia
END:VEVENT
END:VCALENDAR