BEGIN:VCALENDAR
VERSION:2.0
PRODID:-//Nicole Johnston - ECPv6.15.20//NONSGML v1.0//EN
CALSCALE:GREGORIAN
METHOD:PUBLISH
X-ORIGINAL-URL:https://nicolejohnston.com.au
X-WR-CALDESC:Events for Nicole Johnston
REFRESH-INTERVAL;VALUE=DURATION:PT1H
X-Robots-Tag:noindex
X-PUBLISHED-TTL:PT1H
BEGIN:VTIMEZONE
TZID:Australia/Brisbane
BEGIN:STANDARD
TZOFFSETFROM:+1000
TZOFFSETTO:+1000
TZNAME:AEST
DTSTART:20250101T000000
END:STANDARD
END:VTIMEZONE
BEGIN:VEVENT
DTSTART;TZID=Australia/Brisbane:20260429T083000
DTEND;TZID=Australia/Brisbane:20260429T093000
DTSTAMP:20260424T060657
CREATED:20260302T050053Z
LAST-MODIFIED:20260302T050053Z
UID:32194-1777451400-1777455000@nicolejohnston.com.au
SUMMARY:Yeronga | GOLD Yoga for Mobility
DESCRIPTION:A gentle movement class blended with yoga to improve your strength\, balance and posture. No floor work included. Suitable for all fitness levels. An exercise band is required. \nThis is a GOLD event suitable for seniors. \nNo bookings required. For more information phone Cassie from Foxinsox Yoga on 0431 594 388. \nMeet under the large shady trees opposite Cansdale Street and right of the playground.
URL:https://nicolejohnston.com.au/event/yeronga-gold-yoga-for-mobility-32/
LOCATION:John Walker Place\, 323 Brisbane Corso\, Yeronga\, QLD\, 4104\, Australia
END:VEVENT
BEGIN:VEVENT
DTSTART;TZID=Australia/Brisbane:20260506T083000
DTEND;TZID=Australia/Brisbane:20260506T093000
DTSTAMP:20260424T060657
CREATED:20260302T053332Z
LAST-MODIFIED:20260302T053332Z
UID:32216-1778056200-1778059800@nicolejohnston.com.au
SUMMARY:Yeronga | GOLD Yoga for Mobility
DESCRIPTION:A gentle movement class blended with yoga to improve your strength\, balance and posture. No floor work included. Suitable for all fitness levels. An exercise band is required. \nMeet under the large shady trees opposite Cansdale Street and right of the playground. \nThis is a GOLD event suitable for seniors. \nNo bookings required. For more information phone Cassie from Foxinsox Yoga on 0431 594 388.
URL:https://nicolejohnston.com.au/event/yeronga-gold-yoga-for-mobility-33/
LOCATION:John Walker Place\, 323 Brisbane Corso\, Yeronga\, QLD\, 4104\, Australia
END:VEVENT
BEGIN:VEVENT
DTSTART;TZID=Australia/Brisbane:20260513T083000
DTEND;TZID=Australia/Brisbane:20260513T093000
DTSTAMP:20260424T060657
CREATED:20260318T045130Z
LAST-MODIFIED:20260318T045130Z
UID:32440-1778661000-1778664600@nicolejohnston.com.au
SUMMARY:Yeronga | GOLD Yoga for Mobility
DESCRIPTION:A gentle movement class blended with yoga to improve your strength\, balance and posture. No floor work included. Suitable for all fitness levels. An exercise band is required. \nThis is a GOLD event suitable for seniors. \nNo bookings required. For more information phone Cassie from Foxinsox Yoga on 0431 594 388.
URL:https://nicolejohnston.com.au/event/yeronga-gold-yoga-for-mobility-34/
LOCATION:John Walker Place\, 323 Brisbane Corso\, Yeronga\, QLD\, 4104\, Australia
END:VEVENT
BEGIN:VEVENT
DTSTART;TZID=Australia/Brisbane:20260520T083000
DTEND;TZID=Australia/Brisbane:20260520T093000
DTSTAMP:20260424T060657
CREATED:20260319T012853Z
LAST-MODIFIED:20260319T012853Z
UID:32465-1779265800-1779269400@nicolejohnston.com.au
SUMMARY:Yeronga | GOLD Yoga for Mobility
DESCRIPTION:A gentle movement class blended with yoga to improve your strength\, balance and posture. No floor work included. Suitable for all fitness levels. An exercise band is required. \nThis is a GOLD event suitable for seniors. \nNo bookings required. For more information phone Cassie from Foxinsox Yoga on 0431 594 388. \nMeet under the large shady trees opposite Cansdale Street and right of the playground.
URL:https://nicolejohnston.com.au/event/yeronga-gold-yoga-for-mobility-35/
LOCATION:John Walker Place\, 323 Brisbane Corso\, Yeronga\, QLD\, 4104\, Australia
END:VEVENT
BEGIN:VEVENT
DTSTART;TZID=Australia/Brisbane:20260527T083000
DTEND;TZID=Australia/Brisbane:20260527T093000
DTSTAMP:20260424T060657
CREATED:20260319T021122Z
LAST-MODIFIED:20260319T021122Z
UID:32491-1779870600-1779874200@nicolejohnston.com.au
SUMMARY:Yeronga | GOLD Yoga for Mobility
DESCRIPTION:A gentle movement class blended with yoga to improve your strength\, balance and posture. No floor work included. Suitable for all fitness levels. An exercise band is required. \nThis is a GOLD event suitable for seniors. \nNo bookings required. For more information phone Cassie from Foxinsox Yoga on 0431 594 388.
URL:https://nicolejohnston.com.au/event/yeronga-gold-yoga-for-mobility-36/
LOCATION:John Walker Place\, 323 Brisbane Corso\, Yeronga\, QLD\, 4104\, Australia
END:VEVENT
BEGIN:VEVENT
DTSTART;TZID=Australia/Brisbane:20260603T083000
DTEND;TZID=Australia/Brisbane:20260603T093000
DTSTAMP:20260424T060657
CREATED:20260319T031429Z
LAST-MODIFIED:20260319T031429Z
UID:32517-1780475400-1780479000@nicolejohnston.com.au
SUMMARY:Yeronga | GOLD Yoga For Mobility
DESCRIPTION:A gentle movement class blended with yoga to improve your strength\, balance and posture. No floor work included. Suitable for all fitness levels. An exercise band is required. \nThis is a GOLD event suitable for seniors. \nNo bookings required. For more information phone Cassie from Foxinsox Yoga on 0431 594 388.
URL:https://nicolejohnston.com.au/event/yeronga-gold-yoga-for-mobility-37/
LOCATION:John Walker Place\, 323 Brisbane Corso\, Yeronga\, QLD\, 4104\, Australia
END:VEVENT
END:VCALENDAR