BEGIN:VCALENDAR
VERSION:2.0
PRODID:-//Nicole Johnston - ECPv6.15.20//NONSGML v1.0//EN
CALSCALE:GREGORIAN
METHOD:PUBLISH
X-ORIGINAL-URL:https://nicolejohnston.com.au
X-WR-CALDESC:Events for Nicole Johnston
REFRESH-INTERVAL;VALUE=DURATION:PT1H
X-Robots-Tag:noindex
X-PUBLISHED-TTL:PT1H
BEGIN:VTIMEZONE
TZID:Australia/Brisbane
BEGIN:STANDARD
TZOFFSETFROM:+1000
TZOFFSETTO:+1000
TZNAME:AEST
DTSTART:20220101T000000
END:STANDARD
END:VTIMEZONE
BEGIN:VEVENT
DTSTART;TZID=Australia/Brisbane:20250319T083000
DTEND;TZID=Australia/Brisbane:20250319T093000
DTSTAMP:20260424T154749
CREATED:20241113T051229Z
LAST-MODIFIED:20250113T041343Z
UID:28774-1742373000-1742376600@nicolejohnston.com.au
SUMMARY:Yeronga | Yoga for Mobility
DESCRIPTION:A gentle movement class blended with yoga to improve your strength\, balance and posture. No floor work included. Suitable for all fitness levels. \nFor more information phone Cassie from Foxinsox Yoga on 0431 594 388.
URL:https://nicolejohnston.com.au/event/yeronga-yoga-for-mobility/2025-03-19/
LOCATION:John Walker Place\, 323 Brisbane Corso\, Yeronga\, QLD\, 4104\, Australia
END:VEVENT
BEGIN:VEVENT
DTSTART;TZID=Australia/Brisbane:20250312T083000
DTEND;TZID=Australia/Brisbane:20250312T093000
DTSTAMP:20260424T154749
CREATED:20241113T051229Z
LAST-MODIFIED:20250113T041342Z
UID:28773-1741768200-1741771800@nicolejohnston.com.au
SUMMARY:Yeronga | Yoga for Mobility
DESCRIPTION:A gentle movement class blended with yoga to improve your strength\, balance and posture. No floor work included. Suitable for all fitness levels. \nFor more information phone Cassie from Foxinsox Yoga on 0431 594 388.
URL:https://nicolejohnston.com.au/event/yeronga-yoga-for-mobility/2025-03-12/
LOCATION:John Walker Place\, 323 Brisbane Corso\, Yeronga\, QLD\, 4104\, Australia
END:VEVENT
BEGIN:VEVENT
DTSTART;TZID=Australia/Brisbane:20250305T083000
DTEND;TZID=Australia/Brisbane:20250305T093000
DTSTAMP:20260424T154749
CREATED:20241113T051229Z
LAST-MODIFIED:20250113T041341Z
UID:28772-1741163400-1741167000@nicolejohnston.com.au
SUMMARY:Yeronga | Yoga for Mobility
DESCRIPTION:A gentle movement class blended with yoga to improve your strength\, balance and posture. No floor work included. Suitable for all fitness levels. \nFor more information phone Cassie from Foxinsox Yoga on 0431 594 388.
URL:https://nicolejohnston.com.au/event/yeronga-yoga-for-mobility/2025-03-05/
LOCATION:John Walker Place\, 323 Brisbane Corso\, Yeronga\, QLD\, 4104\, Australia
END:VEVENT
BEGIN:VEVENT
DTSTART;TZID=Australia/Brisbane:20250226T083000
DTEND;TZID=Australia/Brisbane:20250226T093000
DTSTAMP:20260424T154749
CREATED:20241113T051229Z
LAST-MODIFIED:20250113T041341Z
UID:28771-1740558600-1740562200@nicolejohnston.com.au
SUMMARY:Yeronga | Yoga for Mobility
DESCRIPTION:A gentle movement class blended with yoga to improve your strength\, balance and posture. No floor work included. Suitable for all fitness levels. \nFor more information phone Cassie from Foxinsox Yoga on 0431 594 388.
URL:https://nicolejohnston.com.au/event/yeronga-yoga-for-mobility/2025-02-26/
LOCATION:John Walker Place\, 323 Brisbane Corso\, Yeronga\, QLD\, 4104\, Australia
END:VEVENT
BEGIN:VEVENT
DTSTART;TZID=Australia/Brisbane:20250219T083000
DTEND;TZID=Australia/Brisbane:20250219T093000
DTSTAMP:20260424T154749
CREATED:20241113T051229Z
LAST-MODIFIED:20250113T041340Z
UID:28770-1739953800-1739957400@nicolejohnston.com.au
SUMMARY:Yeronga | Yoga for Mobility
DESCRIPTION:A gentle movement class blended with yoga to improve your strength\, balance and posture. No floor work included. Suitable for all fitness levels. \nFor more information phone Cassie from Foxinsox Yoga on 0431 594 388.
URL:https://nicolejohnston.com.au/event/yeronga-yoga-for-mobility/2025-02-19/
LOCATION:John Walker Place\, 323 Brisbane Corso\, Yeronga\, QLD\, 4104\, Australia
END:VEVENT
BEGIN:VEVENT
DTSTART;TZID=Australia/Brisbane:20250212T083000
DTEND;TZID=Australia/Brisbane:20250212T093000
DTSTAMP:20260424T154749
CREATED:20241113T051229Z
LAST-MODIFIED:20250113T041336Z
UID:28769-1739349000-1739352600@nicolejohnston.com.au
SUMMARY:Yeronga | Yoga for Mobility
DESCRIPTION:A gentle movement class blended with yoga to improve your strength\, balance and posture. No floor work included. Suitable for all fitness levels. \nFor more information phone Cassie from Foxinsox Yoga on 0431 594 388.
URL:https://nicolejohnston.com.au/event/yeronga-yoga-for-mobility/2025-02-12/
LOCATION:John Walker Place\, 323 Brisbane Corso\, Yeronga\, QLD\, 4104\, Australia
END:VEVENT
BEGIN:VEVENT
DTSTART;TZID=Australia/Brisbane:20250205T083000
DTEND;TZID=Australia/Brisbane:20250205T093000
DTSTAMP:20260424T154749
CREATED:20241113T051229Z
LAST-MODIFIED:20250113T041336Z
UID:28768-1738744200-1738747800@nicolejohnston.com.au
SUMMARY:Yeronga | Yoga for Mobility
DESCRIPTION:A gentle movement class blended with yoga to improve your strength\, balance and posture. No floor work included. Suitable for all fitness levels. \nFor more information phone Cassie from Foxinsox Yoga on 0431 594 388.
URL:https://nicolejohnston.com.au/event/yeronga-yoga-for-mobility/2025-02-05/
LOCATION:John Walker Place\, 323 Brisbane Corso\, Yeronga\, QLD\, 4104\, Australia
END:VEVENT
BEGIN:VEVENT
DTSTART;TZID=Australia/Brisbane:20250129T083000
DTEND;TZID=Australia/Brisbane:20250129T093000
DTSTAMP:20260424T154749
CREATED:20241113T051229Z
LAST-MODIFIED:20250113T041333Z
UID:28565-1738139400-1738143000@nicolejohnston.com.au
SUMMARY:Yeronga | Yoga for Mobility
DESCRIPTION:A gentle movement class blended with yoga to improve your strength\, balance and posture. No floor work included. Suitable for all fitness levels. \nFor more information phone Cassie from Foxinsox Yoga on 0431 594 388.
URL:https://nicolejohnston.com.au/event/yeronga-yoga-for-mobility/2025-01-29/
LOCATION:John Walker Place\, 323 Brisbane Corso\, Yeronga\, QLD\, 4104\, Australia
END:VEVENT
BEGIN:VEVENT
DTSTART;TZID=Australia/Brisbane:20250114T093000
DTEND;TZID=Australia/Brisbane:20250114T103000
DTSTAMP:20260424T154749
CREATED:20240815T055258Z
LAST-MODIFIED:20241212T003922Z
UID:27878-1736847000-1736850600@nicolejohnston.com.au
SUMMARY:Yeronga | Woodworking in the Park - Fliptastic Puzzles
DESCRIPTION:Bookings essential. A unique opportunity to get creative and use real woodworking tools as you design and assemble your own mix-n-match wooden puzzle. \nThis is a Chillout event suitable for young people 5-14 years. \nBookings essential. To book visit Make+Meld.
URL:https://nicolejohnston.com.au/event/tennyson-woodworking-in-the-park-fliptastic-puzzles-2/
LOCATION:John Walker Place\, 323 Brisbane Corso\, Yeronga\, QLD\, 4104\, Australia
END:VEVENT
BEGIN:VEVENT
DTSTART;TZID=Australia/Brisbane:20241204T083000
DTEND;TZID=Australia/Brisbane:20241204T093000
DTSTAMP:20260424T154749
CREATED:20240624T031622Z
LAST-MODIFIED:20240624T031622Z
UID:27495-1733301000-1733304600@nicolejohnston.com.au
SUMMARY:Yeronga | GOLD Yoga for Mobility
DESCRIPTION:A gentle movement class blended with yoga to improve your strength\, balance and posture. No floor work included. Suitable for all fitness levels. Bring an exercise band. \nNo bookings required. For more information phone Cassie from Foxinsox Yoga on 0431 594 388.
URL:https://nicolejohnston.com.au/event/yeronga-gold-yoga-for-mobility/2024-12-04/
LOCATION:John Walker Place\, 323 Brisbane Corso\, Yeronga\, QLD\, 4104\, Australia
END:VEVENT
BEGIN:VEVENT
DTSTART;TZID=Australia/Brisbane:20241127T083000
DTEND;TZID=Australia/Brisbane:20241127T093000
DTSTAMP:20260424T154749
CREATED:20240624T031622Z
LAST-MODIFIED:20240624T031622Z
UID:27494-1732696200-1732699800@nicolejohnston.com.au
SUMMARY:Yeronga | GOLD Yoga for Mobility
DESCRIPTION:A gentle movement class blended with yoga to improve your strength\, balance and posture. No floor work included. Suitable for all fitness levels. Bring an exercise band. \nNo bookings required. For more information phone Cassie from Foxinsox Yoga on 0431 594 388.
URL:https://nicolejohnston.com.au/event/yeronga-gold-yoga-for-mobility/2024-11-27/
LOCATION:John Walker Place\, 323 Brisbane Corso\, Yeronga\, QLD\, 4104\, Australia
END:VEVENT
BEGIN:VEVENT
DTSTART;TZID=Australia/Brisbane:20241120T083000
DTEND;TZID=Australia/Brisbane:20241120T093000
DTSTAMP:20260424T154749
CREATED:20240624T031622Z
LAST-MODIFIED:20240624T031622Z
UID:27493-1732091400-1732095000@nicolejohnston.com.au
SUMMARY:Yeronga | GOLD Yoga for Mobility
DESCRIPTION:A gentle movement class blended with yoga to improve your strength\, balance and posture. No floor work included. Suitable for all fitness levels. Bring an exercise band. \nNo bookings required. For more information phone Cassie from Foxinsox Yoga on 0431 594 388.
URL:https://nicolejohnston.com.au/event/yeronga-gold-yoga-for-mobility/2024-11-20/
LOCATION:John Walker Place\, 323 Brisbane Corso\, Yeronga\, QLD\, 4104\, Australia
END:VEVENT
BEGIN:VEVENT
DTSTART;TZID=Australia/Brisbane:20241113T083000
DTEND;TZID=Australia/Brisbane:20241113T093000
DTSTAMP:20260424T154749
CREATED:20240624T031622Z
LAST-MODIFIED:20240624T031622Z
UID:27492-1731486600-1731490200@nicolejohnston.com.au
SUMMARY:Yeronga | GOLD Yoga for Mobility
DESCRIPTION:A gentle movement class blended with yoga to improve your strength\, balance and posture. No floor work included. Suitable for all fitness levels. Bring an exercise band. \nNo bookings required. For more information phone Cassie from Foxinsox Yoga on 0431 594 388.
URL:https://nicolejohnston.com.au/event/yeronga-gold-yoga-for-mobility/2024-11-13/
LOCATION:John Walker Place\, 323 Brisbane Corso\, Yeronga\, QLD\, 4104\, Australia
END:VEVENT
BEGIN:VEVENT
DTSTART;TZID=Australia/Brisbane:20241106T083000
DTEND;TZID=Australia/Brisbane:20241106T093000
DTSTAMP:20260424T154749
CREATED:20240624T031622Z
LAST-MODIFIED:20240624T031622Z
UID:27491-1730881800-1730885400@nicolejohnston.com.au
SUMMARY:Yeronga | GOLD Yoga for Mobility
DESCRIPTION:A gentle movement class blended with yoga to improve your strength\, balance and posture. No floor work included. Suitable for all fitness levels. Bring an exercise band. \nNo bookings required. For more information phone Cassie from Foxinsox Yoga on 0431 594 388.
URL:https://nicolejohnston.com.au/event/yeronga-gold-yoga-for-mobility/2024-11-06/
LOCATION:John Walker Place\, 323 Brisbane Corso\, Yeronga\, QLD\, 4104\, Australia
END:VEVENT
BEGIN:VEVENT
DTSTART;TZID=Australia/Brisbane:20241030T083000
DTEND;TZID=Australia/Brisbane:20241030T093000
DTSTAMP:20260424T154749
CREATED:20240624T031622Z
LAST-MODIFIED:20240624T031622Z
UID:27490-1730277000-1730280600@nicolejohnston.com.au
SUMMARY:Yeronga | GOLD Yoga for Mobility
DESCRIPTION:A gentle movement class blended with yoga to improve your strength\, balance and posture. No floor work included. Suitable for all fitness levels. Bring an exercise band. \nNo bookings required. For more information phone Cassie from Foxinsox Yoga on 0431 594 388.
URL:https://nicolejohnston.com.au/event/yeronga-gold-yoga-for-mobility/2024-10-30/
LOCATION:John Walker Place\, 323 Brisbane Corso\, Yeronga\, QLD\, 4104\, Australia
END:VEVENT
BEGIN:VEVENT
DTSTART;TZID=Australia/Brisbane:20241023T083000
DTEND;TZID=Australia/Brisbane:20241023T093000
DTSTAMP:20260424T154749
CREATED:20240624T031622Z
LAST-MODIFIED:20240624T031622Z
UID:27489-1729672200-1729675800@nicolejohnston.com.au
SUMMARY:Yeronga | GOLD Yoga for Mobility
DESCRIPTION:A gentle movement class blended with yoga to improve your strength\, balance and posture. No floor work included. Suitable for all fitness levels. Bring an exercise band. \nNo bookings required. For more information phone Cassie from Foxinsox Yoga on 0431 594 388.
URL:https://nicolejohnston.com.au/event/yeronga-gold-yoga-for-mobility/2024-10-23/
LOCATION:John Walker Place\, 323 Brisbane Corso\, Yeronga\, QLD\, 4104\, Australia
END:VEVENT
BEGIN:VEVENT
DTSTART;TZID=Australia/Brisbane:20241016T083000
DTEND;TZID=Australia/Brisbane:20241016T093000
DTSTAMP:20260424T154749
CREATED:20240624T031622Z
LAST-MODIFIED:20240624T031622Z
UID:27488-1729067400-1729071000@nicolejohnston.com.au
SUMMARY:Yeronga | GOLD Yoga for Mobility
DESCRIPTION:A gentle movement class blended with yoga to improve your strength\, balance and posture. No floor work included. Suitable for all fitness levels. Bring an exercise band. \nNo bookings required. For more information phone Cassie from Foxinsox Yoga on 0431 594 388.
URL:https://nicolejohnston.com.au/event/yeronga-gold-yoga-for-mobility/2024-10-16/
LOCATION:John Walker Place\, 323 Brisbane Corso\, Yeronga\, QLD\, 4104\, Australia
END:VEVENT
BEGIN:VEVENT
DTSTART;TZID=Australia/Brisbane:20241009T083000
DTEND;TZID=Australia/Brisbane:20241009T093000
DTSTAMP:20260424T154749
CREATED:20240624T031622Z
LAST-MODIFIED:20240624T031622Z
UID:27486-1728462600-1728466200@nicolejohnston.com.au
SUMMARY:Yeronga | GOLD Yoga for Mobility
DESCRIPTION:A gentle movement class blended with yoga to improve your strength\, balance and posture. No floor work included. Suitable for all fitness levels. Bring an exercise band. \nNo bookings required. For more information phone Cassie from Foxinsox Yoga on 0431 594 388.
URL:https://nicolejohnston.com.au/event/yeronga-gold-yoga-for-mobility/2024-10-09/
LOCATION:John Walker Place\, 323 Brisbane Corso\, Yeronga\, QLD\, 4104\, Australia
END:VEVENT
BEGIN:VEVENT
DTSTART;TZID=Australia/Brisbane:20241002T083000
DTEND;TZID=Australia/Brisbane:20241002T093000
DTSTAMP:20260424T154749
CREATED:20240624T031622Z
LAST-MODIFIED:20240624T031622Z
UID:27485-1727857800-1727861400@nicolejohnston.com.au
SUMMARY:Yeronga | GOLD Yoga for Mobility
DESCRIPTION:A gentle movement class blended with yoga to improve your strength\, balance and posture. No floor work included. Suitable for all fitness levels. Bring an exercise band. \nNo bookings required. For more information phone Cassie from Foxinsox Yoga on 0431 594 388.
URL:https://nicolejohnston.com.au/event/yeronga-gold-yoga-for-mobility/2024-10-02/
LOCATION:John Walker Place\, 323 Brisbane Corso\, Yeronga\, QLD\, 4104\, Australia
END:VEVENT
BEGIN:VEVENT
DTSTART;TZID=Australia/Brisbane:20240911T083000
DTEND;TZID=Australia/Brisbane:20240911T093000
DTSTAMP:20260424T154749
CREATED:20240624T031622Z
LAST-MODIFIED:20240624T031622Z
UID:27484-1726043400-1726047000@nicolejohnston.com.au
SUMMARY:Yeronga | GOLD Yoga for Mobility
DESCRIPTION:A gentle movement class blended with yoga to improve your strength\, balance and posture. No floor work included. Suitable for all fitness levels. Bring an exercise band. \nNo bookings required. For more information phone Cassie from Foxinsox Yoga on 0431 594 388.
URL:https://nicolejohnston.com.au/event/yeronga-gold-yoga-for-mobility/2024-09-11/
LOCATION:John Walker Place\, 323 Brisbane Corso\, Yeronga\, QLD\, 4104\, Australia
END:VEVENT
BEGIN:VEVENT
DTSTART;TZID=Australia/Brisbane:20240904T083000
DTEND;TZID=Australia/Brisbane:20240904T093000
DTSTAMP:20260424T154749
CREATED:20240624T031622Z
LAST-MODIFIED:20240624T031622Z
UID:27483-1725438600-1725442200@nicolejohnston.com.au
SUMMARY:Yeronga | GOLD Yoga for Mobility
DESCRIPTION:A gentle movement class blended with yoga to improve your strength\, balance and posture. No floor work included. Suitable for all fitness levels. Bring an exercise band. \nNo bookings required. For more information phone Cassie from Foxinsox Yoga on 0431 594 388.
URL:https://nicolejohnston.com.au/event/yeronga-gold-yoga-for-mobility/2024-09-04/
LOCATION:John Walker Place\, 323 Brisbane Corso\, Yeronga\, QLD\, 4104\, Australia
END:VEVENT
BEGIN:VEVENT
DTSTART;TZID=Australia/Brisbane:20240828T083000
DTEND;TZID=Australia/Brisbane:20240828T093000
DTSTAMP:20260424T154749
CREATED:20240624T031622Z
LAST-MODIFIED:20240624T031622Z
UID:27482-1724833800-1724837400@nicolejohnston.com.au
SUMMARY:Yeronga | GOLD Yoga for Mobility
DESCRIPTION:A gentle movement class blended with yoga to improve your strength\, balance and posture. No floor work included. Suitable for all fitness levels. Bring an exercise band. \nNo bookings required. For more information phone Cassie from Foxinsox Yoga on 0431 594 388.
URL:https://nicolejohnston.com.au/event/yeronga-gold-yoga-for-mobility/2024-08-28/
LOCATION:John Walker Place\, 323 Brisbane Corso\, Yeronga\, QLD\, 4104\, Australia
END:VEVENT
BEGIN:VEVENT
DTSTART;TZID=Australia/Brisbane:20240821T083000
DTEND;TZID=Australia/Brisbane:20240821T093000
DTSTAMP:20260424T154749
CREATED:20240624T031622Z
LAST-MODIFIED:20240624T031622Z
UID:27481-1724229000-1724232600@nicolejohnston.com.au
SUMMARY:Yeronga | GOLD Yoga for Mobility
DESCRIPTION:A gentle movement class blended with yoga to improve your strength\, balance and posture. No floor work included. Suitable for all fitness levels. Bring an exercise band. \nNo bookings required. For more information phone Cassie from Foxinsox Yoga on 0431 594 388.
URL:https://nicolejohnston.com.au/event/yeronga-gold-yoga-for-mobility/2024-08-21/
LOCATION:John Walker Place\, 323 Brisbane Corso\, Yeronga\, QLD\, 4104\, Australia
END:VEVENT
BEGIN:VEVENT
DTSTART;TZID=Australia/Brisbane:20240807T083000
DTEND;TZID=Australia/Brisbane:20240807T093000
DTSTAMP:20260424T154749
CREATED:20240624T031622Z
LAST-MODIFIED:20240624T031622Z
UID:27480-1723019400-1723023000@nicolejohnston.com.au
SUMMARY:Yeronga | GOLD Yoga for Mobility
DESCRIPTION:A gentle movement class blended with yoga to improve your strength\, balance and posture. No floor work included. Suitable for all fitness levels. Bring an exercise band. \nNo bookings required. For more information phone Cassie from Foxinsox Yoga on 0431 594 388.
URL:https://nicolejohnston.com.au/event/yeronga-gold-yoga-for-mobility/2024-08-07/
LOCATION:John Walker Place\, 323 Brisbane Corso\, Yeronga\, QLD\, 4104\, Australia
END:VEVENT
BEGIN:VEVENT
DTSTART;TZID=Australia/Brisbane:20240731T083000
DTEND;TZID=Australia/Brisbane:20240731T093000
DTSTAMP:20260424T154749
CREATED:20240624T031622Z
LAST-MODIFIED:20240624T031622Z
UID:27479-1722414600-1722418200@nicolejohnston.com.au
SUMMARY:Yeronga | GOLD Yoga for Mobility
DESCRIPTION:A gentle movement class blended with yoga to improve your strength\, balance and posture. No floor work included. Suitable for all fitness levels. Bring an exercise band. \nNo bookings required. For more information phone Cassie from Foxinsox Yoga on 0431 594 388.
URL:https://nicolejohnston.com.au/event/yeronga-gold-yoga-for-mobility/2024-07-31/
LOCATION:John Walker Place\, 323 Brisbane Corso\, Yeronga\, QLD\, 4104\, Australia
END:VEVENT
BEGIN:VEVENT
DTSTART;TZID=Australia/Brisbane:20240724T083000
DTEND;TZID=Australia/Brisbane:20240724T093000
DTSTAMP:20260424T154749
CREATED:20240624T031622Z
LAST-MODIFIED:20240624T031622Z
UID:27478-1721809800-1721813400@nicolejohnston.com.au
SUMMARY:Yeronga | GOLD Yoga for Mobility
DESCRIPTION:A gentle movement class blended with yoga to improve your strength\, balance and posture. No floor work included. Suitable for all fitness levels. Bring an exercise band. \nNo bookings required. For more information phone Cassie from Foxinsox Yoga on 0431 594 388.
URL:https://nicolejohnston.com.au/event/yeronga-gold-yoga-for-mobility/2024-07-24/
LOCATION:John Walker Place\, 323 Brisbane Corso\, Yeronga\, QLD\, 4104\, Australia
END:VEVENT
BEGIN:VEVENT
DTSTART;TZID=Australia/Brisbane:20240717T083000
DTEND;TZID=Australia/Brisbane:20240717T093000
DTSTAMP:20260424T154749
CREATED:20240624T031622Z
LAST-MODIFIED:20240624T031622Z
UID:27477-1721205000-1721208600@nicolejohnston.com.au
SUMMARY:Yeronga | GOLD Yoga for Mobility
DESCRIPTION:A gentle movement class blended with yoga to improve your strength\, balance and posture. No floor work included. Suitable for all fitness levels. Bring an exercise band. \nNo bookings required. For more information phone Cassie from Foxinsox Yoga on 0431 594 388.
URL:https://nicolejohnston.com.au/event/yeronga-gold-yoga-for-mobility/2024-07-17/
LOCATION:John Walker Place\, 323 Brisbane Corso\, Yeronga\, QLD\, 4104\, Australia
END:VEVENT
BEGIN:VEVENT
DTSTART;TZID=Australia/Brisbane:20240710T083000
DTEND;TZID=Australia/Brisbane:20240710T093000
DTSTAMP:20260424T154749
CREATED:20240624T031622Z
LAST-MODIFIED:20240624T031622Z
UID:27476-1720600200-1720603800@nicolejohnston.com.au
SUMMARY:Yeronga | GOLD Yoga for Mobility
DESCRIPTION:A gentle movement class blended with yoga to improve your strength\, balance and posture. No floor work included. Suitable for all fitness levels. Bring an exercise band. \nNo bookings required. For more information phone Cassie from Foxinsox Yoga on 0431 594 388.
URL:https://nicolejohnston.com.au/event/yeronga-gold-yoga-for-mobility/2024-07-10/
LOCATION:John Walker Place\, 323 Brisbane Corso\, Yeronga\, QLD\, 4104\, Australia
END:VEVENT
BEGIN:VEVENT
DTSTART;TZID=Australia/Brisbane:20230812T140000
DTEND;TZID=Australia/Brisbane:20230812T160000
DTSTAMP:20260424T154749
CREATED:20230801T053625Z
LAST-MODIFIED:20230801T053625Z
UID:26725-1691848800-1691856000@nicolejohnston.com.au
SUMMARY:Yeronga | John Walker Place Outdoor Gym Launch
DESCRIPTION:Pop on your active wear and head on down to John Walker Place\, Brisbane Corso\, Yeronga to celebrate the launch of the new outdoor gym!\nKeen to kick start your fitness goals for free? Join us from 2-4pm on Saturday\, 12 August for:\n\nexpert advice on how to use the new gym equipment from a personal trainer\ngames for the kids\nafternoon tea\n\nProudly presented by Cr Nicole Johnston\, Councillor for Tennyson Ward.
URL:https://nicolejohnston.com.au/event/yeronga-john-walker-place-outdoor-gym-launch/
LOCATION:John Walker Place\, 323 Brisbane Corso\, Yeronga\, QLD\, 4104\, Australia
CATEGORIES:Community Event
ATTACH;FMTTYPE=image/png:https://nicolejohnston.com.au/wp-content/uploads/2023/08/Yeronga-Outdoor-Gym-Launch-2.png
END:VEVENT
BEGIN:VEVENT
DTSTART;TZID=Australia/Brisbane:20230719T083000
DTEND;TZID=Australia/Brisbane:20230719T093000
DTSTAMP:20260424T154749
CREATED:20230627T001426Z
LAST-MODIFIED:20230627T005312Z
UID:26261-1689755400-1689759000@nicolejohnston.com.au
SUMMARY:Yeronga | Tai Chi for Health
DESCRIPTION:Tai Chi for health is slow and gentle\, focusing on deep breathing\, maintaining good posture and circular movements. Everyone welcome. \nThis is a GOLD event suitable for seniors. Meet near the Somerville House Sports and Aquatic Centre on the corner of Cansdale Street. For more information phone CM2 fitness on 0427 626 709.
URL:https://nicolejohnston.com.au/event/yeronga-tai-chi-for-health-2/2023-07-19/
LOCATION:John Walker Place\, 323 Brisbane Corso\, Yeronga\, QLD\, 4104\, Australia
END:VEVENT
END:VCALENDAR