BEGIN:VCALENDAR
VERSION:2.0
PRODID:-//Nicole Johnston - ECPv6.15.20//NONSGML v1.0//EN
CALSCALE:GREGORIAN
METHOD:PUBLISH
X-WR-CALNAME:Nicole Johnston
X-ORIGINAL-URL:https://nicolejohnston.com.au
X-WR-CALDESC:Events for Nicole Johnston
REFRESH-INTERVAL;VALUE=DURATION:PT1H
X-Robots-Tag:noindex
X-PUBLISHED-TTL:PT1H
BEGIN:VTIMEZONE
TZID:Australia/Brisbane
BEGIN:STANDARD
TZOFFSETFROM:+1000
TZOFFSETTO:+1000
TZNAME:AEST
DTSTART:20140101T000000
END:STANDARD
END:VTIMEZONE
BEGIN:VEVENT
DTSTART;TZID=Australia/Brisbane:20160927T110000
DTEND;TZID=Australia/Brisbane:20160927T120000
DTSTAMP:20260424T174156
CREATED:20160913T045101Z
LAST-MODIFIED:20160913T045101Z
UID:10071-1474974000-1474977600@nicolejohnston.com.au
SUMMARY:Tennyson | Dance
DESCRIPTION:Come and learn fun dance routines and have fun and laughter with your friends.
URL:https://nicolejohnston.com.au/event/tennyson-dance/
LOCATION:Ken Fletcher Park\, 27 Softstone St\, Tennyson\, Queensland\, 4105\, Australia
GEO:-27.5260738;153.0052948
X-APPLE-STRUCTURED-LOCATION;VALUE=URI;X-ADDRESS=Ken Fletcher Park 27 Softstone St Tennyson Queensland 4105 Australia;X-APPLE-RADIUS=500;X-TITLE=27 Softstone St:geo:153.0052948,-27.5260738
END:VEVENT
BEGIN:VEVENT
DTSTART;TZID=Australia/Brisbane:20160309T173000
DTEND;TZID=Australia/Brisbane:20160309T183000
DTSTAMP:20260424T174156
CREATED:20160302T134450Z
LAST-MODIFIED:20160302T134450Z
UID:7840-1457544600-1457548200@nicolejohnston.com.au
SUMMARY:Tennyson | Tabata & Cardio
DESCRIPTION:Celebrate the best day of the week with a full body workout.  We will mix strength and cardio exercises in this interval type workout. \nBookings not required.  Please wear appropriate exercise clothes and shoes\, sun protection and bring a water bottle. \nMeet at the amphitheatre.
URL:https://nicolejohnston.com.au/event/tennyson-tabata-cardio/2016-03-09/
LOCATION:Ken Fletcher Park\, 27 Softstone St\, Tennyson\, Queensland\, 4105\, Australia
GEO:-27.5260738;153.0052948
X-APPLE-STRUCTURED-LOCATION;VALUE=URI;X-ADDRESS=Ken Fletcher Park 27 Softstone St Tennyson Queensland 4105 Australia;X-APPLE-RADIUS=500;X-TITLE=27 Softstone St:geo:153.0052948,-27.5260738
END:VEVENT
BEGIN:VEVENT
DTSTART;TZID=Australia/Brisbane:20160202T093000
DTEND;TZID=Australia/Brisbane:20160202T103000
DTSTAMP:20260424T174156
CREATED:20160127T105208Z
LAST-MODIFIED:20160127T105230Z
UID:6194-1454405400-1454409000@nicolejohnston.com.au
SUMMARY:Kinder Dance - Tennyson
DESCRIPTION:Toddlers and preschoolers can enjoy moving to music\, while you watch their confidence grow!  Children will learn different movement patterns and dance moves\, along with plenty of fun dance based games. \nSuitable for ages 2 – 5 years.  Bookings not required. \nPlease wear exercise clothes and shoes and have adequate sun protection and water.
URL:https://nicolejohnston.com.au/event/kinder-dance-tennyson/2016-02-02/
LOCATION:Ken Fletcher Park\, 27 Softstone St\, Tennyson\, Queensland\, 4105\, Australia
GEO:-27.5260738;153.0052948
X-APPLE-STRUCTURED-LOCATION;VALUE=URI;X-ADDRESS=Ken Fletcher Park 27 Softstone St Tennyson Queensland 4105 Australia;X-APPLE-RADIUS=500;X-TITLE=27 Softstone St:geo:153.0052948,-27.5260738
END:VEVENT
BEGIN:VEVENT
DTSTART;TZID=Australia/Brisbane:20160201T153000
DTEND;TZID=Australia/Brisbane:20160201T163000
DTSTAMP:20260424T174156
CREATED:20151228T143447Z
LAST-MODIFIED:20160127T104531Z
UID:6097-1454340600-1454344200@nicolejohnston.com.au
SUMMARY:Street Dance & Hip Hop
DESCRIPTION:What a great way to get the kids active with hip hop and street dance! Parents and friends will enjoy a showcase dance during the final session of the programme. \nBookings not required.  Please wear exercise clothes and shoes\, sun protection and bring a water bottle. \nSuitable for ages 5 – 12 years.
URL:https://nicolejohnston.com.au/event/street-dance-hip-hop/2016-02-01/
LOCATION:Ken Fletcher Park\, 27 Softstone St\, Tennyson\, Queensland\, 4105\, Australia
GEO:-27.5260738;153.0052948
X-APPLE-STRUCTURED-LOCATION;VALUE=URI;X-ADDRESS=Ken Fletcher Park 27 Softstone St Tennyson Queensland 4105 Australia;X-APPLE-RADIUS=500;X-TITLE=27 Softstone St:geo:153.0052948,-27.5260738
END:VEVENT
BEGIN:VEVENT
DTSTART;TZID=Australia/Brisbane:20160129T153000
DTEND;TZID=Australia/Brisbane:20160129T163000
DTSTAMP:20260424T174156
CREATED:20151228T143225Z
LAST-MODIFIED:20160127T104329Z
UID:6096-1454081400-1454085000@nicolejohnston.com.au
SUMMARY:ACTivate Children's Club - Snr
DESCRIPTION:Bookings required.  Sun protection and water bottle also required.  Suitable for children aged 6 – 10 years. \nChildren will get healthy and active\, meet new friends and develop a new skill each week.   Using balls of all shapes and sizes\, hoops\, parachutes\, jumping sacks\, skipping ropes\, music and interactive games\, participants will develop skills in the areas of hand eye coordination\, balance\, flexibility\, cardiovascular fitness\, teamwork and will improve self-esteem.  These sessions will ACT-ivate you and have a strong focus on creativity and fun in a safe\, relaxed and energetic environment.
URL:https://nicolejohnston.com.au/event/activate-childrens-club-snr/2016-01-29/
LOCATION:Ken Fletcher Park\, 27 Softstone St\, Tennyson\, Queensland\, 4105\, Australia
GEO:-27.5260738;153.0052948
X-APPLE-STRUCTURED-LOCATION;VALUE=URI;X-ADDRESS=Ken Fletcher Park 27 Softstone St Tennyson Queensland 4105 Australia;X-APPLE-RADIUS=500;X-TITLE=27 Softstone St:geo:153.0052948,-27.5260738
END:VEVENT
BEGIN:VEVENT
DTSTART;TZID=Australia/Brisbane:20160129T153000
DTEND;TZID=Australia/Brisbane:20160129T163000
DTSTAMP:20260424T174156
CREATED:20151228T143058Z
LAST-MODIFIED:20160127T104412Z
UID:6094-1454081400-1454085000@nicolejohnston.com.au
SUMMARY:ACTivate Children's Club - Jnr
DESCRIPTION:Bookings required.  Sun protection and water bottle also required.  Suitable for children aged 3 – 5 years. \nChildren will get healthy and active\, meet new friends and develop a new skill each week.  Using balls\, hoops\, parachutes\, tunnels\, jumping sacks\, puppets\, storybooks\, costumes and music\, participants will explore all the different ways their growing bodies can move.  These sessions will ACT-ivate the children and their caregivers and have a focus on creativity and fun in a safe\, relaxed and energetic environment.
URL:https://nicolejohnston.com.au/event/activate-childrens-club-jnr/2016-01-29/
LOCATION:Ken Fletcher Park\, 27 Softstone St\, Tennyson\, Queensland\, 4105\, Australia
GEO:-27.5260738;153.0052948
X-APPLE-STRUCTURED-LOCATION;VALUE=URI;X-ADDRESS=Ken Fletcher Park 27 Softstone St Tennyson Queensland 4105 Australia;X-APPLE-RADIUS=500;X-TITLE=27 Softstone St:geo:153.0052948,-27.5260738
END:VEVENT
BEGIN:VEVENT
DTSTART;TZID=Australia/Brisbane:20151108T140000
DTEND;TZID=Australia/Brisbane:20151108T160000
DTSTAMP:20260424T174156
CREATED:20151015T075611Z
LAST-MODIFIED:20151015T075626Z
UID:4490-1446991200-1446998400@nicolejohnston.com.au
SUMMARY:Animalia
DESCRIPTION:Bookings required. \nLions\, tigers and bears – oh my! \nThis interactive dram session will see all the children acting out a range of animals\, exploring animal tongue twisters and dancing to some super fun animal songs. \nSuitable for ages 5 and over. \n 
URL:https://nicolejohnston.com.au/event/animalia/
LOCATION:Ken Fletcher Park\, 27 Softstone St\, Tennyson\, Queensland\, 4105\, Australia
GEO:-27.5260738;153.0052948
X-APPLE-STRUCTURED-LOCATION;VALUE=URI;X-ADDRESS=Ken Fletcher Park 27 Softstone St Tennyson Queensland 4105 Australia;X-APPLE-RADIUS=500;X-TITLE=27 Softstone St:geo:153.0052948,-27.5260738
END:VEVENT
BEGIN:VEVENT
DTSTART;TZID=Australia/Brisbane:20151014T173000
DTEND;TZID=Australia/Brisbane:20151014T183000
DTSTAMP:20260424T174156
CREATED:20150911T105044Z
LAST-MODIFIED:20150911T105549Z
UID:4194-1444843800-1444847400@nicolejohnston.com.au
SUMMARY:Tabata Interval Training
DESCRIPTION:Tibet training is a highly effective type of interval training.  It is flexible to all fitness levels and a great way to get stronger and more toned. \nBookings not required.  Meet at the amphitheatre.
URL:https://nicolejohnston.com.au/event/tabata-interval-training/2015-10-14/
LOCATION:Ken Fletcher Park\, 27 Softstone St\, Tennyson\, Queensland\, 4105\, Australia
GEO:-27.5260738;153.0052948
X-APPLE-STRUCTURED-LOCATION;VALUE=URI;X-ADDRESS=Ken Fletcher Park 27 Softstone St Tennyson Queensland 4105 Australia;X-APPLE-RADIUS=500;X-TITLE=27 Softstone St:geo:153.0052948,-27.5260738
END:VEVENT
BEGIN:VEVENT
DTSTART;TZID=Australia/Brisbane:20150602T093000
DTEND;TZID=Australia/Brisbane:20150602T113000
DTSTAMP:20260424T174156
CREATED:20150511T105317Z
LAST-MODIFIED:20150511T112005Z
UID:2229-1433237400-1433244600@nicolejohnston.com.au
SUMMARY:Lively Lambs Playgroup in the Park
DESCRIPTION:Lively Lambs Playgroup is supported by the Yeronga Community Centre and is open for all families in our community with children. \nOn the first Tuesday of each month\, the group meets in Ken Fletcher Park\, Tennyson.  Every other Tuesday the event is held at Yeronga Community Centre.
URL:https://nicolejohnston.com.au/event/yeronga-playgroup/2015-06-02/
LOCATION:Ken Fletcher Park\, 27 Softstone St\, Tennyson\, Queensland\, 4105\, Australia
ORGANIZER;CN="Yeronga Community Centre":MAILTO:yeronga@communityplus.org.au
GEO:-27.5260738;153.0052948
X-APPLE-STRUCTURED-LOCATION;VALUE=URI;X-ADDRESS=Ken Fletcher Park 27 Softstone St Tennyson Queensland 4105 Australia;X-APPLE-RADIUS=500;X-TITLE=27 Softstone St:geo:153.0052948,-27.5260738
END:VEVENT
END:VCALENDAR