BEGIN:VCALENDAR
VERSION:2.0
PRODID:-//Nicole Johnston - ECPv6.15.20//NONSGML v1.0//EN
CALSCALE:GREGORIAN
METHOD:PUBLISH
X-WR-CALNAME:Nicole Johnston
X-ORIGINAL-URL:https://nicolejohnston.com.au
X-WR-CALDESC:Events for Nicole Johnston
REFRESH-INTERVAL;VALUE=DURATION:PT1H
X-Robots-Tag:noindex
X-PUBLISHED-TTL:PT1H
BEGIN:VTIMEZONE
TZID:Australia/Brisbane
BEGIN:STANDARD
TZOFFSETFROM:+1000
TZOFFSETTO:+1000
TZNAME:AEST
DTSTART:20230101T000000
END:STANDARD
END:VTIMEZONE
BEGIN:VEVENT
DTSTART;TZID=Australia/Brisbane:20260212T070000
DTEND;TZID=Australia/Brisbane:20260212T090000
DTSTAMP:20260424T101821
CREATED:20260119T013218Z
LAST-MODIFIED:20260119T015549Z
UID:31759-1770879600-1770886800@nicolejohnston.com.au
SUMMARY:Oxley | Creekcare: Lawson and Kendall St
DESCRIPTION:OCCA’s CreekCare Team is a roving group of volunteers that assists both OCCA Bushcare and Habitat Brisbane groups in Oxley Creek Catchment. The group meets at different regeneration sites each Thursday morning from 7 am to 9 am. \nCome along and enjoy the company of this hard working group of volunteers\, contribute to the maintenance of some significant sites in the catchment and share in morning tea. \nIf you are interested in being involved\, please contact the coordinator: Trevor Armstrong on 0414 691 264 or trevor.r.armstrong@gmail.com to confirm details of the next group.
URL:https://nicolejohnston.com.au/event/oxley-creekcare-lawson-and-kendall-st/2026-02-12/
LOCATION:Kendall St Canoe Ramp\, Kendall St\, Oxley\, QLD\, 4075\, Australia
ORGANIZER;CN="Lawson and Kendall Street Bushcare Group":MAILTO:rod.goldsworthy@gmail.com
END:VEVENT
BEGIN:VEVENT
DTSTART;TZID=Australia/Brisbane:20241020T090000
DTEND;TZID=Australia/Brisbane:20241020T120000
DTSTAMP:20260424T101821
CREATED:20241010T021514Z
LAST-MODIFIED:20241010T021519Z
UID:28249-1729414800-1729425600@nicolejohnston.com.au
SUMMARY:Oxley | Oxley Creek Paddle Against Plastic by OCCA
DESCRIPTION:Join Oxley Creek Catchment Association and Ocean Crusaders for a Paddle Against Plastic event along Oxley Creek on Sunday 20th of October. Come along to the clean-up – either by renting a craft from Ocean Crusaders (for a small fee) or bringing your own craft (for free).
URL:https://nicolejohnston.com.au/event/oxley-oxley-creek-paddle-against-plastic-by-occa/
LOCATION:Kendall St Canoe Ramp\, Kendall St\, Oxley\, QLD\, 4075\, Australia
CATEGORIES:Community Event
ATTACH;FMTTYPE=image/jpeg:https://nicolejohnston.com.au/wp-content/uploads/2024/10/459190707_812193617793434_5070245634285193956_n.jpg
END:VEVENT
END:VCALENDAR