BEGIN:VCALENDAR
VERSION:2.0
PRODID:-//Nicole Johnston - ECPv6.15.20//NONSGML v1.0//EN
CALSCALE:GREGORIAN
METHOD:PUBLISH
X-WR-CALNAME:Nicole Johnston
X-ORIGINAL-URL:https://nicolejohnston.com.au
X-WR-CALDESC:Events for Nicole Johnston
REFRESH-INTERVAL;VALUE=DURATION:PT1H
X-Robots-Tag:noindex
X-PUBLISHED-TTL:PT1H
BEGIN:VTIMEZONE
TZID:Australia/Brisbane
BEGIN:STANDARD
TZOFFSETFROM:+1000
TZOFFSETTO:+1000
TZNAME:AEST
DTSTART:20140101T000000
END:STANDARD
END:VTIMEZONE
BEGIN:VEVENT
DTSTART;TZID=Australia/Brisbane:20190802T090000
DTEND;TZID=Australia/Brisbane:20190802T210000
DTSTAMP:20260424T181310
CREATED:20190726T062247Z
LAST-MODIFIED:20190726T062248Z
UID:19177-1564736400-1564779600@nicolejohnston.com.au
SUMMARY:Link Vision Op Shop Bonanza
DESCRIPTION:
URL:https://nicolejohnston.com.au/event/link-vision-op-shop-bonanza/
LOCATION:King George Square\, 100 Adelaide St\, Brisbane\, Qld\, 4000\, Australia
GEO:-27.468425;153.024201
X-APPLE-STRUCTURED-LOCATION;VALUE=URI;X-ADDRESS=King George Square 100 Adelaide St Brisbane Qld 4000 Australia;X-APPLE-RADIUS=500;X-TITLE=100 Adelaide St:geo:153.024201,-27.468425
END:VEVENT
BEGIN:VEVENT
DTSTART;TZID=Australia/Brisbane:20151127T183000
DTEND;TZID=Australia/Brisbane:20151127T210000
DTSTAMP:20260424T181310
CREATED:20151109T120642Z
LAST-MODIFIED:20151109T120642Z
UID:4755-1448649000-1448658000@nicolejohnston.com.au
SUMMARY:Lighting Brisbane City Christmas Tree
DESCRIPTION:Gather in King George Square for the much-loved tradition of the lighting the Brisbane City Christmas Tree. Join Santa and special guests to welcome the festive season by illuminating Queensland’s largest solar-powered Christmas tree. Soak up the festive cheer with a host of Christmas carols on the night and a special Christmas performance. The tree will light up The City sky every night until Christmas Eve\, so make sure you visit King George Square to enjoy the beautiful sight! \nPresented by Brisbane City Council and Brisbane Marketing. \nMedia Sponsor: Channel 9.
URL:https://nicolejohnston.com.au/event/lighting-brisbane-city-christmas-tree/
LOCATION:King George Square\, 100 Adelaide St\, Brisbane\, Qld\, 4000\, Australia
GEO:-27.468425;153.024201
X-APPLE-STRUCTURED-LOCATION;VALUE=URI;X-ADDRESS=King George Square 100 Adelaide St Brisbane Qld 4000 Australia;X-APPLE-RADIUS=500;X-TITLE=100 Adelaide St:geo:153.024201,-27.468425
END:VEVENT
END:VCALENDAR