BEGIN:VCALENDAR
VERSION:2.0
PRODID:-//Nicole Johnston - ECPv6.15.20//NONSGML v1.0//EN
CALSCALE:GREGORIAN
METHOD:PUBLISH
X-ORIGINAL-URL:https://nicolejohnston.com.au
X-WR-CALDESC:Events for Nicole Johnston
REFRESH-INTERVAL;VALUE=DURATION:PT1H
X-Robots-Tag:noindex
X-PUBLISHED-TTL:PT1H
BEGIN:VTIMEZONE
TZID:Australia/Brisbane
BEGIN:STANDARD
TZOFFSETFROM:+1000
TZOFFSETTO:+1000
TZNAME:AEST
DTSTART:20150101T000000
END:STANDARD
END:VTIMEZONE
BEGIN:VEVENT
DTSTART;TZID=Australia/Brisbane:20161109T181500
DTEND;TZID=Australia/Brisbane:20161109T201500
DTSTAMP:20260424T220406
CREATED:20161028T034835Z
LAST-MODIFIED:20161028T034835Z
UID:10592-1478715300-1478722500@nicolejohnston.com.au
SUMMARY:Yeronga | Evening Orienteering
DESCRIPTION:Evening orienteering course through parkland and streets.  Bring a torch and some water.
URL:https://nicolejohnston.com.au/event/yeronga-evening-orienteering/
LOCATION:Leyshon Park\, 230 Brisbane Corso\, Yeronga\, Qld\, 4104\, Australia
GEO:-27.5080247;153.0133175
X-APPLE-STRUCTURED-LOCATION;VALUE=URI;X-ADDRESS=Leyshon Park 230 Brisbane Corso Yeronga Qld 4104 Australia;X-APPLE-RADIUS=500;X-TITLE=230 Brisbane Corso:geo:153.0133175,-27.5080247
END:VEVENT
END:VCALENDAR