BEGIN:VCALENDAR
VERSION:2.0
PRODID:-//Nicole Johnston - ECPv6.15.20//NONSGML v1.0//EN
CALSCALE:GREGORIAN
METHOD:PUBLISH
X-WR-CALNAME:Nicole Johnston
X-ORIGINAL-URL:https://nicolejohnston.com.au
X-WR-CALDESC:Events for Nicole Johnston
REFRESH-INTERVAL;VALUE=DURATION:PT1H
X-Robots-Tag:noindex
X-PUBLISHED-TTL:PT1H
BEGIN:VTIMEZONE
TZID:Australia/Brisbane
BEGIN:STANDARD
TZOFFSETFROM:+1000
TZOFFSETTO:+1000
TZNAME:AEST
DTSTART:20170101T000000
END:STANDARD
END:VTIMEZONE
BEGIN:VEVENT
DTSTART;TZID=Australia/Brisbane:20181201T090000
DTEND;TZID=Australia/Brisbane:20181201T160000
DTSTAMP:20260424T195154
CREATED:20181122T043006Z
LAST-MODIFIED:20181122T043006Z
UID:18129-1543654800-1543680000@nicolejohnston.com.au
SUMMARY:Fairfield | Op Shop Bonanza
DESCRIPTION:
URL:https://nicolejohnston.com.au/event/fairfield-op-shop-bonanza/
LOCATION:Link Vision\, 10 Cameron St\, Fairfield\, Qld\, 4103\, Australia
END:VEVENT
END:VCALENDAR