BEGIN:VCALENDAR
VERSION:2.0
PRODID:-//Nicole Johnston - ECPv6.15.20//NONSGML v1.0//EN
CALSCALE:GREGORIAN
METHOD:PUBLISH
X-WR-CALNAME:Nicole Johnston
X-ORIGINAL-URL:https://nicolejohnston.com.au
X-WR-CALDESC:Events for Nicole Johnston
REFRESH-INTERVAL;VALUE=DURATION:PT1H
X-Robots-Tag:noindex
X-PUBLISHED-TTL:PT1H
BEGIN:VTIMEZONE
TZID:Australia/Brisbane
BEGIN:STANDARD
TZOFFSETFROM:+1000
TZOFFSETTO:+1000
TZNAME:AEST
DTSTART:20140101T000000
END:STANDARD
END:VTIMEZONE
BEGIN:VEVENT
DTSTART;TZID=Australia/Brisbane:20170826T080000
DTEND;TZID=Australia/Brisbane:20170826T150000
DTSTAMP:20260424T195506
CREATED:20170703T231519Z
LAST-MODIFIED:20170703T231519Z
UID:13006-1503734400-1503759600@nicolejohnston.com.au
SUMMARY:Mary Immaculate Primary School Multicultural Festival
DESCRIPTION:
URL:https://nicolejohnston.com.au/event/mary-immaculate-primary-school-multicultural-festival/
LOCATION:Mary Immaculate Primary School\, 616 Ipswich Road\, ANNERLEY\, Qld\, 4103\, Australia
GEO:-27.516269;153.030431
X-APPLE-STRUCTURED-LOCATION;VALUE=URI;X-ADDRESS=Mary Immaculate Primary School 616 Ipswich Road ANNERLEY Qld 4103 Australia;X-APPLE-RADIUS=500;X-TITLE=616 Ipswich Road:geo:153.030431,-27.516269
END:VEVENT
BEGIN:VEVENT
DTSTART;TZID=Australia/Brisbane:20150905T110000
DTEND;TZID=Australia/Brisbane:20150905T150000
DTSTAMP:20260424T195506
CREATED:20150904T024603Z
LAST-MODIFIED:20150904T024603Z
UID:3830-1441450800-1441465200@nicolejohnston.com.au
SUMMARY:Mary Immaculate's Multicultural Festival
DESCRIPTION:Entertainment ~ Food ~ Bar ~ Cake Stalls
URL:https://nicolejohnston.com.au/event/mary-immaculates-multicultural-festival/
LOCATION:Mary Immaculate Primary School\, 616 Ipswich Road\, ANNERLEY\, Qld\, 4103\, Australia
GEO:-27.516269;153.030431
X-APPLE-STRUCTURED-LOCATION;VALUE=URI;X-ADDRESS=Mary Immaculate Primary School 616 Ipswich Road ANNERLEY Qld 4103 Australia;X-APPLE-RADIUS=500;X-TITLE=616 Ipswich Road:geo:153.030431,-27.516269
END:VEVENT
END:VCALENDAR