BEGIN:VCALENDAR
VERSION:2.0
PRODID:-//Nicole Johnston - ECPv6.15.20//NONSGML v1.0//EN
CALSCALE:GREGORIAN
METHOD:PUBLISH
X-ORIGINAL-URL:https://nicolejohnston.com.au
X-WR-CALDESC:Events for Nicole Johnston
REFRESH-INTERVAL;VALUE=DURATION:PT1H
X-Robots-Tag:noindex
X-PUBLISHED-TTL:PT1H
BEGIN:VTIMEZONE
TZID:Australia/Brisbane
BEGIN:STANDARD
TZOFFSETFROM:+1000
TZOFFSETTO:+1000
TZNAME:AEST
DTSTART:20240101T000000
END:STANDARD
END:VTIMEZONE
BEGIN:VEVENT
DTSTART;TZID=Australia/Brisbane:20260423T090000
DTEND;TZID=Australia/Brisbane:20260423T100000
DTSTAMP:20260424T075959
CREATED:20260302T043041Z
LAST-MODIFIED:20260302T043041Z
UID:32176-1776934800-1776938400@nicolejohnston.com.au
SUMMARY:Oxley | Mums and Bubs Yoga
DESCRIPTION:A mum and bubs yoga class to connect with yourself\, your baby and others. Designed to support you post-natally with gentle stretching and strengthening practices and breathing exercises. BYO exercise mat. \nNo bookings required. For more information phone Nichola on 0406 574 454.
URL:https://nicolejohnston.com.au/event/oxley-mums-and-bubs-yoga-35/
LOCATION:Nixon Park\, 929 Oxley Road\, OXLEY\, QLD\, 4075\, Australia
GEO:-27.552171;152.9789711
X-APPLE-STRUCTURED-LOCATION;VALUE=URI;X-ADDRESS=Nixon Park 929 Oxley Road OXLEY QLD 4075 Australia;X-APPLE-RADIUS=500;X-TITLE=929 Oxley Road:geo:152.9789711,-27.552171
END:VEVENT
BEGIN:VEVENT
DTSTART;TZID=Australia/Brisbane:20260413T154000
DTEND;TZID=Australia/Brisbane:20260413T162500
DTSTAMP:20260424T075959
CREATED:20260129T021944Z
LAST-MODIFIED:20260129T021944Z
UID:32074-1776094800-1776097500@nicolejohnston.com.au
SUMMARY:Oxley | Fun Soccer for 9-12 Years
DESCRIPTION:Bookings essential. This program offers an engaging and fun introduction to soccer. It’s designed to develop fundamental soccer skills such as dribbling\, passing\, shooting\, and teamwork\, while also emphasising the importance of sportsmanship and fair play. This is a Chillout event suitable for young people 9-12 years. \nTo book visit Quest Football Academy. For more information email us at info@questfa.com.au.
URL:https://nicolejohnston.com.au/event/oxley-fun-soccer-for-9-12-years-3/
LOCATION:Nixon Park\, 929 Oxley Road\, OXLEY\, QLD\, 4075\, Australia
GEO:-27.552171;152.9789711
X-APPLE-STRUCTURED-LOCATION;VALUE=URI;X-ADDRESS=Nixon Park 929 Oxley Road OXLEY QLD 4075 Australia;X-APPLE-RADIUS=500;X-TITLE=929 Oxley Road:geo:152.9789711,-27.552171
END:VEVENT
BEGIN:VEVENT
DTSTART;TZID=Australia/Brisbane:20260413T150500
DTEND;TZID=Australia/Brisbane:20260413T153500
DTSTAMP:20260424T075959
CREATED:20260129T021846Z
LAST-MODIFIED:20260129T021846Z
UID:32072-1776092700-1776094500@nicolejohnston.com.au
SUMMARY:Oxley | Fun Soccer for 7-8 Years
DESCRIPTION:Bookings essential. This program offers an engaging and fun introduction to soccer. It’s designed to develop fundamental soccer skills such as dribbling\, passing\, shooting\, and teamwork\, while also emphasising the importance of sportsmanship and fair play. This is a Chillout event suitable for young people 7-8 years. \nTo book visit Quest Football Academy. For more information email us at info@questfa.com.au.
URL:https://nicolejohnston.com.au/event/oxley-fun-soccer-for-7-8-years-2/
LOCATION:Nixon Park\, 929 Oxley Road\, OXLEY\, QLD\, 4075\, Australia
GEO:-27.552171;152.9789711
X-APPLE-STRUCTURED-LOCATION;VALUE=URI;X-ADDRESS=Nixon Park 929 Oxley Road OXLEY QLD 4075 Australia;X-APPLE-RADIUS=500;X-TITLE=929 Oxley Road:geo:152.9789711,-27.552171
END:VEVENT
BEGIN:VEVENT
DTSTART;TZID=Australia/Brisbane:20260413T143000
DTEND;TZID=Australia/Brisbane:20260413T150000
DTSTAMP:20260424T075959
CREATED:20260129T021743Z
LAST-MODIFIED:20260129T021743Z
UID:32070-1776090600-1776092400@nicolejohnston.com.au
SUMMARY:Oxley | Fun Soccer for 5-6 Years
DESCRIPTION:Bookings essential. This program offers an engaging and fun introduction to soccer. It’s designed to develop fundamental soccer skills such as dribbling\, passing\, shooting\, and teamwork\, while also emphasising the importance of sportsmanship and fair play. This is a Chillout event suitable for young people 5-6 years. \nTo book visit Quest Football Academy. For more information email us at info@questfa.com.au. \nOn the grassed area near the playground.
URL:https://nicolejohnston.com.au/event/oxley-fun-soccer-for-5-6-years-2/
LOCATION:Nixon Park\, 929 Oxley Road\, OXLEY\, QLD\, 4075\, Australia
GEO:-27.552171;152.9789711
X-APPLE-STRUCTURED-LOCATION;VALUE=URI;X-ADDRESS=Nixon Park 929 Oxley Road OXLEY QLD 4075 Australia;X-APPLE-RADIUS=500;X-TITLE=929 Oxley Road:geo:152.9789711,-27.552171
END:VEVENT
BEGIN:VEVENT
DTSTART;TZID=Australia/Brisbane:20260319T090000
DTEND;TZID=Australia/Brisbane:20260319T100000
DTSTAMP:20260424T075959
CREATED:20260129T013248Z
LAST-MODIFIED:20260129T013248Z
UID:32024-1773910800-1773914400@nicolejohnston.com.au
SUMMARY:Oxley | Mums and Bubs Yoga
DESCRIPTION:A mum and bubs yoga class to connect with yourself\, your baby and others. Designed to support you post-natally with gentle stretching and strengthening practices and breathing exercises. \nNo bookings required. For more information phone Nichola on 0406 574 454.
URL:https://nicolejohnston.com.au/event/oxley-mums-and-bubs-yoga-34/
LOCATION:Nixon Park\, 929 Oxley Road\, OXLEY\, QLD\, 4075\, Australia
GEO:-27.552171;152.9789711
X-APPLE-STRUCTURED-LOCATION;VALUE=URI;X-ADDRESS=Nixon Park 929 Oxley Road OXLEY QLD 4075 Australia;X-APPLE-RADIUS=500;X-TITLE=929 Oxley Road:geo:152.9789711,-27.552171
END:VEVENT
BEGIN:VEVENT
DTSTART;TZID=Australia/Brisbane:20260312T090000
DTEND;TZID=Australia/Brisbane:20260312T100000
DTSTAMP:20260424T075959
CREATED:20260129T002438Z
LAST-MODIFIED:20260129T002438Z
UID:31992-1773306000-1773309600@nicolejohnston.com.au
SUMMARY:Oxley | Mums and Bubs Yoga
DESCRIPTION:A mum and bubs yoga class to connect with yourself\, your baby and others. Designed to support you post-natally with gentle stretching and strengthening practices and breathing exercises. \nNo bookings required. For more information phone Nichola on 0406 574 454. BYO exercise mat.
URL:https://nicolejohnston.com.au/event/oxley-mums-and-bubs-yoga-33/
LOCATION:Nixon Park\, 929 Oxley Road\, OXLEY\, QLD\, 4075\, Australia
GEO:-27.552171;152.9789711
X-APPLE-STRUCTURED-LOCATION;VALUE=URI;X-ADDRESS=Nixon Park 929 Oxley Road OXLEY QLD 4075 Australia;X-APPLE-RADIUS=500;X-TITLE=929 Oxley Road:geo:152.9789711,-27.552171
END:VEVENT
BEGIN:VEVENT
DTSTART;TZID=Australia/Brisbane:20260305T090000
DTEND;TZID=Australia/Brisbane:20260305T100000
DTSTAMP:20260424T075959
CREATED:20260128T234233Z
LAST-MODIFIED:20260128T234233Z
UID:31962-1772701200-1772704800@nicolejohnston.com.au
SUMMARY:Oxley | Mums and Bubs Yoga
DESCRIPTION:A mum and bubs yoga class to connect with yourself\, your baby and others. Designed to support you post-natally with gentle stretching and strengthening practices and breathing exercises. \nNo bookings required. For more information phone Nichola on 0406 574 454.
URL:https://nicolejohnston.com.au/event/oxley-mums-and-bubs-yoga-32/
LOCATION:Nixon Park\, 929 Oxley Road\, OXLEY\, QLD\, 4075\, Australia
GEO:-27.552171;152.9789711
X-APPLE-STRUCTURED-LOCATION;VALUE=URI;X-ADDRESS=Nixon Park 929 Oxley Road OXLEY QLD 4075 Australia;X-APPLE-RADIUS=500;X-TITLE=929 Oxley Road:geo:152.9789711,-27.552171
END:VEVENT
BEGIN:VEVENT
DTSTART;TZID=Australia/Brisbane:20260226T090000
DTEND;TZID=Australia/Brisbane:20260226T100000
DTSTAMP:20260424T075959
CREATED:20260107T043255Z
LAST-MODIFIED:20260107T043255Z
UID:31635-1772096400-1772100000@nicolejohnston.com.au
SUMMARY:Oxley | Mums and Bubs Yoga
DESCRIPTION:A mum and bubs yoga class to connect with yourself\, your baby and others. Designed to support you post-natally with gentle stretching and strengthening practices and breathing exercises. \nNo bookings required. For more information phone Nichola on 0406 574 454. \nBYO exercise mat.
URL:https://nicolejohnston.com.au/event/oxley-mums-and-bubs-yoga-31/
LOCATION:Nixon Park\, 929 Oxley Road\, OXLEY\, QLD\, 4075\, Australia
GEO:-27.552171;152.9789711
X-APPLE-STRUCTURED-LOCATION;VALUE=URI;X-ADDRESS=Nixon Park 929 Oxley Road OXLEY QLD 4075 Australia;X-APPLE-RADIUS=500;X-TITLE=929 Oxley Road:geo:152.9789711,-27.552171
END:VEVENT
BEGIN:VEVENT
DTSTART;TZID=Australia/Brisbane:20260219T090000
DTEND;TZID=Australia/Brisbane:20260219T100000
DTSTAMP:20260424T075959
CREATED:20260107T034340Z
LAST-MODIFIED:20260107T034340Z
UID:31591-1771491600-1771495200@nicolejohnston.com.au
SUMMARY:Oxley | Mums and Bubs Yoga
DESCRIPTION:A mum and bubs yoga class to connect with yourself\, your baby and others. Designed to support you post-natally with gentle stretching and strengthening practices and breathing exercises. \nNo bookings required. For more information phone Nichola on 0406 574 454.
URL:https://nicolejohnston.com.au/event/oxley-mums-and-bubs-yoga-30/
LOCATION:Nixon Park\, 929 Oxley Road\, OXLEY\, QLD\, 4075\, Australia
GEO:-27.552171;152.9789711
X-APPLE-STRUCTURED-LOCATION;VALUE=URI;X-ADDRESS=Nixon Park 929 Oxley Road OXLEY QLD 4075 Australia;X-APPLE-RADIUS=500;X-TITLE=929 Oxley Road:geo:152.9789711,-27.552171
END:VEVENT
BEGIN:VEVENT
DTSTART;TZID=Australia/Brisbane:20260212T090000
DTEND;TZID=Australia/Brisbane:20260212T100000
DTSTAMP:20260424T075959
CREATED:20260107T030813Z
LAST-MODIFIED:20260107T030813Z
UID:31547-1770886800-1770890400@nicolejohnston.com.au
SUMMARY:Oxley | Mums and Bubs Yoga
DESCRIPTION:A mum and bubs yoga class to connect with yourself\, your baby and others. Designed to support you post-natally with gentle stretching and strengthening practices and breathing exercises. \nNo bookings required. For more information phone Nichola on 0406 574 454. \nBYO exercise mat.
URL:https://nicolejohnston.com.au/event/oxley-mums-and-bubs-yoga-29/
LOCATION:Nixon Park\, 929 Oxley Road\, OXLEY\, QLD\, 4075\, Australia
GEO:-27.552171;152.9789711
X-APPLE-STRUCTURED-LOCATION;VALUE=URI;X-ADDRESS=Nixon Park 929 Oxley Road OXLEY QLD 4075 Australia;X-APPLE-RADIUS=500;X-TITLE=929 Oxley Road:geo:152.9789711,-27.552171
END:VEVENT
BEGIN:VEVENT
DTSTART;TZID=Australia/Brisbane:20260205T090000
DTEND;TZID=Australia/Brisbane:20260205T100000
DTSTAMP:20260424T075959
CREATED:20260107T020328Z
LAST-MODIFIED:20260107T020328Z
UID:31505-1770282000-1770285600@nicolejohnston.com.au
SUMMARY:Oxley | Mums and Bubs Yoga
DESCRIPTION:A mum and bubs yoga class to connect with yourself\, your baby and others. Designed to support you post-natally with gentle stretching and strengthening practices and breathing exercises. \nNo bookings required. For more information phone Nichola on 0406 574 454. \nBYO exercise mat.
URL:https://nicolejohnston.com.au/event/oxley-mums-and-bubs-yoga-28/
LOCATION:Nixon Park\, 929 Oxley Road\, OXLEY\, QLD\, 4075\, Australia
GEO:-27.552171;152.9789711
X-APPLE-STRUCTURED-LOCATION;VALUE=URI;X-ADDRESS=Nixon Park 929 Oxley Road OXLEY QLD 4075 Australia;X-APPLE-RADIUS=500;X-TITLE=929 Oxley Road:geo:152.9789711,-27.552171
END:VEVENT
BEGIN:VEVENT
DTSTART;TZID=Australia/Brisbane:20260129T090000
DTEND;TZID=Australia/Brisbane:20260129T100000
DTSTAMP:20260424T075959
CREATED:20251125T031622Z
LAST-MODIFIED:20251125T031622Z
UID:31449-1769677200-1769680800@nicolejohnston.com.au
SUMMARY:Oxley | Mums and Bubs Yoga
DESCRIPTION:A mum and bubs yoga class to connect with yourself\, your baby and others. Designed to support you post-natally with gentle stretching and strengthening practices and breathing exercises. \nNo bookings required. For more information phone Nichola on 0406 574 454. \nBYO exercise mat.
URL:https://nicolejohnston.com.au/event/oxley-mums-and-bubs-yoga-27/
LOCATION:Nixon Park\, 929 Oxley Road\, OXLEY\, QLD\, 4075\, Australia
GEO:-27.552171;152.9789711
X-APPLE-STRUCTURED-LOCATION;VALUE=URI;X-ADDRESS=Nixon Park 929 Oxley Road OXLEY QLD 4075 Australia;X-APPLE-RADIUS=500;X-TITLE=929 Oxley Road:geo:152.9789711,-27.552171
END:VEVENT
BEGIN:VEVENT
DTSTART;TZID=Australia/Brisbane:20260119T154000
DTEND;TZID=Australia/Brisbane:20260119T162500
DTSTAMP:20260424T075959
CREATED:20251125T030958Z
LAST-MODIFIED:20251125T030958Z
UID:31443-1768837200-1768839900@nicolejohnston.com.au
SUMMARY:Oxley | Fun Soccer for 9-12 Years
DESCRIPTION:This program offers an engaging and fun introduction to soccer. It’s designed to develop fundamental soccer skills such as dribbling\, passing\, shooting\, and teamwork\, while also emphasising the importance of sportsmanship and fair play. This is a Chillout event suitable for young people 9-12 years. \nBookings essential. To book visit Quest Football Academy. For more information email us at info@questfa.com.au.
URL:https://nicolejohnston.com.au/event/oxley-fun-soccer-for-9-12-years-2/
LOCATION:Nixon Park\, 929 Oxley Road\, OXLEY\, QLD\, 4075\, Australia
GEO:-27.552171;152.9789711
X-APPLE-STRUCTURED-LOCATION;VALUE=URI;X-ADDRESS=Nixon Park 929 Oxley Road OXLEY QLD 4075 Australia;X-APPLE-RADIUS=500;X-TITLE=929 Oxley Road:geo:152.9789711,-27.552171
END:VEVENT
BEGIN:VEVENT
DTSTART;TZID=Australia/Brisbane:20260119T150500
DTEND;TZID=Australia/Brisbane:20260119T153500
DTSTAMP:20260424T075959
CREATED:20251125T030852Z
LAST-MODIFIED:20251125T030852Z
UID:31441-1768835100-1768836900@nicolejohnston.com.au
SUMMARY:Oxley | Fun Soccer for 7-8 years
DESCRIPTION:This program offers an engaging and fun introduction to soccer. It’s designed to develop fundamental soccer skills such as dribbling\, passing\, shooting\, and teamwork\, while also emphasising the importance of sportsmanship and fair play. This is a Chillout event suitable for young people 7-8 years. \nBookings essential. To book visit Quest Football Academy. For more information email us at info@questfa.com.au.
URL:https://nicolejohnston.com.au/event/oxley-fun-soccer-for-7-8-years/
LOCATION:Nixon Park\, 929 Oxley Road\, OXLEY\, QLD\, 4075\, Australia
GEO:-27.552171;152.9789711
X-APPLE-STRUCTURED-LOCATION;VALUE=URI;X-ADDRESS=Nixon Park 929 Oxley Road OXLEY QLD 4075 Australia;X-APPLE-RADIUS=500;X-TITLE=929 Oxley Road:geo:152.9789711,-27.552171
END:VEVENT
BEGIN:VEVENT
DTSTART;TZID=Australia/Brisbane:20260119T143000
DTEND;TZID=Australia/Brisbane:20260119T150000
DTSTAMP:20260424T075959
CREATED:20251125T030754Z
LAST-MODIFIED:20251125T030754Z
UID:31439-1768833000-1768834800@nicolejohnston.com.au
SUMMARY:Oxley | Fun Soccer for 5-6 years
DESCRIPTION:This program offers an engaging and fun introduction to soccer. It’s designed to develop fundamental soccer skills such as dribbling\, passing\, shooting\, and teamwork\, while also emphasising the importance of sportsmanship and fair play. This is a Chillout event suitable for young people 5-6 years. \nBookings essential. To book visit Quest Football Academy. For more information email us at info@questfa.com.au.
URL:https://nicolejohnston.com.au/event/oxley-fun-soccer-for-5-6-years/
LOCATION:Nixon Park\, 929 Oxley Road\, OXLEY\, QLD\, 4075\, Australia
GEO:-27.552171;152.9789711
X-APPLE-STRUCTURED-LOCATION;VALUE=URI;X-ADDRESS=Nixon Park 929 Oxley Road OXLEY QLD 4075 Australia;X-APPLE-RADIUS=500;X-TITLE=929 Oxley Road:geo:152.9789711,-27.552171
END:VEVENT
BEGIN:VEVENT
DTSTART;TZID=Australia/Brisbane:20260113T160500
DTEND;TZID=Australia/Brisbane:20260113T163500
DTSTAMP:20260424T075959
CREATED:20251125T030649Z
LAST-MODIFIED:20251125T030649Z
UID:31437-1768320300-1768322100@nicolejohnston.com.au
SUMMARY:Oxley | GOLD'n'Kids Fun Soccer
DESCRIPTION:Watch the kids enjoy exciting soccer activities and games! Grandparents are welcome to participate in the gentle\, low-impact activities. Whether you’re cheering from the sidelines or playing alongside them\, it’s all about making memories together! This is a GOLD’n’Kids event suitable for seniors and young people 6-7 years. \nBookings essential. To book visit Ginger Sport. For more information email us at info@gingersport.com.au.
URL:https://nicolejohnston.com.au/event/oxley-goldnkids-fun-soccer-4/
LOCATION:Nixon Park\, 929 Oxley Road\, OXLEY\, QLD\, 4075\, Australia
GEO:-27.552171;152.9789711
X-APPLE-STRUCTURED-LOCATION;VALUE=URI;X-ADDRESS=Nixon Park 929 Oxley Road OXLEY QLD 4075 Australia;X-APPLE-RADIUS=500;X-TITLE=929 Oxley Road:geo:152.9789711,-27.552171
END:VEVENT
BEGIN:VEVENT
DTSTART;TZID=Australia/Brisbane:20260113T153000
DTEND;TZID=Australia/Brisbane:20260113T160000
DTSTAMP:20260424T075959
CREATED:20251125T030435Z
LAST-MODIFIED:20251125T030435Z
UID:31435-1768318200-1768320000@nicolejohnston.com.au
SUMMARY:Oxley | GOLD'n'Kids Fun Soccer
DESCRIPTION:Watch the kids enjoy exciting soccer activities and games! Grandparents are welcome to participate in the gentle\, low-impact activities. Whether you’re cheering from the sidelines or playing alongside them\, it’s all about making memories together! This is a GOLD’n’Kids event suitable for seniors and young people 4-5 years. \nTo book visit Ginger Sport. For more information email us at info@gingersport.com.au.
URL:https://nicolejohnston.com.au/event/oxley-goldnkids-fun-soccer-3/
LOCATION:Nixon Park\, 929 Oxley Road\, OXLEY\, QLD\, 4075\, Australia
GEO:-27.552171;152.9789711
X-APPLE-STRUCTURED-LOCATION;VALUE=URI;X-ADDRESS=Nixon Park 929 Oxley Road OXLEY QLD 4075 Australia;X-APPLE-RADIUS=500;X-TITLE=929 Oxley Road:geo:152.9789711,-27.552171
END:VEVENT
BEGIN:VEVENT
DTSTART;TZID=Australia/Brisbane:20251211T090000
DTEND;TZID=Australia/Brisbane:20251211T100000
DTSTAMP:20260424T075959
CREATED:20251120T054927Z
LAST-MODIFIED:20251120T054927Z
UID:31410-1765443600-1765447200@nicolejohnston.com.au
SUMMARY:Oxley | Mums and Bubs Yoga
DESCRIPTION:A mum and bubs yoga class to connect with yourself\, your baby and others. Designed to support you post-natally with gentle stretching and strengthening practices and breathing exercises. \nNo bookings required. For more information phone Nichola on 0406 574 454.
URL:https://nicolejohnston.com.au/event/oxley-mums-and-bubs-yoga-26/
LOCATION:Nixon Park\, 929 Oxley Road\, OXLEY\, QLD\, 4075\, Australia
GEO:-27.552171;152.9789711
X-APPLE-STRUCTURED-LOCATION;VALUE=URI;X-ADDRESS=Nixon Park 929 Oxley Road OXLEY QLD 4075 Australia;X-APPLE-RADIUS=500;X-TITLE=929 Oxley Road:geo:152.9789711,-27.552171
END:VEVENT
BEGIN:VEVENT
DTSTART;TZID=Australia/Brisbane:20251204T090000
DTEND;TZID=Australia/Brisbane:20251204T100000
DTSTAMP:20260424T075959
CREATED:20251120T052518Z
LAST-MODIFIED:20251120T052518Z
UID:31382-1764838800-1764842400@nicolejohnston.com.au
SUMMARY:Oxley | Mums and Bubs Yoga
DESCRIPTION:A mum and bubs yoga class to connect with yourself\, your baby and others. Designed to support you post-natally with gentle stretching and strengthening practices and breathing exercises. \nNo bookings required. For more information phone Nichola on 0406 574 454. \nBYO exercise mat.
URL:https://nicolejohnston.com.au/event/oxley-mums-and-bubs-yoga-25/
LOCATION:Nixon Park\, 929 Oxley Road\, OXLEY\, QLD\, 4075\, Australia
GEO:-27.552171;152.9789711
X-APPLE-STRUCTURED-LOCATION;VALUE=URI;X-ADDRESS=Nixon Park 929 Oxley Road OXLEY QLD 4075 Australia;X-APPLE-RADIUS=500;X-TITLE=929 Oxley Road:geo:152.9789711,-27.552171
END:VEVENT
BEGIN:VEVENT
DTSTART;TZID=Australia/Brisbane:20251127T090000
DTEND;TZID=Australia/Brisbane:20251127T100000
DTSTAMP:20260424T075959
CREATED:20251120T050038Z
LAST-MODIFIED:20251120T050038Z
UID:31354-1764234000-1764237600@nicolejohnston.com.au
SUMMARY:Oxley | Mums and Bubs Yoga
DESCRIPTION:A mum and bubs yoga class to connect with yourself\, your baby and others. Designed to support you post-natally with gentle stretching and strengthening practices and breathing exercises. \nNo bookings required. For more information phone Nichola on 0406 574 454.
URL:https://nicolejohnston.com.au/event/oxley-mums-and-bubs-yoga-24/
LOCATION:Nixon Park\, 929 Oxley Road\, OXLEY\, QLD\, 4075\, Australia
GEO:-27.552171;152.9789711
X-APPLE-STRUCTURED-LOCATION;VALUE=URI;X-ADDRESS=Nixon Park 929 Oxley Road OXLEY QLD 4075 Australia;X-APPLE-RADIUS=500;X-TITLE=929 Oxley Road:geo:152.9789711,-27.552171
END:VEVENT
BEGIN:VEVENT
DTSTART;TZID=Australia/Brisbane:20251120T090000
DTEND;TZID=Australia/Brisbane:20251120T100000
DTSTAMP:20260424T075959
CREATED:20250910T015934Z
LAST-MODIFIED:20250910T015934Z
UID:30852-1763629200-1763632800@nicolejohnston.com.au
SUMMARY:Oxley | Mums and Bubs Yoga
DESCRIPTION:A mum and bubs yoga class to connect with yourself\, your baby and others. Designed to support you post-natally with gentle stretching and strengthening practices and breathing exercises. \nNo bookings required. For more information phone Nichola on 0406 574 454. \nBYO exercise mat.
URL:https://nicolejohnston.com.au/event/oxley-mums-and-bubs-yoga-23/
LOCATION:Nixon Park\, 929 Oxley Road\, OXLEY\, QLD\, 4075\, Australia
GEO:-27.552171;152.9789711
X-APPLE-STRUCTURED-LOCATION;VALUE=URI;X-ADDRESS=Nixon Park 929 Oxley Road OXLEY QLD 4075 Australia;X-APPLE-RADIUS=500;X-TITLE=929 Oxley Road:geo:152.9789711,-27.552171
END:VEVENT
BEGIN:VEVENT
DTSTART;TZID=Australia/Brisbane:20251113T090000
DTEND;TZID=Australia/Brisbane:20251113T100000
DTSTAMP:20260424T075959
CREATED:20250910T015844Z
LAST-MODIFIED:20250910T015844Z
UID:30850-1763024400-1763028000@nicolejohnston.com.au
SUMMARY:Oxley | Mums and Bubs Yoga
DESCRIPTION:A mum and bubs yoga class to connect with yourself\, your baby and others. Designed to support you post-natally with gentle stretching and strengthening practices and breathing exercises. \nNo bookings required. For more information phone Nichola on 0406 574 454.
URL:https://nicolejohnston.com.au/event/oxley-mums-and-bubs-yoga-22/
LOCATION:Nixon Park\, 929 Oxley Road\, OXLEY\, QLD\, 4075\, Australia
GEO:-27.552171;152.9789711
X-APPLE-STRUCTURED-LOCATION;VALUE=URI;X-ADDRESS=Nixon Park 929 Oxley Road OXLEY QLD 4075 Australia;X-APPLE-RADIUS=500;X-TITLE=929 Oxley Road:geo:152.9789711,-27.552171
END:VEVENT
BEGIN:VEVENT
DTSTART;TZID=Australia/Brisbane:20251106T090000
DTEND;TZID=Australia/Brisbane:20251106T100000
DTSTAMP:20260424T075959
CREATED:20250910T015659Z
LAST-MODIFIED:20250910T015659Z
UID:30848-1762419600-1762423200@nicolejohnston.com.au
SUMMARY:Oxley | Mums and Bubs Yoga
DESCRIPTION:A mum and bubs yoga class to connect with yourself\, your baby and others. Designed to support you post-natally with gentle stretching and strengthening practices and breathing exercises. \nNo bookings required. For more information phone Nichola on 0406 574 454. \nBYO exercise mat.
URL:https://nicolejohnston.com.au/event/oxley-mums-and-bubs-yoga-21/
LOCATION:Nixon Park\, 929 Oxley Road\, OXLEY\, QLD\, 4075\, Australia
GEO:-27.552171;152.9789711
X-APPLE-STRUCTURED-LOCATION;VALUE=URI;X-ADDRESS=Nixon Park 929 Oxley Road OXLEY QLD 4075 Australia;X-APPLE-RADIUS=500;X-TITLE=929 Oxley Road:geo:152.9789711,-27.552171
END:VEVENT
BEGIN:VEVENT
DTSTART;TZID=Australia/Brisbane:20251030T090000
DTEND;TZID=Australia/Brisbane:20251030T100000
DTSTAMP:20260424T075959
CREATED:20250910T015547Z
LAST-MODIFIED:20250910T015547Z
UID:30846-1761814800-1761818400@nicolejohnston.com.au
SUMMARY:Oxley | Mums and Bubs Yoga
DESCRIPTION:A mum and bubs yoga class to connect with yourself\, your baby and others. Designed to support you post-natally with gentle stretching and strengthening practices and breathing exercises. \nNo bookings required. For more information phone Nichola on 0406 574 454. \nBYO exercise mat.
URL:https://nicolejohnston.com.au/event/oxley-mums-and-bubs-yoga-20/
LOCATION:Nixon Park\, 929 Oxley Road\, OXLEY\, QLD\, 4075\, Australia
GEO:-27.552171;152.9789711
X-APPLE-STRUCTURED-LOCATION;VALUE=URI;X-ADDRESS=Nixon Park 929 Oxley Road OXLEY QLD 4075 Australia;X-APPLE-RADIUS=500;X-TITLE=929 Oxley Road:geo:152.9789711,-27.552171
END:VEVENT
BEGIN:VEVENT
DTSTART;TZID=Australia/Brisbane:20251023T090000
DTEND;TZID=Australia/Brisbane:20251023T100000
DTSTAMP:20260424T075959
CREATED:20250910T015456Z
LAST-MODIFIED:20250910T015456Z
UID:30844-1761210000-1761213600@nicolejohnston.com.au
SUMMARY:Oxley | Mums and Bubs Yoga
DESCRIPTION:A mum and bubs yoga class to connect with yourself\, your baby and others. Designed to support you post-natally with gentle stretching and strengthening practices and breathing exercises. \nNo bookings required. For more information phone Nichola on 0406 574 454. \nBYO exercise mat.
URL:https://nicolejohnston.com.au/event/oxley-mums-and-bubs-yoga-19/
LOCATION:Nixon Park\, 929 Oxley Road\, OXLEY\, QLD\, 4075\, Australia
GEO:-27.552171;152.9789711
X-APPLE-STRUCTURED-LOCATION;VALUE=URI;X-ADDRESS=Nixon Park 929 Oxley Road OXLEY QLD 4075 Australia;X-APPLE-RADIUS=500;X-TITLE=929 Oxley Road:geo:152.9789711,-27.552171
END:VEVENT
BEGIN:VEVENT
DTSTART;TZID=Australia/Brisbane:20251016T090000
DTEND;TZID=Australia/Brisbane:20251016T100000
DTSTAMP:20260424T075959
CREATED:20250910T015405Z
LAST-MODIFIED:20250910T015405Z
UID:30842-1760605200-1760608800@nicolejohnston.com.au
SUMMARY:Oxley | Mums and Bubs Yoga
DESCRIPTION:A mum and bubs yoga class to connect with yourself\, your baby and others. Designed to support you post-natally with gentle stretching and strengthening practices and breathing exercises. \nNo bookings required. For more information phone Nichola on 0406 574 454. \nBYO exercise mat.
URL:https://nicolejohnston.com.au/event/oxley-mums-and-bubs-yoga-18/
LOCATION:Nixon Park\, 929 Oxley Road\, OXLEY\, QLD\, 4075\, Australia
GEO:-27.552171;152.9789711
X-APPLE-STRUCTURED-LOCATION;VALUE=URI;X-ADDRESS=Nixon Park 929 Oxley Road OXLEY QLD 4075 Australia;X-APPLE-RADIUS=500;X-TITLE=929 Oxley Road:geo:152.9789711,-27.552171
END:VEVENT
BEGIN:VEVENT
DTSTART;TZID=Australia/Brisbane:20251009T090000
DTEND;TZID=Australia/Brisbane:20251009T100000
DTSTAMP:20260424T075959
CREATED:20250910T015318Z
LAST-MODIFIED:20250910T015318Z
UID:30840-1760000400-1760004000@nicolejohnston.com.au
SUMMARY:Oxley | Mums and Bubs Yoga
DESCRIPTION:A mum and bubs yoga class to connect with yourself\, your baby and others. Designed to support you post-natally with gentle stretching and strengthening practices and breathing exercises. \nNo bookings required. For more information phone Nichola on 0406 574 454. \nBYO exercise mat.
URL:https://nicolejohnston.com.au/event/oxley-mums-and-bubs-yoga-17/
LOCATION:Nixon Park\, 929 Oxley Road\, OXLEY\, QLD\, 4075\, Australia
GEO:-27.552171;152.9789711
X-APPLE-STRUCTURED-LOCATION;VALUE=URI;X-ADDRESS=Nixon Park 929 Oxley Road OXLEY QLD 4075 Australia;X-APPLE-RADIUS=500;X-TITLE=929 Oxley Road:geo:152.9789711,-27.552171
END:VEVENT
BEGIN:VEVENT
DTSTART;TZID=Australia/Brisbane:20250918T090000
DTEND;TZID=Australia/Brisbane:20250918T100000
DTSTAMP:20260424T075959
CREATED:20250910T015222Z
LAST-MODIFIED:20250910T015222Z
UID:30838-1758186000-1758189600@nicolejohnston.com.au
SUMMARY:Oxley | Mums and Bubs Yoga
DESCRIPTION:A mum and bubs yoga class to connect with yourself\, your baby and others. Designed to support you post-natally with gentle stretching and strengthening practices and breathing exercises. \nNo bookings required. For more information phone Nichola on 0406 574 454.
URL:https://nicolejohnston.com.au/event/oxley-mums-and-bubs-yoga-16/
LOCATION:Nixon Park\, 929 Oxley Road\, OXLEY\, QLD\, 4075\, Australia
GEO:-27.552171;152.9789711
X-APPLE-STRUCTURED-LOCATION;VALUE=URI;X-ADDRESS=Nixon Park 929 Oxley Road OXLEY QLD 4075 Australia;X-APPLE-RADIUS=500;X-TITLE=929 Oxley Road:geo:152.9789711,-27.552171
END:VEVENT
BEGIN:VEVENT
DTSTART;TZID=Australia/Brisbane:20250911T090000
DTEND;TZID=Australia/Brisbane:20250911T100000
DTSTAMP:20260424T075959
CREATED:20250609T050858Z
LAST-MODIFIED:20250609T050858Z
UID:30143-1757581200-1757584800@nicolejohnston.com.au
SUMMARY:Oxley | Mums and Bubs Yoga
DESCRIPTION:A mum and bubs yoga class to connect with yourself\, your baby and others. Designed to support you post-natally with gentle stretching and strengthening practices and breathing exercises. \nNo bookings required. For more information phone Nichola on 0406 574 454. \nBYO exercise mat.
URL:https://nicolejohnston.com.au/event/oxley-mums-and-bubs-yoga-15/
LOCATION:Nixon Park\, 929 Oxley Road\, OXLEY\, QLD\, 4075\, Australia
GEO:-27.552171;152.9789711
X-APPLE-STRUCTURED-LOCATION;VALUE=URI;X-ADDRESS=Nixon Park 929 Oxley Road OXLEY QLD 4075 Australia;X-APPLE-RADIUS=500;X-TITLE=929 Oxley Road:geo:152.9789711,-27.552171
END:VEVENT
BEGIN:VEVENT
DTSTART;TZID=Australia/Brisbane:20250904T090000
DTEND;TZID=Australia/Brisbane:20250904T100000
DTSTAMP:20260424T075959
CREATED:20250609T042630Z
LAST-MODIFIED:20250609T042630Z
UID:30115-1756976400-1756980000@nicolejohnston.com.au
SUMMARY:Oxley | Mums and Bubs Yoga
DESCRIPTION:A mum and bubs yoga class to connect with yourself\, your baby and others. Designed to support you post-natally with gentle stretching and strengthening practices and breathing exercises. \nNo bookings required. For more information phone Nichola on 0406 574 454. \nBYO exercise mat.
URL:https://nicolejohnston.com.au/event/oxley-mums-and-bubs-yoga-14/
LOCATION:Nixon Park\, 929 Oxley Road\, OXLEY\, QLD\, 4075\, Australia
GEO:-27.552171;152.9789711
X-APPLE-STRUCTURED-LOCATION;VALUE=URI;X-ADDRESS=Nixon Park 929 Oxley Road OXLEY QLD 4075 Australia;X-APPLE-RADIUS=500;X-TITLE=929 Oxley Road:geo:152.9789711,-27.552171
END:VEVENT
END:VCALENDAR