BEGIN:VCALENDAR
VERSION:2.0
PRODID:-//Nicole Johnston - ECPv6.15.20//NONSGML v1.0//EN
CALSCALE:GREGORIAN
METHOD:PUBLISH
X-ORIGINAL-URL:https://nicolejohnston.com.au
X-WR-CALDESC:Events for Nicole Johnston
REFRESH-INTERVAL;VALUE=DURATION:PT1H
X-Robots-Tag:noindex
X-PUBLISHED-TTL:PT1H
BEGIN:VTIMEZONE
TZID:Australia/Brisbane
BEGIN:STANDARD
TZOFFSETFROM:+1000
TZOFFSETTO:+1000
TZNAME:AEST
DTSTART:20250101T000000
END:STANDARD
END:VTIMEZONE
BEGIN:VEVENT
DTSTART;TZID=Australia/Brisbane:20260430T090000
DTEND;TZID=Australia/Brisbane:20260430T100000
DTSTAMP:20260424T060657
CREATED:20260302T050724Z
LAST-MODIFIED:20260302T050724Z
UID:32198-1777539600-1777543200@nicolejohnston.com.au
SUMMARY:Oxley | Mums and Bubs Yoga
DESCRIPTION:A mum and bubs yoga class to connect with yourself\, your baby and others. Designed to support you post-natally with gentle stretching and strengthening practices and breathing exercises. BYO exercise mat. \nNo bookings required. For more information phone Nichola on 0406 574 454.
URL:https://nicolejohnston.com.au/event/oxley-mums-and-bubs-yoga-36/
LOCATION:Nixon Park\, 929 Oxley Road\, OXLEY\, QLD\, 4075\, Australia
GEO:-27.552171;152.9789711
X-APPLE-STRUCTURED-LOCATION;VALUE=URI;X-ADDRESS=Nixon Park 929 Oxley Road OXLEY QLD 4075 Australia;X-APPLE-RADIUS=500;X-TITLE=929 Oxley Road:geo:152.9789711,-27.552171
END:VEVENT
BEGIN:VEVENT
DTSTART;TZID=Australia/Brisbane:20260507T090000
DTEND;TZID=Australia/Brisbane:20260507T100000
DTSTAMP:20260424T060657
CREATED:20260302T053544Z
LAST-MODIFIED:20260302T053544Z
UID:32220-1778144400-1778148000@nicolejohnston.com.au
SUMMARY:Oxley | Mums and Bubs Yoga
DESCRIPTION:A mum and bubs yoga class to connect with yourself\, your baby and others. Designed to support you post-natally with gentle stretching and strengthening practices and breathing exercises. \nNo bookings required. For more information phone Nichola on 0406 574 454.
URL:https://nicolejohnston.com.au/event/oxley-mums-and-bubs-yoga-37/
LOCATION:Nixon Park\, 929 Oxley Road\, OXLEY\, QLD\, 4075\, Australia
GEO:-27.552171;152.9789711
X-APPLE-STRUCTURED-LOCATION;VALUE=URI;X-ADDRESS=Nixon Park 929 Oxley Road OXLEY QLD 4075 Australia;X-APPLE-RADIUS=500;X-TITLE=929 Oxley Road:geo:152.9789711,-27.552171
END:VEVENT
BEGIN:VEVENT
DTSTART;TZID=Australia/Brisbane:20260521T090000
DTEND;TZID=Australia/Brisbane:20260521T100000
DTSTAMP:20260424T060657
CREATED:20260319T013055Z
LAST-MODIFIED:20260319T013055Z
UID:32469-1779354000-1779357600@nicolejohnston.com.au
SUMMARY:Oxley | Mums and Bubs Yoga
DESCRIPTION:A mum and bubs yoga class to connect with yourself\, your baby and others. Designed to support you post-natally with gentle stretching and strengthening practices and breathing exercises. \nNo bookings required. For more information phone Nichola on 0406 574 454. BYO exercise mat.
URL:https://nicolejohnston.com.au/event/oxley-mums-and-bubs-yoga-38/
LOCATION:Nixon Park\, 929 Oxley Road\, OXLEY\, QLD\, 4075\, Australia
GEO:-27.552171;152.9789711
X-APPLE-STRUCTURED-LOCATION;VALUE=URI;X-ADDRESS=Nixon Park 929 Oxley Road OXLEY QLD 4075 Australia;X-APPLE-RADIUS=500;X-TITLE=929 Oxley Road:geo:152.9789711,-27.552171
END:VEVENT
BEGIN:VEVENT
DTSTART;TZID=Australia/Brisbane:20260528T090000
DTEND;TZID=Australia/Brisbane:20260528T100000
DTSTAMP:20260424T060657
CREATED:20260319T021453Z
LAST-MODIFIED:20260319T021453Z
UID:32497-1779958800-1779962400@nicolejohnston.com.au
SUMMARY:Oxley | Mums and Bubs yoga
DESCRIPTION:A mum and bubs yoga class to connect with yourself\, your baby and others. Designed to support you post-natally with gentle stretching and strengthening practices and breathing exercises. \nNo bookings required. For more information phone Nichola on 0406 574 454.
URL:https://nicolejohnston.com.au/event/oxley-mums-and-bubs-yoga-39/
LOCATION:Nixon Park\, 929 Oxley Road\, OXLEY\, QLD\, 4075\, Australia
GEO:-27.552171;152.9789711
X-APPLE-STRUCTURED-LOCATION;VALUE=URI;X-ADDRESS=Nixon Park 929 Oxley Road OXLEY QLD 4075 Australia;X-APPLE-RADIUS=500;X-TITLE=929 Oxley Road:geo:152.9789711,-27.552171
END:VEVENT
END:VCALENDAR