BEGIN:VCALENDAR
VERSION:2.0
PRODID:-//Nicole Johnston - ECPv6.15.20//NONSGML v1.0//EN
CALSCALE:GREGORIAN
METHOD:PUBLISH
X-ORIGINAL-URL:https://nicolejohnston.com.au
X-WR-CALDESC:Events for Nicole Johnston
REFRESH-INTERVAL;VALUE=DURATION:PT1H
X-Robots-Tag:noindex
X-PUBLISHED-TTL:PT1H
BEGIN:VTIMEZONE
TZID:Australia/Brisbane
BEGIN:STANDARD
TZOFFSETFROM:+1000
TZOFFSETTO:+1000
TZNAME:AEST
DTSTART:20230101T000000
END:STANDARD
END:VTIMEZONE
BEGIN:VEVENT
DTSTART;TZID=Australia/Brisbane:20250529T090000
DTEND;TZID=Australia/Brisbane:20250529T100000
DTSTAMP:20260424T154749
CREATED:20241212T010414Z
LAST-MODIFIED:20241212T010414Z
UID:29089-1748509200-1748512800@nicolejohnston.com.au
SUMMARY:Oxley | Mums and Bubs Yoga
DESCRIPTION:A mum and bubs yoga class to connect with yourself\, your baby and others. Designed to support you post-natally\, gentle stretching and strengthening practices\, breathing exercises\, meditation. \nFor more information phone Nichola on 0406 574 454.
URL:https://nicolejohnston.com.au/event/oxley-mums-and-bubs-yoga-6/2025-05-29/
LOCATION:Nixon Park\, 929 Oxley Road\, OXLEY\, QLD\, 4075\, Australia
GEO:-27.552171;152.9789711
X-APPLE-STRUCTURED-LOCATION;VALUE=URI;X-ADDRESS=Nixon Park 929 Oxley Road OXLEY QLD 4075 Australia;X-APPLE-RADIUS=500;X-TITLE=929 Oxley Road:geo:152.9789711,-27.552171
END:VEVENT
BEGIN:VEVENT
DTSTART;TZID=Australia/Brisbane:20250522T090000
DTEND;TZID=Australia/Brisbane:20250522T100000
DTSTAMP:20260424T154749
CREATED:20241212T010414Z
LAST-MODIFIED:20241212T010414Z
UID:29088-1747904400-1747908000@nicolejohnston.com.au
SUMMARY:Oxley | Mums and Bubs Yoga
DESCRIPTION:A mum and bubs yoga class to connect with yourself\, your baby and others. Designed to support you post-natally\, gentle stretching and strengthening practices\, breathing exercises\, meditation. \nFor more information phone Nichola on 0406 574 454.
URL:https://nicolejohnston.com.au/event/oxley-mums-and-bubs-yoga-6/2025-05-22/
LOCATION:Nixon Park\, 929 Oxley Road\, OXLEY\, QLD\, 4075\, Australia
GEO:-27.552171;152.9789711
X-APPLE-STRUCTURED-LOCATION;VALUE=URI;X-ADDRESS=Nixon Park 929 Oxley Road OXLEY QLD 4075 Australia;X-APPLE-RADIUS=500;X-TITLE=929 Oxley Road:geo:152.9789711,-27.552171
END:VEVENT
BEGIN:VEVENT
DTSTART;TZID=Australia/Brisbane:20250515T090000
DTEND;TZID=Australia/Brisbane:20250515T100000
DTSTAMP:20260424T154749
CREATED:20241212T010414Z
LAST-MODIFIED:20241212T010414Z
UID:29087-1747299600-1747303200@nicolejohnston.com.au
SUMMARY:Oxley | Mums and Bubs Yoga
DESCRIPTION:A mum and bubs yoga class to connect with yourself\, your baby and others. Designed to support you post-natally\, gentle stretching and strengthening practices\, breathing exercises\, meditation. \nFor more information phone Nichola on 0406 574 454.
URL:https://nicolejohnston.com.au/event/oxley-mums-and-bubs-yoga-6/2025-05-15/
LOCATION:Nixon Park\, 929 Oxley Road\, OXLEY\, QLD\, 4075\, Australia
GEO:-27.552171;152.9789711
X-APPLE-STRUCTURED-LOCATION;VALUE=URI;X-ADDRESS=Nixon Park 929 Oxley Road OXLEY QLD 4075 Australia;X-APPLE-RADIUS=500;X-TITLE=929 Oxley Road:geo:152.9789711,-27.552171
END:VEVENT
BEGIN:VEVENT
DTSTART;TZID=Australia/Brisbane:20250508T090000
DTEND;TZID=Australia/Brisbane:20250508T100000
DTSTAMP:20260424T154749
CREATED:20241212T010414Z
LAST-MODIFIED:20241212T010414Z
UID:29086-1746694800-1746698400@nicolejohnston.com.au
SUMMARY:Oxley | Mums and Bubs Yoga
DESCRIPTION:A mum and bubs yoga class to connect with yourself\, your baby and others. Designed to support you post-natally\, gentle stretching and strengthening practices\, breathing exercises\, meditation. \nFor more information phone Nichola on 0406 574 454.
URL:https://nicolejohnston.com.au/event/oxley-mums-and-bubs-yoga-6/2025-05-08/
LOCATION:Nixon Park\, 929 Oxley Road\, OXLEY\, QLD\, 4075\, Australia
GEO:-27.552171;152.9789711
X-APPLE-STRUCTURED-LOCATION;VALUE=URI;X-ADDRESS=Nixon Park 929 Oxley Road OXLEY QLD 4075 Australia;X-APPLE-RADIUS=500;X-TITLE=929 Oxley Road:geo:152.9789711,-27.552171
END:VEVENT
BEGIN:VEVENT
DTSTART;TZID=Australia/Brisbane:20250501T090000
DTEND;TZID=Australia/Brisbane:20250501T100000
DTSTAMP:20260424T154749
CREATED:20241212T010414Z
LAST-MODIFIED:20241212T010414Z
UID:29085-1746090000-1746093600@nicolejohnston.com.au
SUMMARY:Oxley | Mums and Bubs Yoga
DESCRIPTION:A mum and bubs yoga class to connect with yourself\, your baby and others. Designed to support you post-natally\, gentle stretching and strengthening practices\, breathing exercises\, meditation. \nFor more information phone Nichola on 0406 574 454.
URL:https://nicolejohnston.com.au/event/oxley-mums-and-bubs-yoga-6/2025-05-01/
LOCATION:Nixon Park\, 929 Oxley Road\, OXLEY\, QLD\, 4075\, Australia
GEO:-27.552171;152.9789711
X-APPLE-STRUCTURED-LOCATION;VALUE=URI;X-ADDRESS=Nixon Park 929 Oxley Road OXLEY QLD 4075 Australia;X-APPLE-RADIUS=500;X-TITLE=929 Oxley Road:geo:152.9789711,-27.552171
END:VEVENT
BEGIN:VEVENT
DTSTART;TZID=Australia/Brisbane:20250424T090000
DTEND;TZID=Australia/Brisbane:20250424T100000
DTSTAMP:20260424T154749
CREATED:20241212T010414Z
LAST-MODIFIED:20241212T010414Z
UID:29084-1745485200-1745488800@nicolejohnston.com.au
SUMMARY:Oxley | Mums and Bubs Yoga
DESCRIPTION:A mum and bubs yoga class to connect with yourself\, your baby and others. Designed to support you post-natally\, gentle stretching and strengthening practices\, breathing exercises\, meditation. \nFor more information phone Nichola on 0406 574 454.
URL:https://nicolejohnston.com.au/event/oxley-mums-and-bubs-yoga-6/2025-04-24/
LOCATION:Nixon Park\, 929 Oxley Road\, OXLEY\, QLD\, 4075\, Australia
GEO:-27.552171;152.9789711
X-APPLE-STRUCTURED-LOCATION;VALUE=URI;X-ADDRESS=Nixon Park 929 Oxley Road OXLEY QLD 4075 Australia;X-APPLE-RADIUS=500;X-TITLE=929 Oxley Road:geo:152.9789711,-27.552171
END:VEVENT
BEGIN:VEVENT
DTSTART;TZID=Australia/Brisbane:20250415T103000
DTEND;TZID=Australia/Brisbane:20250415T120000
DTSTAMP:20260424T154749
CREATED:20250317T002223Z
LAST-MODIFIED:20250317T002223Z
UID:29298-1744713000-1744718400@nicolejohnston.com.au
SUMMARY:Oxley | Junior Bike Riding Skills
DESCRIPTION:This course is suitable for young riders who can ride confidently on two wheels. Through riding-based games and fun activities your child will learn the skills needed to have fun off-road and on the bikeways. For ages 5-10. \nPresented as part of Council’s Cycling Brisbane program. \nBookings essential. To book visit Eventbrite or for more information phone BEAKA on 0419 648 296.
URL:https://nicolejohnston.com.au/event/oxley-junior-bike-riding-skills/
LOCATION:Nixon Park\, 929 Oxley Road\, OXLEY\, QLD\, 4075\, Australia
GEO:-27.552171;152.9789711
X-APPLE-STRUCTURED-LOCATION;VALUE=URI;X-ADDRESS=Nixon Park 929 Oxley Road OXLEY QLD 4075 Australia;X-APPLE-RADIUS=500;X-TITLE=929 Oxley Road:geo:152.9789711,-27.552171
END:VEVENT
BEGIN:VEVENT
DTSTART;TZID=Australia/Brisbane:20250415T093000
DTEND;TZID=Australia/Brisbane:20250415T103000
DTSTAMP:20260424T154749
CREATED:20250317T001933Z
LAST-MODIFIED:20250317T001933Z
UID:29296-1744709400-1744713000@nicolejohnston.com.au
SUMMARY:Oxley | Wheely Fun
DESCRIPTION:Riding’s more fun on two wheels – in just one session our friendly trainer will help your young one make the transition from training wheels or balance bike to pedalling on two wheels\, and provide some tips for how you can keep encouraging them. For ages 5-7. \nPresented as part of Council’s Cycling Brisbane program. \nBookings essential. To book visit Eventbrite or for more information phone RampFest on 0421 701 448.
URL:https://nicolejohnston.com.au/event/oxley-wheely-fun-2/
LOCATION:Nixon Park\, 929 Oxley Road\, OXLEY\, QLD\, 4075\, Australia
GEO:-27.552171;152.9789711
X-APPLE-STRUCTURED-LOCATION;VALUE=URI;X-ADDRESS=Nixon Park 929 Oxley Road OXLEY QLD 4075 Australia;X-APPLE-RADIUS=500;X-TITLE=929 Oxley Road:geo:152.9789711,-27.552171
END:VEVENT
BEGIN:VEVENT
DTSTART;TZID=Australia/Brisbane:20250415T083000
DTEND;TZID=Australia/Brisbane:20250415T093000
DTSTAMP:20260424T154749
CREATED:20250317T001719Z
LAST-MODIFIED:20250317T001719Z
UID:29294-1744705800-1744709400@nicolejohnston.com.au
SUMMARY:Oxley | Wheely Fun
DESCRIPTION:Riding’s more fun on two wheels – in just one session our friendly trainer will help your young one make the transition from training wheels or balance bike to pedalling on two wheels\, and provide some tips for how you can keep encouraging them. For ages 5-7. \nPresented as part of Council’s Cycling Brisbane program. \nTo book visit Eventbrite or for more information phone RampFest on 0421 701 448.
URL:https://nicolejohnston.com.au/event/oxley-wheely-fun/
LOCATION:Nixon Park\, 929 Oxley Road\, OXLEY\, QLD\, 4075\, Australia
GEO:-27.552171;152.9789711
X-APPLE-STRUCTURED-LOCATION;VALUE=URI;X-ADDRESS=Nixon Park 929 Oxley Road OXLEY QLD 4075 Australia;X-APPLE-RADIUS=500;X-TITLE=929 Oxley Road:geo:152.9789711,-27.552171
END:VEVENT
BEGIN:VEVENT
DTSTART;TZID=Australia/Brisbane:20250403T090000
DTEND;TZID=Australia/Brisbane:20250403T100000
DTSTAMP:20260424T154749
CREATED:20241212T010414Z
LAST-MODIFIED:20241212T010414Z
UID:29083-1743670800-1743674400@nicolejohnston.com.au
SUMMARY:Oxley | Mums and Bubs Yoga
DESCRIPTION:A mum and bubs yoga class to connect with yourself\, your baby and others. Designed to support you post-natally\, gentle stretching and strengthening practices\, breathing exercises\, meditation. \nFor more information phone Nichola on 0406 574 454.
URL:https://nicolejohnston.com.au/event/oxley-mums-and-bubs-yoga-6/2025-04-03/
LOCATION:Nixon Park\, 929 Oxley Road\, OXLEY\, QLD\, 4075\, Australia
GEO:-27.552171;152.9789711
X-APPLE-STRUCTURED-LOCATION;VALUE=URI;X-ADDRESS=Nixon Park 929 Oxley Road OXLEY QLD 4075 Australia;X-APPLE-RADIUS=500;X-TITLE=929 Oxley Road:geo:152.9789711,-27.552171
END:VEVENT
BEGIN:VEVENT
DTSTART;TZID=Australia/Brisbane:20250327T090000
DTEND;TZID=Australia/Brisbane:20250327T100000
DTSTAMP:20260424T154749
CREATED:20241212T010414Z
LAST-MODIFIED:20241212T010414Z
UID:29082-1743066000-1743069600@nicolejohnston.com.au
SUMMARY:Oxley | Mums and Bubs Yoga
DESCRIPTION:A mum and bubs yoga class to connect with yourself\, your baby and others. Designed to support you post-natally\, gentle stretching and strengthening practices\, breathing exercises\, meditation. \nFor more information phone Nichola on 0406 574 454.
URL:https://nicolejohnston.com.au/event/oxley-mums-and-bubs-yoga-6/2025-03-27/
LOCATION:Nixon Park\, 929 Oxley Road\, OXLEY\, QLD\, 4075\, Australia
GEO:-27.552171;152.9789711
X-APPLE-STRUCTURED-LOCATION;VALUE=URI;X-ADDRESS=Nixon Park 929 Oxley Road OXLEY QLD 4075 Australia;X-APPLE-RADIUS=500;X-TITLE=929 Oxley Road:geo:152.9789711,-27.552171
END:VEVENT
BEGIN:VEVENT
DTSTART;TZID=Australia/Brisbane:20250320T090000
DTEND;TZID=Australia/Brisbane:20250320T100000
DTSTAMP:20260424T154749
CREATED:20241212T010414Z
LAST-MODIFIED:20250113T035716Z
UID:28784-1742461200-1742464800@nicolejohnston.com.au
SUMMARY:Oxley | Mums and Bubs Yoga
DESCRIPTION:A mum and bubs yoga class to connect with yourself\, your baby and others. Designed to support you post-natally\, gentle stretching and strengthening practices\, breathing exercises\, meditation. \nFor more information phone Nichola on 0406 574 454.
URL:https://nicolejohnston.com.au/event/oxley-mums-and-bubs-yoga-6/2025-03-20/
LOCATION:Nixon Park\, 929 Oxley Road\, OXLEY\, QLD\, 4075\, Australia
GEO:-27.552171;152.9789711
X-APPLE-STRUCTURED-LOCATION;VALUE=URI;X-ADDRESS=Nixon Park 929 Oxley Road OXLEY QLD 4075 Australia;X-APPLE-RADIUS=500;X-TITLE=929 Oxley Road:geo:152.9789711,-27.552171
END:VEVENT
BEGIN:VEVENT
DTSTART;TZID=Australia/Brisbane:20250313T090000
DTEND;TZID=Australia/Brisbane:20250313T100000
DTSTAMP:20260424T154749
CREATED:20241212T010414Z
LAST-MODIFIED:20250113T035716Z
UID:28783-1741856400-1741860000@nicolejohnston.com.au
SUMMARY:Oxley | Mums and Bubs Yoga
DESCRIPTION:A mum and bubs yoga class to connect with yourself\, your baby and others. Designed to support you post-natally\, gentle stretching and strengthening practices\, breathing exercises\, meditation. \nFor more information phone Nichola on 0406 574 454.
URL:https://nicolejohnston.com.au/event/oxley-mums-and-bubs-yoga-6/2025-03-13/
LOCATION:Nixon Park\, 929 Oxley Road\, OXLEY\, QLD\, 4075\, Australia
GEO:-27.552171;152.9789711
X-APPLE-STRUCTURED-LOCATION;VALUE=URI;X-ADDRESS=Nixon Park 929 Oxley Road OXLEY QLD 4075 Australia;X-APPLE-RADIUS=500;X-TITLE=929 Oxley Road:geo:152.9789711,-27.552171
END:VEVENT
BEGIN:VEVENT
DTSTART;TZID=Australia/Brisbane:20250306T090000
DTEND;TZID=Australia/Brisbane:20250306T100000
DTSTAMP:20260424T154749
CREATED:20241212T010414Z
LAST-MODIFIED:20250113T035715Z
UID:28782-1741251600-1741255200@nicolejohnston.com.au
SUMMARY:Oxley | Mums and Bubs Yoga
DESCRIPTION:A mum and bubs yoga class to connect with yourself\, your baby and others. Designed to support you post-natally\, gentle stretching and strengthening practices\, breathing exercises\, meditation. \nFor more information phone Nichola on 0406 574 454.
URL:https://nicolejohnston.com.au/event/oxley-mums-and-bubs-yoga-6/2025-03-06/
LOCATION:Nixon Park\, 929 Oxley Road\, OXLEY\, QLD\, 4075\, Australia
GEO:-27.552171;152.9789711
X-APPLE-STRUCTURED-LOCATION;VALUE=URI;X-ADDRESS=Nixon Park 929 Oxley Road OXLEY QLD 4075 Australia;X-APPLE-RADIUS=500;X-TITLE=929 Oxley Road:geo:152.9789711,-27.552171
END:VEVENT
BEGIN:VEVENT
DTSTART;TZID=Australia/Brisbane:20250227T090000
DTEND;TZID=Australia/Brisbane:20250227T100000
DTSTAMP:20260424T154749
CREATED:20241212T010414Z
LAST-MODIFIED:20250113T035715Z
UID:28781-1740646800-1740650400@nicolejohnston.com.au
SUMMARY:Oxley | Mums and Bubs Yoga
DESCRIPTION:A mum and bubs yoga class to connect with yourself\, your baby and others. Designed to support you post-natally\, gentle stretching and strengthening practices\, breathing exercises\, meditation. \nFor more information phone Nichola on 0406 574 454.
URL:https://nicolejohnston.com.au/event/oxley-mums-and-bubs-yoga-6/2025-02-27/
LOCATION:Nixon Park\, 929 Oxley Road\, OXLEY\, QLD\, 4075\, Australia
GEO:-27.552171;152.9789711
X-APPLE-STRUCTURED-LOCATION;VALUE=URI;X-ADDRESS=Nixon Park 929 Oxley Road OXLEY QLD 4075 Australia;X-APPLE-RADIUS=500;X-TITLE=929 Oxley Road:geo:152.9789711,-27.552171
END:VEVENT
BEGIN:VEVENT
DTSTART;TZID=Australia/Brisbane:20250220T090000
DTEND;TZID=Australia/Brisbane:20250220T100000
DTSTAMP:20260424T154749
CREATED:20241212T010414Z
LAST-MODIFIED:20250113T035714Z
UID:28780-1740042000-1740045600@nicolejohnston.com.au
SUMMARY:Oxley | Mums and Bubs Yoga
DESCRIPTION:A mum and bubs yoga class to connect with yourself\, your baby and others. Designed to support you post-natally\, gentle stretching and strengthening practices\, breathing exercises\, meditation. \nFor more information phone Nichola on 0406 574 454.
URL:https://nicolejohnston.com.au/event/oxley-mums-and-bubs-yoga-6/2025-02-20/
LOCATION:Nixon Park\, 929 Oxley Road\, OXLEY\, QLD\, 4075\, Australia
GEO:-27.552171;152.9789711
X-APPLE-STRUCTURED-LOCATION;VALUE=URI;X-ADDRESS=Nixon Park 929 Oxley Road OXLEY QLD 4075 Australia;X-APPLE-RADIUS=500;X-TITLE=929 Oxley Road:geo:152.9789711,-27.552171
END:VEVENT
BEGIN:VEVENT
DTSTART;TZID=Australia/Brisbane:20250213T090000
DTEND;TZID=Australia/Brisbane:20250213T100000
DTSTAMP:20260424T154749
CREATED:20241212T010414Z
LAST-MODIFIED:20250113T035713Z
UID:28779-1739437200-1739440800@nicolejohnston.com.au
SUMMARY:Oxley | Mums and Bubs Yoga
DESCRIPTION:A mum and bubs yoga class to connect with yourself\, your baby and others. Designed to support you post-natally\, gentle stretching and strengthening practices\, breathing exercises\, meditation. \nFor more information phone Nichola on 0406 574 454.
URL:https://nicolejohnston.com.au/event/oxley-mums-and-bubs-yoga-6/2025-02-13/
LOCATION:Nixon Park\, 929 Oxley Road\, OXLEY\, QLD\, 4075\, Australia
GEO:-27.552171;152.9789711
X-APPLE-STRUCTURED-LOCATION;VALUE=URI;X-ADDRESS=Nixon Park 929 Oxley Road OXLEY QLD 4075 Australia;X-APPLE-RADIUS=500;X-TITLE=929 Oxley Road:geo:152.9789711,-27.552171
END:VEVENT
BEGIN:VEVENT
DTSTART;TZID=Australia/Brisbane:20250206T090000
DTEND;TZID=Australia/Brisbane:20250206T100000
DTSTAMP:20260424T154749
CREATED:20241212T010414Z
LAST-MODIFIED:20250113T035707Z
UID:28778-1738832400-1738836000@nicolejohnston.com.au
SUMMARY:Oxley | Mums and Bubs Yoga
DESCRIPTION:A mum and bubs yoga class to connect with yourself\, your baby and others. Designed to support you post-natally\, gentle stretching and strengthening practices\, breathing exercises\, meditation. \nFor more information phone Nichola on 0406 574 454.
URL:https://nicolejohnston.com.au/event/oxley-mums-and-bubs-yoga-6/2025-02-06/
LOCATION:Nixon Park\, 929 Oxley Road\, OXLEY\, QLD\, 4075\, Australia
GEO:-27.552171;152.9789711
X-APPLE-STRUCTURED-LOCATION;VALUE=URI;X-ADDRESS=Nixon Park 929 Oxley Road OXLEY QLD 4075 Australia;X-APPLE-RADIUS=500;X-TITLE=929 Oxley Road:geo:152.9789711,-27.552171
END:VEVENT
BEGIN:VEVENT
DTSTART;TZID=Australia/Brisbane:20250130T090000
DTEND;TZID=Australia/Brisbane:20250130T100000
DTSTAMP:20260424T154749
CREATED:20241212T010414Z
LAST-MODIFIED:20250113T035704Z
UID:28777-1738227600-1738231200@nicolejohnston.com.au
SUMMARY:Oxley | Mums and Bubs Yoga
DESCRIPTION:A mum and bubs yoga class to connect with yourself\, your baby and others. Designed to support you post-natally\, gentle stretching and strengthening practices\, breathing exercises\, meditation. \nFor more information phone Nichola on 0406 574 454.
URL:https://nicolejohnston.com.au/event/oxley-mums-and-bubs-yoga-6/2025-01-30/
LOCATION:Nixon Park\, 929 Oxley Road\, OXLEY\, QLD\, 4075\, Australia
GEO:-27.552171;152.9789711
X-APPLE-STRUCTURED-LOCATION;VALUE=URI;X-ADDRESS=Nixon Park 929 Oxley Road OXLEY QLD 4075 Australia;X-APPLE-RADIUS=500;X-TITLE=929 Oxley Road:geo:152.9789711,-27.552171
END:VEVENT
BEGIN:VEVENT
DTSTART;TZID=Australia/Brisbane:20250130T090000
DTEND;TZID=Australia/Brisbane:20250130T100000
DTSTAMP:20260424T154749
CREATED:20241113T053737Z
LAST-MODIFIED:20241113T053737Z
UID:28575-1738227600-1738231200@nicolejohnston.com.au
SUMMARY:Oxley | Mums and Bubs Yoga
DESCRIPTION:A mum and bubs yoga class to connect with yourself\, your baby and others. Designed to support you post-natally\, gentle stretching and strengthening practices\, breathing exercises\, meditation. \nFor more information phone Nichola on 0406 574 454.
URL:https://nicolejohnston.com.au/event/oxley-mums-and-bubs-yoga-5/
LOCATION:Nixon Park\, 929 Oxley Road\, OXLEY\, QLD\, 4075\, Australia
GEO:-27.552171;152.9789711
X-APPLE-STRUCTURED-LOCATION;VALUE=URI;X-ADDRESS=Nixon Park 929 Oxley Road OXLEY QLD 4075 Australia;X-APPLE-RADIUS=500;X-TITLE=929 Oxley Road:geo:152.9789711,-27.552171
END:VEVENT
BEGIN:VEVENT
DTSTART;TZID=Australia/Brisbane:20241217T153500
DTEND;TZID=Australia/Brisbane:20241217T163500
DTSTAMP:20260424T154749
CREATED:20240815T054043Z
LAST-MODIFIED:20240815T054044Z
UID:27864-1734449700-1734453300@nicolejohnston.com.au
SUMMARY:Oxley | Fun Soccer for 9-12 Years
DESCRIPTION:Bookings essential. Love playing soccer? You’ll get a kick out of this introduction to soccer. Improve your skills and enjoy some team activities.  No playing experience required. \nThis is a Chillout event suitable for young people 9-12 years. \nBookings essential. To book visit Quest Football Academy. For more information email us at info@questfa.com.au.
URL:https://nicolejohnston.com.au/event/oxley-fun-soccer-for-9-12-years/
LOCATION:Nixon Park\, 929 Oxley Road\, OXLEY\, QLD\, 4075\, Australia
GEO:-27.552171;152.9789711
X-APPLE-STRUCTURED-LOCATION;VALUE=URI;X-ADDRESS=Nixon Park 929 Oxley Road OXLEY QLD 4075 Australia;X-APPLE-RADIUS=500;X-TITLE=929 Oxley Road:geo:152.9789711,-27.552171
END:VEVENT
BEGIN:VEVENT
DTSTART;TZID=Australia/Brisbane:20241217T143000
DTEND;TZID=Australia/Brisbane:20241217T153000
DTSTAMP:20260424T154749
CREATED:20240815T053923Z
LAST-MODIFIED:20240815T053923Z
UID:27862-1734445800-1734449400@nicolejohnston.com.au
SUMMARY:Oxley | Fun Soccer for 5-8 Years
DESCRIPTION:Bookings essential. Love playing soccer? You’ll get a kick out of this introduction to soccer. Improve your skills and enjoy some team activities.  No playing experience required. \nThis is a Chillout event suitable for young people 5-8 years. \nBookings essential. To book visit Quest Football Academy. For more information email us at info@questfa.com.au.
URL:https://nicolejohnston.com.au/event/oxley-fun-soccer-for-5-8-years/
LOCATION:Nixon Park\, 929 Oxley Road\, OXLEY\, QLD\, 4075\, Australia
GEO:-27.552171;152.9789711
X-APPLE-STRUCTURED-LOCATION;VALUE=URI;X-ADDRESS=Nixon Park 929 Oxley Road OXLEY QLD 4075 Australia;X-APPLE-RADIUS=500;X-TITLE=929 Oxley Road:geo:152.9789711,-27.552171
END:VEVENT
BEGIN:VEVENT
DTSTART;TZID=Australia/Brisbane:20241205T090000
DTEND;TZID=Australia/Brisbane:20241205T100000
DTSTAMP:20260424T154749
CREATED:20241113T012503Z
LAST-MODIFIED:20241113T012503Z
UID:28444-1733389200-1733392800@nicolejohnston.com.au
SUMMARY:Oxley | Mums and Bubs Yoga
DESCRIPTION:A mum and bubs yoga class to connect with yourself\, your baby and others. Designed to support you post-natally\, gentle stretching and strengthening practices\, breathing exercises\, meditation. \nFor more information phone Nichola on 0406 574 454.
URL:https://nicolejohnston.com.au/event/oxley-mums-and-bubs-yoga-4/
LOCATION:Nixon Park\, 929 Oxley Road\, OXLEY\, QLD\, 4075\, Australia
GEO:-27.552171;152.9789711
X-APPLE-STRUCTURED-LOCATION;VALUE=URI;X-ADDRESS=Nixon Park 929 Oxley Road OXLEY QLD 4075 Australia;X-APPLE-RADIUS=500;X-TITLE=929 Oxley Road:geo:152.9789711,-27.552171
END:VEVENT
BEGIN:VEVENT
DTSTART;TZID=Australia/Brisbane:20241128T090000
DTEND;TZID=Australia/Brisbane:20241128T100000
DTSTAMP:20260424T154749
CREATED:20241113T011702Z
LAST-MODIFIED:20241113T011702Z
UID:28430-1732784400-1732788000@nicolejohnston.com.au
SUMMARY:Oxley | Mums and Bubs Yoga
DESCRIPTION:A mum and bubs yoga class to connect with yourself\, your baby and others. Designed to support you post-natally\, gentle stretching and strengthening practices\, breathing exercises\, meditation. \nFor more information phone Nichola on 0406 574 454.
URL:https://nicolejohnston.com.au/event/oxley-mums-and-bubs-yoga-3/
LOCATION:Nixon Park\, 929 Oxley Road\, OXLEY\, QLD\, 4075\, Australia
GEO:-27.552171;152.9789711
X-APPLE-STRUCTURED-LOCATION;VALUE=URI;X-ADDRESS=Nixon Park 929 Oxley Road OXLEY QLD 4075 Australia;X-APPLE-RADIUS=500;X-TITLE=929 Oxley Road:geo:152.9789711,-27.552171
END:VEVENT
BEGIN:VEVENT
DTSTART;TZID=Australia/Brisbane:20241121T090000
DTEND;TZID=Australia/Brisbane:20241121T100000
DTSTAMP:20260424T154749
CREATED:20240624T030353Z
LAST-MODIFIED:20240624T030353Z
UID:27474-1732179600-1732183200@nicolejohnston.com.au
SUMMARY:Oxley | Mums and Bubs Yoga
DESCRIPTION:A mum and bubs yoga class to connect with yourself\, your baby and others. Designed to support you post-natally\, gentle stretching and strengthening practices\, breathing exercises\, meditation.
URL:https://nicolejohnston.com.au/event/oxley-mums-and-bubs-yoga-2/2024-11-21/
LOCATION:Nixon Park\, 929 Oxley Road\, OXLEY\, QLD\, 4075\, Australia
GEO:-27.552171;152.9789711
X-APPLE-STRUCTURED-LOCATION;VALUE=URI;X-ADDRESS=Nixon Park 929 Oxley Road OXLEY QLD 4075 Australia;X-APPLE-RADIUS=500;X-TITLE=929 Oxley Road:geo:152.9789711,-27.552171
END:VEVENT
BEGIN:VEVENT
DTSTART;TZID=Australia/Brisbane:20241114T090000
DTEND;TZID=Australia/Brisbane:20241114T100000
DTSTAMP:20260424T154749
CREATED:20240624T030353Z
LAST-MODIFIED:20240624T030353Z
UID:27473-1731574800-1731578400@nicolejohnston.com.au
SUMMARY:Oxley | Mums and Bubs Yoga
DESCRIPTION:A mum and bubs yoga class to connect with yourself\, your baby and others. Designed to support you post-natally\, gentle stretching and strengthening practices\, breathing exercises\, meditation.
URL:https://nicolejohnston.com.au/event/oxley-mums-and-bubs-yoga-2/2024-11-14/
LOCATION:Nixon Park\, 929 Oxley Road\, OXLEY\, QLD\, 4075\, Australia
GEO:-27.552171;152.9789711
X-APPLE-STRUCTURED-LOCATION;VALUE=URI;X-ADDRESS=Nixon Park 929 Oxley Road OXLEY QLD 4075 Australia;X-APPLE-RADIUS=500;X-TITLE=929 Oxley Road:geo:152.9789711,-27.552171
END:VEVENT
BEGIN:VEVENT
DTSTART;TZID=Australia/Brisbane:20241107T090000
DTEND;TZID=Australia/Brisbane:20241107T100000
DTSTAMP:20260424T154749
CREATED:20240624T030353Z
LAST-MODIFIED:20240624T030353Z
UID:27472-1730970000-1730973600@nicolejohnston.com.au
SUMMARY:Oxley | Mums and Bubs Yoga
DESCRIPTION:A mum and bubs yoga class to connect with yourself\, your baby and others. Designed to support you post-natally\, gentle stretching and strengthening practices\, breathing exercises\, meditation.
URL:https://nicolejohnston.com.au/event/oxley-mums-and-bubs-yoga-2/2024-11-07/
LOCATION:Nixon Park\, 929 Oxley Road\, OXLEY\, QLD\, 4075\, Australia
GEO:-27.552171;152.9789711
X-APPLE-STRUCTURED-LOCATION;VALUE=URI;X-ADDRESS=Nixon Park 929 Oxley Road OXLEY QLD 4075 Australia;X-APPLE-RADIUS=500;X-TITLE=929 Oxley Road:geo:152.9789711,-27.552171
END:VEVENT
BEGIN:VEVENT
DTSTART;TZID=Australia/Brisbane:20241031T090000
DTEND;TZID=Australia/Brisbane:20241031T100000
DTSTAMP:20260424T154749
CREATED:20240624T030353Z
LAST-MODIFIED:20240624T030353Z
UID:27471-1730365200-1730368800@nicolejohnston.com.au
SUMMARY:Oxley | Mums and Bubs Yoga
DESCRIPTION:A mum and bubs yoga class to connect with yourself\, your baby and others. Designed to support you post-natally\, gentle stretching and strengthening practices\, breathing exercises\, meditation.
URL:https://nicolejohnston.com.au/event/oxley-mums-and-bubs-yoga-2/2024-10-31/
LOCATION:Nixon Park\, 929 Oxley Road\, OXLEY\, QLD\, 4075\, Australia
GEO:-27.552171;152.9789711
X-APPLE-STRUCTURED-LOCATION;VALUE=URI;X-ADDRESS=Nixon Park 929 Oxley Road OXLEY QLD 4075 Australia;X-APPLE-RADIUS=500;X-TITLE=929 Oxley Road:geo:152.9789711,-27.552171
END:VEVENT
BEGIN:VEVENT
DTSTART;TZID=Australia/Brisbane:20241024T090000
DTEND;TZID=Australia/Brisbane:20241024T100000
DTSTAMP:20260424T154749
CREATED:20240624T030353Z
LAST-MODIFIED:20240624T030353Z
UID:27470-1729760400-1729764000@nicolejohnston.com.au
SUMMARY:Oxley | Mums and Bubs Yoga
DESCRIPTION:A mum and bubs yoga class to connect with yourself\, your baby and others. Designed to support you post-natally\, gentle stretching and strengthening practices\, breathing exercises\, meditation.
URL:https://nicolejohnston.com.au/event/oxley-mums-and-bubs-yoga-2/2024-10-24/
LOCATION:Nixon Park\, 929 Oxley Road\, OXLEY\, QLD\, 4075\, Australia
GEO:-27.552171;152.9789711
X-APPLE-STRUCTURED-LOCATION;VALUE=URI;X-ADDRESS=Nixon Park 929 Oxley Road OXLEY QLD 4075 Australia;X-APPLE-RADIUS=500;X-TITLE=929 Oxley Road:geo:152.9789711,-27.552171
END:VEVENT
BEGIN:VEVENT
DTSTART;TZID=Australia/Brisbane:20241017T090000
DTEND;TZID=Australia/Brisbane:20241017T100000
DTSTAMP:20260424T154749
CREATED:20240624T030353Z
LAST-MODIFIED:20240624T030353Z
UID:27469-1729155600-1729159200@nicolejohnston.com.au
SUMMARY:Oxley | Mums and Bubs Yoga
DESCRIPTION:A mum and bubs yoga class to connect with yourself\, your baby and others. Designed to support you post-natally\, gentle stretching and strengthening practices\, breathing exercises\, meditation.
URL:https://nicolejohnston.com.au/event/oxley-mums-and-bubs-yoga-2/2024-10-17/
LOCATION:Nixon Park\, 929 Oxley Road\, OXLEY\, QLD\, 4075\, Australia
GEO:-27.552171;152.9789711
X-APPLE-STRUCTURED-LOCATION;VALUE=URI;X-ADDRESS=Nixon Park 929 Oxley Road OXLEY QLD 4075 Australia;X-APPLE-RADIUS=500;X-TITLE=929 Oxley Road:geo:152.9789711,-27.552171
END:VEVENT
END:VCALENDAR