BEGIN:VCALENDAR
VERSION:2.0
PRODID:-//Nicole Johnston - ECPv6.15.20//NONSGML v1.0//EN
CALSCALE:GREGORIAN
METHOD:PUBLISH
X-ORIGINAL-URL:https://nicolejohnston.com.au
X-WR-CALDESC:Events for Nicole Johnston
REFRESH-INTERVAL;VALUE=DURATION:PT1H
X-Robots-Tag:noindex
X-PUBLISHED-TTL:PT1H
BEGIN:VTIMEZONE
TZID:Australia/Brisbane
BEGIN:STANDARD
TZOFFSETFROM:+1000
TZOFFSETTO:+1000
TZNAME:AEST
DTSTART:20160101T000000
END:STANDARD
END:VTIMEZONE
BEGIN:VEVENT
DTSTART;TZID=Australia/Brisbane:20241010T090000
DTEND;TZID=Australia/Brisbane:20241010T100000
DTSTAMP:20260424T212803
CREATED:20240624T030353Z
LAST-MODIFIED:20240624T030353Z
UID:27468-1728550800-1728554400@nicolejohnston.com.au
SUMMARY:Oxley | Mums and Bubs Yoga
DESCRIPTION:A mum and bubs yoga class to connect with yourself\, your baby and others. Designed to support you post-natally\, gentle stretching and strengthening practices\, breathing exercises\, meditation.
URL:https://nicolejohnston.com.au/event/oxley-mums-and-bubs-yoga-2/2024-10-10/
LOCATION:Nixon Park\, 929 Oxley Road\, OXLEY\, QLD\, 4075\, Australia
GEO:-27.552171;152.9789711
X-APPLE-STRUCTURED-LOCATION;VALUE=URI;X-ADDRESS=Nixon Park 929 Oxley Road OXLEY QLD 4075 Australia;X-APPLE-RADIUS=500;X-TITLE=929 Oxley Road:geo:152.9789711,-27.552171
END:VEVENT
BEGIN:VEVENT
DTSTART;TZID=Australia/Brisbane:20241003T090000
DTEND;TZID=Australia/Brisbane:20241003T100000
DTSTAMP:20260424T212803
CREATED:20240624T030353Z
LAST-MODIFIED:20240624T030353Z
UID:27466-1727946000-1727949600@nicolejohnston.com.au
SUMMARY:Oxley | Mums and Bubs Yoga
DESCRIPTION:A mum and bubs yoga class to connect with yourself\, your baby and others. Designed to support you post-natally\, gentle stretching and strengthening practices\, breathing exercises\, meditation.
URL:https://nicolejohnston.com.au/event/oxley-mums-and-bubs-yoga-2/2024-10-03/
LOCATION:Nixon Park\, 929 Oxley Road\, OXLEY\, QLD\, 4075\, Australia
GEO:-27.552171;152.9789711
X-APPLE-STRUCTURED-LOCATION;VALUE=URI;X-ADDRESS=Nixon Park 929 Oxley Road OXLEY QLD 4075 Australia;X-APPLE-RADIUS=500;X-TITLE=929 Oxley Road:geo:152.9789711,-27.552171
END:VEVENT
BEGIN:VEVENT
DTSTART;TZID=Australia/Brisbane:20240912T090000
DTEND;TZID=Australia/Brisbane:20240912T100000
DTSTAMP:20260424T212803
CREATED:20240624T030353Z
LAST-MODIFIED:20240624T030353Z
UID:27465-1726131600-1726135200@nicolejohnston.com.au
SUMMARY:Oxley | Mums and Bubs Yoga
DESCRIPTION:A mum and bubs yoga class to connect with yourself\, your baby and others. Designed to support you post-natally\, gentle stretching and strengthening practices\, breathing exercises\, meditation.
URL:https://nicolejohnston.com.au/event/oxley-mums-and-bubs-yoga-2/2024-09-12/
LOCATION:Nixon Park\, 929 Oxley Road\, OXLEY\, QLD\, 4075\, Australia
GEO:-27.552171;152.9789711
X-APPLE-STRUCTURED-LOCATION;VALUE=URI;X-ADDRESS=Nixon Park 929 Oxley Road OXLEY QLD 4075 Australia;X-APPLE-RADIUS=500;X-TITLE=929 Oxley Road:geo:152.9789711,-27.552171
END:VEVENT
BEGIN:VEVENT
DTSTART;TZID=Australia/Brisbane:20240905T090000
DTEND;TZID=Australia/Brisbane:20240905T100000
DTSTAMP:20260424T212803
CREATED:20240624T030353Z
LAST-MODIFIED:20240624T030353Z
UID:27464-1725526800-1725530400@nicolejohnston.com.au
SUMMARY:Oxley | Mums and Bubs Yoga
DESCRIPTION:A mum and bubs yoga class to connect with yourself\, your baby and others. Designed to support you post-natally\, gentle stretching and strengthening practices\, breathing exercises\, meditation.
URL:https://nicolejohnston.com.au/event/oxley-mums-and-bubs-yoga-2/2024-09-05/
LOCATION:Nixon Park\, 929 Oxley Road\, OXLEY\, QLD\, 4075\, Australia
GEO:-27.552171;152.9789711
X-APPLE-STRUCTURED-LOCATION;VALUE=URI;X-ADDRESS=Nixon Park 929 Oxley Road OXLEY QLD 4075 Australia;X-APPLE-RADIUS=500;X-TITLE=929 Oxley Road:geo:152.9789711,-27.552171
END:VEVENT
BEGIN:VEVENT
DTSTART;TZID=Australia/Brisbane:20240829T090000
DTEND;TZID=Australia/Brisbane:20240829T100000
DTSTAMP:20260424T212803
CREATED:20240624T030353Z
LAST-MODIFIED:20240624T030353Z
UID:27463-1724922000-1724925600@nicolejohnston.com.au
SUMMARY:Oxley | Mums and Bubs Yoga
DESCRIPTION:A mum and bubs yoga class to connect with yourself\, your baby and others. Designed to support you post-natally\, gentle stretching and strengthening practices\, breathing exercises\, meditation.
URL:https://nicolejohnston.com.au/event/oxley-mums-and-bubs-yoga-2/2024-08-29/
LOCATION:Nixon Park\, 929 Oxley Road\, OXLEY\, QLD\, 4075\, Australia
GEO:-27.552171;152.9789711
X-APPLE-STRUCTURED-LOCATION;VALUE=URI;X-ADDRESS=Nixon Park 929 Oxley Road OXLEY QLD 4075 Australia;X-APPLE-RADIUS=500;X-TITLE=929 Oxley Road:geo:152.9789711,-27.552171
END:VEVENT
BEGIN:VEVENT
DTSTART;TZID=Australia/Brisbane:20240822T090000
DTEND;TZID=Australia/Brisbane:20240822T100000
DTSTAMP:20260424T212803
CREATED:20240624T030353Z
LAST-MODIFIED:20240624T030353Z
UID:27462-1724317200-1724320800@nicolejohnston.com.au
SUMMARY:Oxley | Mums and Bubs Yoga
DESCRIPTION:A mum and bubs yoga class to connect with yourself\, your baby and others. Designed to support you post-natally\, gentle stretching and strengthening practices\, breathing exercises\, meditation.
URL:https://nicolejohnston.com.au/event/oxley-mums-and-bubs-yoga-2/2024-08-22/
LOCATION:Nixon Park\, 929 Oxley Road\, OXLEY\, QLD\, 4075\, Australia
GEO:-27.552171;152.9789711
X-APPLE-STRUCTURED-LOCATION;VALUE=URI;X-ADDRESS=Nixon Park 929 Oxley Road OXLEY QLD 4075 Australia;X-APPLE-RADIUS=500;X-TITLE=929 Oxley Road:geo:152.9789711,-27.552171
END:VEVENT
BEGIN:VEVENT
DTSTART;TZID=Australia/Brisbane:20240815T090000
DTEND;TZID=Australia/Brisbane:20240815T100000
DTSTAMP:20260424T212803
CREATED:20240624T030353Z
LAST-MODIFIED:20240624T030353Z
UID:27461-1723712400-1723716000@nicolejohnston.com.au
SUMMARY:Oxley | Mums and Bubs Yoga
DESCRIPTION:A mum and bubs yoga class to connect with yourself\, your baby and others. Designed to support you post-natally\, gentle stretching and strengthening practices\, breathing exercises\, meditation.
URL:https://nicolejohnston.com.au/event/oxley-mums-and-bubs-yoga-2/2024-08-15/
LOCATION:Nixon Park\, 929 Oxley Road\, OXLEY\, QLD\, 4075\, Australia
GEO:-27.552171;152.9789711
X-APPLE-STRUCTURED-LOCATION;VALUE=URI;X-ADDRESS=Nixon Park 929 Oxley Road OXLEY QLD 4075 Australia;X-APPLE-RADIUS=500;X-TITLE=929 Oxley Road:geo:152.9789711,-27.552171
END:VEVENT
BEGIN:VEVENT
DTSTART;TZID=Australia/Brisbane:20240808T090000
DTEND;TZID=Australia/Brisbane:20240808T100000
DTSTAMP:20260424T212803
CREATED:20240624T030353Z
LAST-MODIFIED:20240624T030353Z
UID:27460-1723107600-1723111200@nicolejohnston.com.au
SUMMARY:Oxley | Mums and Bubs Yoga
DESCRIPTION:A mum and bubs yoga class to connect with yourself\, your baby and others. Designed to support you post-natally\, gentle stretching and strengthening practices\, breathing exercises\, meditation.
URL:https://nicolejohnston.com.au/event/oxley-mums-and-bubs-yoga-2/2024-08-08/
LOCATION:Nixon Park\, 929 Oxley Road\, OXLEY\, QLD\, 4075\, Australia
GEO:-27.552171;152.9789711
X-APPLE-STRUCTURED-LOCATION;VALUE=URI;X-ADDRESS=Nixon Park 929 Oxley Road OXLEY QLD 4075 Australia;X-APPLE-RADIUS=500;X-TITLE=929 Oxley Road:geo:152.9789711,-27.552171
END:VEVENT
BEGIN:VEVENT
DTSTART;TZID=Australia/Brisbane:20240801T090000
DTEND;TZID=Australia/Brisbane:20240801T100000
DTSTAMP:20260424T212803
CREATED:20240624T030353Z
LAST-MODIFIED:20240624T030353Z
UID:27459-1722502800-1722506400@nicolejohnston.com.au
SUMMARY:Oxley | Mums and Bubs Yoga
DESCRIPTION:A mum and bubs yoga class to connect with yourself\, your baby and others. Designed to support you post-natally\, gentle stretching and strengthening practices\, breathing exercises\, meditation.
URL:https://nicolejohnston.com.au/event/oxley-mums-and-bubs-yoga-2/2024-08-01/
LOCATION:Nixon Park\, 929 Oxley Road\, OXLEY\, QLD\, 4075\, Australia
GEO:-27.552171;152.9789711
X-APPLE-STRUCTURED-LOCATION;VALUE=URI;X-ADDRESS=Nixon Park 929 Oxley Road OXLEY QLD 4075 Australia;X-APPLE-RADIUS=500;X-TITLE=929 Oxley Road:geo:152.9789711,-27.552171
END:VEVENT
BEGIN:VEVENT
DTSTART;TZID=Australia/Brisbane:20240725T090000
DTEND;TZID=Australia/Brisbane:20240725T100000
DTSTAMP:20260424T212803
CREATED:20240624T030353Z
LAST-MODIFIED:20240624T030353Z
UID:27458-1721898000-1721901600@nicolejohnston.com.au
SUMMARY:Oxley | Mums and Bubs Yoga
DESCRIPTION:A mum and bubs yoga class to connect with yourself\, your baby and others. Designed to support you post-natally\, gentle stretching and strengthening practices\, breathing exercises\, meditation.
URL:https://nicolejohnston.com.au/event/oxley-mums-and-bubs-yoga-2/2024-07-25/
LOCATION:Nixon Park\, 929 Oxley Road\, OXLEY\, QLD\, 4075\, Australia
GEO:-27.552171;152.9789711
X-APPLE-STRUCTURED-LOCATION;VALUE=URI;X-ADDRESS=Nixon Park 929 Oxley Road OXLEY QLD 4075 Australia;X-APPLE-RADIUS=500;X-TITLE=929 Oxley Road:geo:152.9789711,-27.552171
END:VEVENT
BEGIN:VEVENT
DTSTART;TZID=Australia/Brisbane:20240718T090000
DTEND;TZID=Australia/Brisbane:20240718T100000
DTSTAMP:20260424T212803
CREATED:20240624T030353Z
LAST-MODIFIED:20240624T030353Z
UID:27457-1721293200-1721296800@nicolejohnston.com.au
SUMMARY:Oxley | Mums and Bubs Yoga
DESCRIPTION:A mum and bubs yoga class to connect with yourself\, your baby and others. Designed to support you post-natally\, gentle stretching and strengthening practices\, breathing exercises\, meditation.
URL:https://nicolejohnston.com.au/event/oxley-mums-and-bubs-yoga-2/2024-07-18/
LOCATION:Nixon Park\, 929 Oxley Road\, OXLEY\, QLD\, 4075\, Australia
GEO:-27.552171;152.9789711
X-APPLE-STRUCTURED-LOCATION;VALUE=URI;X-ADDRESS=Nixon Park 929 Oxley Road OXLEY QLD 4075 Australia;X-APPLE-RADIUS=500;X-TITLE=929 Oxley Road:geo:152.9789711,-27.552171
END:VEVENT
BEGIN:VEVENT
DTSTART;TZID=Australia/Brisbane:20240711T090000
DTEND;TZID=Australia/Brisbane:20240711T100000
DTSTAMP:20260424T212803
CREATED:20240624T030353Z
LAST-MODIFIED:20240624T030353Z
UID:27456-1720688400-1720692000@nicolejohnston.com.au
SUMMARY:Oxley | Mums and Bubs Yoga
DESCRIPTION:A mum and bubs yoga class to connect with yourself\, your baby and others. Designed to support you post-natally\, gentle stretching and strengthening practices\, breathing exercises\, meditation.
URL:https://nicolejohnston.com.au/event/oxley-mums-and-bubs-yoga-2/2024-07-11/
LOCATION:Nixon Park\, 929 Oxley Road\, OXLEY\, QLD\, 4075\, Australia
GEO:-27.552171;152.9789711
X-APPLE-STRUCTURED-LOCATION;VALUE=URI;X-ADDRESS=Nixon Park 929 Oxley Road OXLEY QLD 4075 Australia;X-APPLE-RADIUS=500;X-TITLE=929 Oxley Road:geo:152.9789711,-27.552171
END:VEVENT
BEGIN:VEVENT
DTSTART;TZID=Australia/Brisbane:20230720T090000
DTEND;TZID=Australia/Brisbane:20230720T100000
DTSTAMP:20260424T212803
CREATED:20230627T005720Z
LAST-MODIFIED:20230627T005720Z
UID:26338-1689843600-1689847200@nicolejohnston.com.au
SUMMARY:Oxley | Mums and Bubs Yoga
DESCRIPTION:A mum and bubs yoga class to connect with yourself\, your baby and others. Designed to support you post-natally\, gentle stretching and strengthening practices\, breathing exercises\, meditation. \nFor more information phone Nichola on 0406 574 454. \nBring a yoga mat and meet near the playground.
URL:https://nicolejohnston.com.au/event/oxley-mums-and-bubs-yoga/2023-07-20/
LOCATION:Nixon Park\, 929 Oxley Road\, OXLEY\, QLD\, 4075\, Australia
GEO:-27.552171;152.9789711
X-APPLE-STRUCTURED-LOCATION;VALUE=URI;X-ADDRESS=Nixon Park 929 Oxley Road OXLEY QLD 4075 Australia;X-APPLE-RADIUS=500;X-TITLE=929 Oxley Road:geo:152.9789711,-27.552171
END:VEVENT
BEGIN:VEVENT
DTSTART;TZID=Australia/Brisbane:20200721T093000
DTEND;TZID=Australia/Brisbane:20200721T101500
DTSTAMP:20260424T212803
CREATED:20200708T005327Z
LAST-MODIFIED:20200708T005327Z
UID:22140-1595323800-1595326500@nicolejohnston.com.au
SUMMARY:Oxley | Boxfit
DESCRIPTION:High Intensity boxing and bodyweight circuit class. Ideal to increase cardiovascular fitness\, build endurance and strength. A great stress-busting and endorphin-producing workout. \nBookings essential. To book phone Clare on 0432 168 667. \nMeet at the basketball court.
URL:https://nicolejohnston.com.au/event/oxley-boxfit/2020-07-21/
LOCATION:Nixon Park\, 929 Oxley Road\, OXLEY\, QLD\, 4075\, Australia
GEO:-27.552171;152.9789711
X-APPLE-STRUCTURED-LOCATION;VALUE=URI;X-ADDRESS=Nixon Park 929 Oxley Road OXLEY QLD 4075 Australia;X-APPLE-RADIUS=500;X-TITLE=929 Oxley Road:geo:152.9789711,-27.552171
END:VEVENT
BEGIN:VEVENT
DTSTART;TZID=Australia/Brisbane:20200717T093000
DTEND;TZID=Australia/Brisbane:20200717T103000
DTSTAMP:20260424T212803
CREATED:20200629T043918Z
LAST-MODIFIED:20200629T043918Z
UID:22037-1594978200-1594981800@nicolejohnston.com.au
SUMMARY:Oxley | U-Jam
DESCRIPTION:U-Jam fitness is the combination of urban dance to hip-hop music and fitness. It is a high energy cardio workout using the hottest beats of the moment. Feel like you’re at a dance party every time! Suitable for all ages. \nNo bookings required. For more information phone Lelani on 0405 569 094. \nMeet at the gym equipment.
URL:https://nicolejohnston.com.au/event/oxley-u-jam/2020-07-17/
LOCATION:Nixon Park\, 929 Oxley Road\, OXLEY\, QLD\, 4075\, Australia
GEO:-27.552171;152.9789711
X-APPLE-STRUCTURED-LOCATION;VALUE=URI;X-ADDRESS=Nixon Park 929 Oxley Road OXLEY QLD 4075 Australia;X-APPLE-RADIUS=500;X-TITLE=929 Oxley Road:geo:152.9789711,-27.552171
END:VEVENT
BEGIN:VEVENT
DTSTART;TZID=Australia/Brisbane:20170806T110000
DTEND;TZID=Australia/Brisbane:20170806T140000
DTSTAMP:20260424T212803
CREATED:20170630T161451Z
LAST-MODIFIED:20170630T161451Z
UID:12943-1502017200-1502028000@nicolejohnston.com.au
SUMMARY:NHW - Dogs on Patrol & Outdoor Gym Opening
DESCRIPTION:Join local Neighbourhood Watch groups from Oxley/Oxley Ridge and Sherwood as they join forces with Mt Ommaney Police ‘Dogs on Patrol’ session.  Mt Ommaney Police will be able to engrave dog tags for a gold coin donation. \nThere will also be music\, food and beverages and stalls. \nIf you would like to host a stall\, please contact Lynn (NHW Area Coordinator) on 0412 122 161 for more details. \nCouncil will also officially open the new Outdoor Gym during the event.
URL:https://nicolejohnston.com.au/event/nhw-dogs-on-patrol-outdoor-gym-opening/
LOCATION:Nixon Park\, 929 Oxley Road\, OXLEY\, QLD\, 4075\, Australia
ORGANIZER;CN="Oxley Neighbourhood Watch":MAILTO:oxleyneighbourhoodwatch@gmail.com
GEO:-27.552171;152.9789711
X-APPLE-STRUCTURED-LOCATION;VALUE=URI;X-ADDRESS=Nixon Park 929 Oxley Road OXLEY QLD 4075 Australia;X-APPLE-RADIUS=500;X-TITLE=929 Oxley Road:geo:152.9789711,-27.552171
END:VEVENT
END:VCALENDAR