BEGIN:VCALENDAR
VERSION:2.0
PRODID:-//Nicole Johnston - ECPv6.15.20//NONSGML v1.0//EN
CALSCALE:GREGORIAN
METHOD:PUBLISH
X-ORIGINAL-URL:https://nicolejohnston.com.au
X-WR-CALDESC:Events for Nicole Johnston
REFRESH-INTERVAL;VALUE=DURATION:PT1H
X-Robots-Tag:noindex
X-PUBLISHED-TTL:PT1H
BEGIN:VTIMEZONE
TZID:Australia/Brisbane
BEGIN:STANDARD
TZOFFSETFROM:+1000
TZOFFSETTO:+1000
TZNAME:AEST
DTSTART:20150101T000000
END:STANDARD
END:VTIMEZONE
BEGIN:VEVENT
DTSTART;TZID=Australia/Brisbane:20221211T160000
DTEND;TZID=Australia/Brisbane:20221211T203000
DTSTAMP:20260424T160914
CREATED:20221108T035239Z
LAST-MODIFIED:20221108T035239Z
UID:25857-1670774400-1670790600@nicolejohnston.com.au
SUMMARY:Yeronga | Yeronga Village Christmas Party
DESCRIPTION:Rides\, market stalls\, food trucks\, Santa and more!
URL:https://nicolejohnston.com.au/event/yeronga-yeronga-village-christmas-party-2/
LOCATION:Orsova Rd Park\, 26 Orsova Road\, Yeronga\, Qld\, 4104\, Australia
CATEGORIES:Community Event
ATTACH;FMTTYPE=image/png:https://nicolejohnston.com.au/wp-content/uploads/2022/11/Yeronga-Village-Xmas-Party-Flyer.png
GEO:-27.509035;153.005904
X-APPLE-STRUCTURED-LOCATION;VALUE=URI;X-ADDRESS=Orsova Rd Park 26 Orsova Road Yeronga Qld 4104 Australia;X-APPLE-RADIUS=500;X-TITLE=26 Orsova Road:geo:153.005904,-27.509035
END:VEVENT
BEGIN:VEVENT
DTSTART;TZID=Australia/Brisbane:20211128T160000
DTEND;TZID=Australia/Brisbane:20211128T210000
DTSTAMP:20260424T160914
CREATED:20211123T062243Z
LAST-MODIFIED:20211123T062243Z
UID:25209-1638115200-1638133200@nicolejohnston.com.au
SUMMARY:Yeronga | Yeronga Village Christmas Party
DESCRIPTION:Food/drinks\, rides\, charity auction (fundraiser for QLD Children’s Hospital)\, big screen movie (7pm)\, music\, stalls\, raffles and Santa! \nCome dressed in your best tropical outfit (prize for best dressed). Donations of new educational gifts for disadvantaged children are appreciated (unwrapped).
URL:https://nicolejohnston.com.au/event/yeronga-yeronga-village-christmas-party/
LOCATION:Orsova Rd Park\, 26 Orsova Road\, Yeronga\, Qld\, 4104\, Australia
CATEGORIES:Community Event
ATTACH;FMTTYPE=image/png:https://nicolejohnston.com.au/wp-content/uploads/2021/11/Yeronga-Village-Xmas.png
GEO:-27.509035;153.005904
X-APPLE-STRUCTURED-LOCATION;VALUE=URI;X-ADDRESS=Orsova Rd Park 26 Orsova Road Yeronga Qld 4104 Australia;X-APPLE-RADIUS=500;X-TITLE=26 Orsova Road:geo:153.005904,-27.509035
END:VEVENT
BEGIN:VEVENT
DTSTART;TZID=Australia/Brisbane:20160213T090000
DTEND;TZID=Australia/Brisbane:20160213T120000
DTSTAMP:20260424T160914
CREATED:20151110T094711Z
LAST-MODIFIED:20151111T072629Z
UID:5387-1455354000-1455364800@nicolejohnston.com.au
SUMMARY:Community Tree Planting
DESCRIPTION:Council now has a plan for replacing the trees lost during the November 2014 supercell storm. \nThe first Community Planting day will be held in Yeronga.  Council pre-digs the holes so the tree planting day is suitable for people of all ages and is a fun and rewarding family activity. Free trees are given to all participants to take home. \nPlease bring water\, sunscreen and a hat. \nA BBQ lunch will follow afterwards from about 11am. \nAbout 350 trees will be planted.
URL:https://nicolejohnston.com.au/event/community-tree-planting/
LOCATION:Orsova Rd Park\, 26 Orsova Road\, Yeronga\, Qld\, 4104\, Australia
GEO:-27.509035;153.005904
X-APPLE-STRUCTURED-LOCATION;VALUE=URI;X-ADDRESS=Orsova Rd Park 26 Orsova Road Yeronga Qld 4104 Australia;X-APPLE-RADIUS=500;X-TITLE=26 Orsova Road:geo:153.005904,-27.509035
END:VEVENT
END:VCALENDAR