BEGIN:VCALENDAR
VERSION:2.0
PRODID:-//Nicole Johnston - ECPv6.15.20//NONSGML v1.0//EN
CALSCALE:GREGORIAN
METHOD:PUBLISH
X-WR-CALNAME:Nicole Johnston
X-ORIGINAL-URL:https://nicolejohnston.com.au
X-WR-CALDESC:Events for Nicole Johnston
REFRESH-INTERVAL;VALUE=DURATION:PT1H
X-Robots-Tag:noindex
X-PUBLISHED-TTL:PT1H
BEGIN:VTIMEZONE
TZID:Australia/Brisbane
BEGIN:STANDARD
TZOFFSETFROM:+1000
TZOFFSETTO:+1000
TZNAME:AEST
DTSTART:20190101T000000
END:STANDARD
END:VTIMEZONE
BEGIN:VEVENT
DTSTART;TZID=Australia/Brisbane:20230603T133000
DTEND;TZID=Australia/Brisbane:20230603T210000
DTSTAMP:20260424T124808
CREATED:20230515T032021Z
LAST-MODIFIED:20230515T032022Z
UID:26112-1685799000-1685826000@nicolejohnston.com.au
SUMMARY:Oxley | Oxley Resilience Festival
DESCRIPTION:
URL:https://nicolejohnston.com.au/event/oxley-oxley-resilience-festival/
LOCATION:Oxley Bowls Club\, Englefield Road\, Oxley\, QLD\, 4075\, Australia
CATEGORIES:Community Event
ATTACH;FMTTYPE=image/png:https://nicolejohnston.com.au/wp-content/uploads/2023/05/Oxley-Resilience-Festival.png
ORGANIZER;CN="Benarrawa Community Development Assn.":MAILTO:benarrawa@westnet.com.au
END:VEVENT
BEGIN:VEVENT
DTSTART;TZID=Australia/Brisbane:20230126T130000
DTEND;TZID=Australia/Brisbane:20230126T200000
DTSTAMP:20260424T124808
CREATED:20230117T062417Z
LAST-MODIFIED:20230117T062419Z
UID:25955-1674738000-1674763200@nicolejohnston.com.au
SUMMARY:Oxley | Oxley Community Festival
DESCRIPTION:
URL:https://nicolejohnston.com.au/event/oxley-oxley-community-festival-2/
LOCATION:Oxley Bowls Club\, Englefield Road\, Oxley\, QLD\, 4075\, Australia
CATEGORIES:Community Event
ATTACH;FMTTYPE=image/png:https://nicolejohnston.com.au/wp-content/uploads/2023/01/Oxley-Community-Festival-Banner.png
END:VEVENT
BEGIN:VEVENT
DTSTART;TZID=Australia/Brisbane:20221028T160000
DTEND;TZID=Australia/Brisbane:20221028T210000
DTSTAMP:20260424T124808
CREATED:20221004T031336Z
LAST-MODIFIED:20221004T031337Z
UID:25801-1666972800-1666990800@nicolejohnston.com.au
SUMMARY:Oxley | Diwali in Oxley
DESCRIPTION:Community performances\, music\, dance\, jumping castle\, face painting\, food\, drinks and fireworks to celebrate Diwali.
URL:https://nicolejohnston.com.au/event/oxley-diwali-in-oxley/
LOCATION:Oxley Bowls Club\, Englefield Road\, Oxley\, QLD\, 4075\, Australia
CATEGORIES:Community Event
ATTACH;FMTTYPE=image/png:https://nicolejohnston.com.au/wp-content/uploads/2022/10/Diwali-in-Oxley.png
END:VEVENT
BEGIN:VEVENT
DTSTART;TZID=Australia/Brisbane:20220910T160000
DTEND;TZID=Australia/Brisbane:20220910T200000
DTSTAMP:20260424T124808
CREATED:20220906T032440Z
LAST-MODIFIED:20220906T032440Z
UID:25775-1662825600-1662840000@nicolejohnston.com.au
SUMMARY:Oxley | QCWA Oxley Centenary Games Night
DESCRIPTION:Join the Oxley QCWA this Saturday Sept 10 from 4pm at Club Oxley for a Family Fun Centenary Games Night –\nSpeed Gaming tables with Australian games including Hoy\, Knuckles\, Squatter\,\nAustralian monopoly\, Cards\, Battleships and Bingo.\n$5 entry and $15 per family\nRaffle prizes!!\nSausage Sizzle and Baking by QCWA Oxley.
URL:https://nicolejohnston.com.au/event/oxley-qcwa-oxley-centenary-games-night/
LOCATION:Oxley Bowls Club\, Englefield Road\, Oxley\, QLD\, 4075\, Australia
CATEGORIES:Community Event
ATTACH;FMTTYPE=image/jpeg:https://nicolejohnston.com.au/wp-content/uploads/2022/09/305220231_447458710748160_7132419425549891743_n.jpg
END:VEVENT
BEGIN:VEVENT
DTSTART;TZID=Australia/Brisbane:20200126T140000
DTEND;TZID=Australia/Brisbane:20200126T210000
DTSTAMP:20260424T124808
CREATED:20191223T015745Z
LAST-MODIFIED:20191223T015745Z
UID:20113-1580047200-1580072400@nicolejohnston.com.au
SUMMARY:Oxley | Australia Day 2020 Pool Party
DESCRIPTION:Come and enjoy a family fun day of entertainment to celebrate our National Day. \nOxley Bowls Club\, Englefield Rd.\, Oxley. \n 
URL:https://nicolejohnston.com.au/event/oxley-australia-day-2020-pool-party/
LOCATION:Oxley Bowls Club\, Englefield Road\, Oxley\, QLD\, 4075\, Australia
END:VEVENT
END:VCALENDAR