BEGIN:VCALENDAR
VERSION:2.0
PRODID:-//Nicole Johnston - ECPv6.15.20//NONSGML v1.0//EN
CALSCALE:GREGORIAN
METHOD:PUBLISH
X-WR-CALNAME:Nicole Johnston
X-ORIGINAL-URL:https://nicolejohnston.com.au
X-WR-CALDESC:Events for Nicole Johnston
REFRESH-INTERVAL;VALUE=DURATION:PT1H
X-Robots-Tag:noindex
X-PUBLISHED-TTL:PT1H
BEGIN:VTIMEZONE
TZID:Australia/Brisbane
BEGIN:STANDARD
TZOFFSETFROM:+1000
TZOFFSETTO:+1000
TZNAME:AEST
DTSTART:20140101T000000
END:STANDARD
END:VTIMEZONE
BEGIN:VEVENT
DTSTART;TZID=Australia/Brisbane:20220227T063000
DTEND;TZID=Australia/Brisbane:20220227T100000
DTSTAMP:20260424T114847
CREATED:20220222T232628Z
LAST-MODIFIED:20220222T232628Z
UID:25376-1645943400-1645956000@nicolejohnston.com.au
SUMMARY:Rocklea | Friends of Oxley Creek Common Bird Walk
DESCRIPTION:Join Friends of Oxley Creek Common and Prof. Hugh Possingham (UQ & QLD Chief Scientist) for a bird walk followed by their committee general meeting. 6:30 – 9:40am for the bird walk\, 10:00 – 11:00am for the committee meeting. Remember to bring your hat\, binoculars and sunscreen if you are going on the walk.
URL:https://nicolejohnston.com.au/event/rocklea-friends-of-oxley-creek-common-bird-walk/
LOCATION:Oxley Creek Common\, 271 Sherwood Rd\, Rocklea\, Qld\, 4106\, Australia
ORGANIZER;CN="Friends of Oxley Creek Common":MAILTO:friendsofoxleycreekcommon@gmail.com
GEO:-27.535636;152.993047
X-APPLE-STRUCTURED-LOCATION;VALUE=URI;X-ADDRESS=Oxley Creek Common 271 Sherwood Rd Rocklea Qld 4106 Australia;X-APPLE-RADIUS=500;X-TITLE=271 Sherwood Rd:geo:152.993047,-27.535636
END:VEVENT
BEGIN:VEVENT
DTSTART;TZID=Australia/Brisbane:20190827T173000
DTEND;TZID=Australia/Brisbane:20190827T200000
DTSTAMP:20260424T114847
CREATED:20190725T064716Z
LAST-MODIFIED:20190725T064716Z
UID:19167-1566927000-1566936000@nicolejohnston.com.au
SUMMARY:Oxley Creek Catchment Association General Meeting
DESCRIPTION:
URL:https://nicolejohnston.com.au/event/oxley-creek-catchment-association-general-meeting-2/
LOCATION:Oxley Creek Common\, 271 Sherwood Rd\, Rocklea\, Qld\, 4106\, Australia
GEO:-27.535636;152.993047
X-APPLE-STRUCTURED-LOCATION;VALUE=URI;X-ADDRESS=Oxley Creek Common 271 Sherwood Rd Rocklea Qld 4106 Australia;X-APPLE-RADIUS=500;X-TITLE=271 Sherwood Rd:geo:152.993047,-27.535636
END:VEVENT
BEGIN:VEVENT
DTSTART;TZID=Australia/Brisbane:20180626T173000
DTEND;TZID=Australia/Brisbane:20180626T203000
DTSTAMP:20260424T114847
CREATED:20180525T022330Z
LAST-MODIFIED:20180525T022342Z
UID:17258-1530034200-1530045000@nicolejohnston.com.au
SUMMARY:Oxley Creek Catchment Association General Meeting
DESCRIPTION:‘Grassroots Conservation – Strategies and Challenges’ – Dr Stephen Prowse \n  \nDr Stephen Prowse is the Birds Queensland Conservation Officer and Chair of Protect the Bush Alliance. He is a scientist who worked in the CSIRO and was CEO of Cooperative Research Centres in Emerging Infectious Disease and in Wound Care. He has a particular interest in the translation of research information into policy and practice to achieve better environmental outcomes. He has over 100 publications in scientific journals\, industry magazines and online articles. Dr Prowse will talk about the way in which Birds Queensland and Protect the Bush Alliance works with community groups and engages Councils\, Governments and developers in attempts to achieve outcomes that protect habitat and biodiversity. He will discuss local examples (Mt Coot-tha Zipline\, Oxley Creek Common\, and Dowse Lagoon) as well as mining projects (Colton and Styx coal mines) to illustrate various approaches.
URL:https://nicolejohnston.com.au/event/oxley-creek-catchment-association-general-meeting/
LOCATION:Oxley Creek Common\, 271 Sherwood Rd\, Rocklea\, Qld\, 4106\, Australia
GEO:-27.535636;152.993047
X-APPLE-STRUCTURED-LOCATION;VALUE=URI;X-ADDRESS=Oxley Creek Common 271 Sherwood Rd Rocklea Qld 4106 Australia;X-APPLE-RADIUS=500;X-TITLE=271 Sherwood Rd:geo:152.993047,-27.535636
END:VEVENT
BEGIN:VEVENT
DTSTART;TZID=Australia/Brisbane:20171129T183000
DTEND;TZID=Australia/Brisbane:20171129T203000
DTSTAMP:20260424T114847
CREATED:20171114T004026Z
LAST-MODIFIED:20171114T004727Z
UID:14449-1511980200-1511987400@nicolejohnston.com.au
SUMMARY:Rocklea | Bush Connection Forum
DESCRIPTION:
URL:https://nicolejohnston.com.au/event/rocklea-bush-connection-forum/
LOCATION:Oxley Creek Common\, 271 Sherwood Rd\, Rocklea\, Qld\, 4106\, Australia
GEO:-27.535636;152.993047
X-APPLE-STRUCTURED-LOCATION;VALUE=URI;X-ADDRESS=Oxley Creek Common 271 Sherwood Rd Rocklea Qld 4106 Australia;X-APPLE-RADIUS=500;X-TITLE=271 Sherwood Rd:geo:152.993047,-27.535636
END:VEVENT
BEGIN:VEVENT
DTSTART;TZID=Australia/Brisbane:20160422T070000
DTEND;TZID=Australia/Brisbane:20160422T100000
DTSTAMP:20260424T114848
CREATED:20160428T050530Z
LAST-MODIFIED:20160428T050530Z
UID:9068-1461308400-1461319200@nicolejohnston.com.au
SUMMARY:Autumn Bird Walk
DESCRIPTION:
URL:https://nicolejohnston.com.au/event/autumn-bird-walk/
LOCATION:Oxley Creek Common\, 271 Sherwood Rd\, Rocklea\, Qld\, 4106\, Australia
ORGANIZER;CN="Friends of Oxley Creek Common":MAILTO:friendsofoxleycreekcommon@gmail.com
GEO:-27.535636;152.993047
X-APPLE-STRUCTURED-LOCATION;VALUE=URI;X-ADDRESS=Oxley Creek Common 271 Sherwood Rd Rocklea Qld 4106 Australia;X-APPLE-RADIUS=500;X-TITLE=271 Sherwood Rd:geo:152.993047,-27.535636
END:VEVENT
BEGIN:VEVENT
DTSTART;TZID=Australia/Brisbane:20160312T080000
DTEND;TZID=Australia/Brisbane:20160312T120000
DTSTAMP:20260424T114848
CREATED:20160210T131931Z
LAST-MODIFIED:20160210T131931Z
UID:7322-1457769600-1457784000@nicolejohnston.com.au
SUMMARY:OCCA Workshop | Human Reduction of Mynas
DESCRIPTION:OCCA are hosting a morning workshop at the Oxley Creek Common on the Human Reduction of Mynas.  Register via email info@oxleycreekcatchment.org.au to secure your place.
URL:https://nicolejohnston.com.au/event/occa-workshop-human-reduction-of-mynas/
LOCATION:Oxley Creek Common\, 271 Sherwood Rd\, Rocklea\, Qld\, 4106\, Australia
GEO:-27.535636;152.993047
X-APPLE-STRUCTURED-LOCATION;VALUE=URI;X-ADDRESS=Oxley Creek Common 271 Sherwood Rd Rocklea Qld 4106 Australia;X-APPLE-RADIUS=500;X-TITLE=271 Sherwood Rd:geo:152.993047,-27.535636
END:VEVENT
BEGIN:VEVENT
DTSTART;TZID=Australia/Brisbane:20160223T173000
DTEND;TZID=Australia/Brisbane:20160223T193000
DTSTAMP:20260424T114848
CREATED:20160210T131624Z
LAST-MODIFIED:20160210T131624Z
UID:7319-1456248600-1456255800@nicolejohnston.com.au
SUMMARY:Oxley Creek Catchment Association GM
DESCRIPTION:23 February sees the first of OCCA’s general meetings of the year with a speaker from the Wildlife Preservation Society of Queensland joining us to talk about gliders and the results of their monitoring in SEQ. Come along to the Oxley Creek Common\, Sherwood Road\, Rocklea at 5.30pm.
URL:https://nicolejohnston.com.au/event/oxley-creek-catchment-association-gm/
LOCATION:Oxley Creek Common\, 271 Sherwood Rd\, Rocklea\, Qld\, 4106\, Australia
GEO:-27.535636;152.993047
X-APPLE-STRUCTURED-LOCATION;VALUE=URI;X-ADDRESS=Oxley Creek Common 271 Sherwood Rd Rocklea Qld 4106 Australia;X-APPLE-RADIUS=500;X-TITLE=271 Sherwood Rd:geo:152.993047,-27.535636
END:VEVENT
BEGIN:VEVENT
DTSTART;TZID=Australia/Brisbane:20150804T070000
DTEND;TZID=Australia/Brisbane:20150804T090000
DTSTAMP:20260424T114848
CREATED:20150728T021321Z
LAST-MODIFIED:20150728T021321Z
UID:3591-1438671600-1438678800@nicolejohnston.com.au
SUMMARY:Tuesday Common Care
DESCRIPTION:The group will be assisting the State Government to selectively and carefully weed at the Oxley Creek Common. \nIf you have a few hours to spare every week or now and then\, please do not hesitate to contact us and come along.
URL:https://nicolejohnston.com.au/event/tuesday-common-care/2015-08-04/
LOCATION:Oxley Creek Common\, 271 Sherwood Rd\, Rocklea\, Qld\, 4106\, Australia
ORGANIZER;CN="Marylou Simpson":MAILTO:maryloulit@hotmail.com
GEO:-27.535636;152.993047
X-APPLE-STRUCTURED-LOCATION;VALUE=URI;X-ADDRESS=Oxley Creek Common 271 Sherwood Rd Rocklea Qld 4106 Australia;X-APPLE-RADIUS=500;X-TITLE=271 Sherwood Rd:geo:152.993047,-27.535636
END:VEVENT
END:VCALENDAR