BEGIN:VCALENDAR
VERSION:2.0
PRODID:-//Nicole Johnston - ECPv6.15.20//NONSGML v1.0//EN
CALSCALE:GREGORIAN
METHOD:PUBLISH
X-ORIGINAL-URL:https://nicolejohnston.com.au
X-WR-CALDESC:Events for Nicole Johnston
REFRESH-INTERVAL;VALUE=DURATION:PT1H
X-Robots-Tag:noindex
X-PUBLISHED-TTL:PT1H
BEGIN:VTIMEZONE
TZID:Australia/Brisbane
BEGIN:STANDARD
TZOFFSETFROM:+1000
TZOFFSETTO:+1000
TZNAME:AEST
DTSTART:20210101T000000
END:STANDARD
END:VTIMEZONE
BEGIN:VEVENT
DTSTART;TZID=Australia/Brisbane:20251018T080000
DTEND;TZID=Australia/Brisbane:20251018T130000
DTSTAMP:20260424T120955
CREATED:20250910T060025Z
LAST-MODIFIED:20250924T053729Z
UID:30992-1760774400-1760792400@nicolejohnston.com.au
SUMMARY:Oxley | Oxley Men's Shed Open Day Expo
DESCRIPTION:Puppet Theatre\, Paper Aeroplane Competition\, Eireann Academy Irish Dancers\, the Shed on Show\, Stalls\, Raffle and More… Don’t Miss it!
URL:https://nicolejohnston.com.au/event/oxley-oxley-mens-shed-open-day-expo-2/
LOCATION:Oxley Mens Shed\, 18 California Rd\, Oxley\, QLD\, 4075\, Australia
CATEGORIES:Community Event
ATTACH;FMTTYPE=image/png:https://nicolejohnston.com.au/wp-content/uploads/2025/09/Oxley-Mens-Shed-Open-Day.png
END:VEVENT
BEGIN:VEVENT
DTSTART;TZID=Australia/Brisbane:20241123T080000
DTEND;TZID=Australia/Brisbane:20241123T120000
DTSTAMP:20260424T120955
CREATED:20241014T010120Z
LAST-MODIFIED:20241014T010123Z
UID:28256-1732348800-1732363200@nicolejohnston.com.au
SUMMARY:Oxley | Oxley Men's Shed Open Day Expo
DESCRIPTION:
URL:https://nicolejohnston.com.au/event/oxley-oxley-mens-shed-open-day-expo/
LOCATION:Oxley Mens Shed\, 18 California Rd\, Oxley\, QLD\, 4075\, Australia
CATEGORIES:Community Event
ATTACH;FMTTYPE=image/jpeg:https://nicolejohnston.com.au/wp-content/uploads/2024/10/Oxley-Mens-Shed-Expo-Day.jpg
END:VEVENT
BEGIN:VEVENT
DTSTART;TZID=Australia/Brisbane:20231007T080000
DTEND;TZID=Australia/Brisbane:20231007T120000
DTSTAMP:20260424T120955
CREATED:20230921T052217Z
LAST-MODIFIED:20230921T052222Z
UID:26921-1696665600-1696680000@nicolejohnston.com.au
SUMMARY:Oxley | Oxley Men's Shed Open Day
DESCRIPTION:
URL:https://nicolejohnston.com.au/event/oxley-oxley-mens-shed-open-day/
LOCATION:Oxley Mens Shed\, 18 California Rd\, Oxley\, QLD\, 4075\, Australia
CATEGORIES:Community Event
ATTACH;FMTTYPE=image/png:https://nicolejohnston.com.au/wp-content/uploads/2023/09/Oxley-Mens-Shed-Open-Day-Expo.png
END:VEVENT
BEGIN:VEVENT
DTSTART;TZID=Australia/Brisbane:20221029T080000
DTEND;TZID=Australia/Brisbane:20221029T120000
DTSTAMP:20260424T120955
CREATED:20221025T053619Z
LAST-MODIFIED:20221025T053625Z
UID:25835-1667030400-1667044800@nicolejohnston.com.au
SUMMARY:Oxley | Oxley Mens Shed Expo & Book Launch
DESCRIPTION:
URL:https://nicolejohnston.com.au/event/oxley-oxley-mens-shed-expo-book-launch/
LOCATION:Oxley Mens Shed\, 18 California Rd\, Oxley\, QLD\, 4075\, Australia
CATEGORIES:Community Event
ATTACH;FMTTYPE=image/jpeg:https://nicolejohnston.com.au/wp-content/uploads/2022/10/Mens-Shed-Open-Day.jpg
END:VEVENT
END:VCALENDAR