BEGIN:VCALENDAR
VERSION:2.0
PRODID:-//Nicole Johnston - ECPv6.15.20//NONSGML v1.0//EN
CALSCALE:GREGORIAN
METHOD:PUBLISH
X-ORIGINAL-URL:https://nicolejohnston.com.au
X-WR-CALDESC:Events for Nicole Johnston
REFRESH-INTERVAL;VALUE=DURATION:PT1H
X-Robots-Tag:noindex
X-PUBLISHED-TTL:PT1H
BEGIN:VTIMEZONE
TZID:Australia/Brisbane
BEGIN:STANDARD
TZOFFSETFROM:+1000
TZOFFSETTO:+1000
TZNAME:AEST
DTSTART:20170101T000000
END:STANDARD
END:VTIMEZONE
BEGIN:VEVENT
DTSTART;TZID=Australia/Brisbane:20180929T153000
DTEND;TZID=Australia/Brisbane:20180929T170000
DTSTAMP:20260424T195710
CREATED:20180910T005542Z
LAST-MODIFIED:20180910T005542Z
UID:17849-1538235000-1538240400@nicolejohnston.com.au
SUMMARY:Yeronga Bush Care Community Planting
DESCRIPTION:The Yeronga Bushcare Group is holding a community planting event from 3:30pm on Saturday\, 29 September at the playground end of Esplanade\, Yeronga. Come along and help beautify the area! Child friendly nature based activities will be available for the kids.
URL:https://nicolejohnston.com.au/event/yeronga-bush-care-community-planting/
LOCATION:Paringa Place Park\, 50 Esplanade\, Yeronga\, Qld\, 4104\, Australia
GEO:-27.5140455;153.0149526
X-APPLE-STRUCTURED-LOCATION;VALUE=URI;X-ADDRESS=Paringa Place Park 50 Esplanade Yeronga Qld 4104 Australia;X-APPLE-RADIUS=500;X-TITLE=50 Esplanade:geo:153.0149526,-27.5140455
END:VEVENT
END:VCALENDAR