BEGIN:VCALENDAR
VERSION:2.0
PRODID:-//Nicole Johnston - ECPv6.15.20//NONSGML v1.0//EN
CALSCALE:GREGORIAN
METHOD:PUBLISH
X-WR-CALNAME:Nicole Johnston
X-ORIGINAL-URL:https://nicolejohnston.com.au
X-WR-CALDESC:Events for Nicole Johnston
REFRESH-INTERVAL;VALUE=DURATION:PT1H
X-Robots-Tag:noindex
X-PUBLISHED-TTL:PT1H
BEGIN:VTIMEZONE
TZID:Australia/Brisbane
BEGIN:STANDARD
TZOFFSETFROM:+1000
TZOFFSETTO:+1000
TZNAME:AEST
DTSTART:20200101T000000
END:STANDARD
END:VTIMEZONE
BEGIN:VEVENT
DTSTART;TZID=Australia/Brisbane:20220219T180000
DTEND;TZID=Australia/Brisbane:20220219T200000
DTSTAMP:20260424T124748
CREATED:20220207T060240Z
LAST-MODIFIED:20220207T060240Z
UID:25359-1645293600-1645300800@nicolejohnston.com.au
SUMMARY:Tennyson | Bands in Parks: Love Match
DESCRIPTION:Brass Roots Live will open the 2022 season of music at the Qld Tennis Centre with a burst of pure joyous big band sound. Valentine’s day may have come and gone but there’s still a little love left at the Qld Tennis Centre. Come and be wooed by Brass Roots Live and their selection of songs that you will LOVE to dance and sing to. Come down and celebrate the joy of big band music on a summer evening. The café and bar will be open so enjoy your music with a glass of wine and a meal. Free tickets via Eventbrite.
URL:https://nicolejohnston.com.au/event/tennyson-bands-in-parks-love-match/
LOCATION:QLD Tennis Centre\, 190 King Arthur Tce\, Tennyson\, Queensland\, 4105\, Australia
CATEGORIES:Community Event
ATTACH;FMTTYPE=image/jpeg:https://nicolejohnston.com.au/wp-content/uploads/2021/09/NJ-at-Game-Set-Swing-Brisbane-Metropolitan-Bands-Feb-landscape.jpeg
END:VEVENT
BEGIN:VEVENT
DTSTART;TZID=Australia/Brisbane:20211120T180000
DTEND;TZID=Australia/Brisbane:20211120T200000
DTSTAMP:20260424T124748
CREATED:20210924T062513Z
LAST-MODIFIED:20211109T045515Z
UID:24930-1637431200-1637438400@nicolejohnston.com.au
SUMMARY:Tennyson | Bands in Parks 'No Strings Attached'
DESCRIPTION:Brass Roots Live perform a programme of swing\, rock and bop in the final concert of the year at QLD Tennis Centre. Food and drinks available to purchase on the night.
URL:https://nicolejohnston.com.au/event/tennyson-bands-in-parks-no-strings-attached/
LOCATION:QLD Tennis Centre\, 190 King Arthur Tce\, Tennyson\, Queensland\, 4105\, Australia
CATEGORIES:Community Event
ATTACH;FMTTYPE=image/jpeg:https://nicolejohnston.com.au/wp-content/uploads/2021/09/NJ-at-Game-Set-Swing-Brisbane-Metropolitan-Bands-Feb-landscape.jpeg
END:VEVENT
BEGIN:VEVENT
DTSTART;TZID=Australia/Brisbane:20211016T180000
DTEND;TZID=Australia/Brisbane:20211016T200000
DTSTAMP:20260424T124748
CREATED:20210924T062031Z
LAST-MODIFIED:20210924T062250Z
UID:24926-1634407200-1634414400@nicolejohnston.com.au
SUMMARY:Tennyson | Bands in Parks 'Movies and Masterworks'
DESCRIPTION:The QLD Wind Orchestra present a thrilling and varied programme of joyful\, inspiring music. Food and drink available to purchase on the night.
URL:https://nicolejohnston.com.au/event/bands-in-parks-movies-and-masterworks-qld-tennis-centre/
LOCATION:QLD Tennis Centre\, 190 King Arthur Tce\, Tennyson\, Queensland\, 4105\, Australia
CATEGORIES:Community Event
END:VEVENT
BEGIN:VEVENT
DTSTART;TZID=Australia/Brisbane:20210918T180000
DTEND;TZID=Australia/Brisbane:20210918T200000
DTSTAMP:20260424T124748
CREATED:20210914T034452Z
LAST-MODIFIED:20210914T034720Z
UID:24904-1631988000-1631995200@nicolejohnston.com.au
SUMMARY:Tennyson | Bands in Parks Under the Stars
DESCRIPTION:The Queensland Wind and Brass perform a program of symphonic classics at the QLD Tennis Centre. Enjoy a glass of wine and a meal from Baseline Café as you enjoy an evening of concert band favourites including music from Gershwin\, Mancini\, and John Williams.
URL:https://nicolejohnston.com.au/event/bands-in-parks-under-the-stars/
LOCATION:QLD Tennis Centre\, 190 King Arthur Tce\, Tennyson\, Queensland\, 4105\, Australia
CATEGORIES:Community Event
ATTACH;FMTTYPE=image/jpeg:https://nicolejohnston.com.au/wp-content/uploads/2021/09/NJ-at-Game-Set-Swing-Brisbane-Metropolitan-Bands-Feb-landscape.jpeg
END:VEVENT
BEGIN:VEVENT
DTSTART;TZID=Australia/Brisbane:20210821T180000
DTEND;TZID=Australia/Brisbane:20210821T200000
DTSTAMP:20260424T124748
CREATED:20210819T062931Z
LAST-MODIFIED:20210819T064237Z
UID:24672-1629568800-1629576000@nicolejohnston.com.au
SUMMARY:Tennyson | Bands in Parks Swing Out
DESCRIPTION:Brass Roots Live returns to the Tennis Centre with all your favourites from the 1960’s through to the 1980’s. Sing and dance along to Peter Vance and Rachael Pearse as they warm up your winter evening with a mix of feel-good tunes from across the decades. Bring your dance card but not your high heels. \nThe Baseline café and bar will be open so enjoy the entertainment with a glass of wine and a meal. Food and drink from outside vendors are not allowed for this event. \nThere is a grass section in front of the band to bring a picnic blanket or there will be limited seating on the paved area behind the grass. Seating will be first come first served so head in early to guarantee your spot.
URL:https://nicolejohnston.com.au/event/tennyson-bands-in-parks-swing-out/
LOCATION:QLD Tennis Centre\, 190 King Arthur Tce\, Tennyson\, Queensland\, 4105\, Australia
CATEGORIES:Community Event
ATTACH;FMTTYPE=image/jpeg:https://nicolejohnston.com.au/wp-content/uploads/2021/08/NJ-at-Game-Set-Swing-Brisbane-Metropolitan-Bands-Feb-landscape.jpeg
END:VEVENT
END:VCALENDAR