BEGIN:VCALENDAR
VERSION:2.0
PRODID:-//Nicole Johnston - ECPv6.15.20//NONSGML v1.0//EN
CALSCALE:GREGORIAN
METHOD:PUBLISH
X-ORIGINAL-URL:https://nicolejohnston.com.au
X-WR-CALDESC:Events for Nicole Johnston
REFRESH-INTERVAL;VALUE=DURATION:PT1H
X-Robots-Tag:noindex
X-PUBLISHED-TTL:PT1H
BEGIN:VTIMEZONE
TZID:Australia/Brisbane
BEGIN:STANDARD
TZOFFSETFROM:+1000
TZOFFSETTO:+1000
TZNAME:AEST
DTSTART:20140101T000000
END:STANDARD
END:VTIMEZONE
BEGIN:VEVENT
DTSTART;TZID=Australia/Brisbane:20241027T080000
DTEND;TZID=Australia/Brisbane:20241027T090000
DTSTAMP:20260424T174034
CREATED:20240619T064723Z
LAST-MODIFIED:20240619T064723Z
UID:27449-1730016000-1730019600@nicolejohnston.com.au
SUMMARY:Fairfield | GOLD Tai Chi Qigong
DESCRIPTION:This dynamic activity is invigorating and will help you feel relaxed\, refreshed and calm. Rejuvenate your body and learn to create a tranquil mind. Join any week. \nThis is a GOLD event suitable for seniors. For more information phone Julian from Australian Academy of Tai Chi on 0439 073 860.
URL:https://nicolejohnston.com.au/event/fairfield-gold-tai-chi-qigong/2024-10-27/
LOCATION:Robinson Park\, 221 Fairfield Road\, Fairfield\, Queensland\, 4103\, Australia
GEO:-27.5099948;153.023042
X-APPLE-STRUCTURED-LOCATION;VALUE=URI;X-ADDRESS=Robinson Park 221 Fairfield Road Fairfield Queensland 4103 Australia;X-APPLE-RADIUS=500;X-TITLE=221 Fairfield Road:geo:153.023042,-27.5099948
END:VEVENT
BEGIN:VEVENT
DTSTART;TZID=Australia/Brisbane:20241020T080000
DTEND;TZID=Australia/Brisbane:20241020T090000
DTSTAMP:20260424T174034
CREATED:20240619T064723Z
LAST-MODIFIED:20240619T064723Z
UID:27447-1729411200-1729414800@nicolejohnston.com.au
SUMMARY:Fairfield | GOLD Tai Chi Qigong
DESCRIPTION:This dynamic activity is invigorating and will help you feel relaxed\, refreshed and calm. Rejuvenate your body and learn to create a tranquil mind. Join any week. \nThis is a GOLD event suitable for seniors. For more information phone Julian from Australian Academy of Tai Chi on 0439 073 860.
URL:https://nicolejohnston.com.au/event/fairfield-gold-tai-chi-qigong/2024-10-20/
LOCATION:Robinson Park\, 221 Fairfield Road\, Fairfield\, Queensland\, 4103\, Australia
GEO:-27.5099948;153.023042
X-APPLE-STRUCTURED-LOCATION;VALUE=URI;X-ADDRESS=Robinson Park 221 Fairfield Road Fairfield Queensland 4103 Australia;X-APPLE-RADIUS=500;X-TITLE=221 Fairfield Road:geo:153.023042,-27.5099948
END:VEVENT
BEGIN:VEVENT
DTSTART;TZID=Australia/Brisbane:20241013T080000
DTEND;TZID=Australia/Brisbane:20241013T090000
DTSTAMP:20260424T174034
CREATED:20240619T064723Z
LAST-MODIFIED:20240619T064723Z
UID:27446-1728806400-1728810000@nicolejohnston.com.au
SUMMARY:Fairfield | GOLD Tai Chi Qigong
DESCRIPTION:This dynamic activity is invigorating and will help you feel relaxed\, refreshed and calm. Rejuvenate your body and learn to create a tranquil mind. Join any week. \nThis is a GOLD event suitable for seniors. For more information phone Julian from Australian Academy of Tai Chi on 0439 073 860.
URL:https://nicolejohnston.com.au/event/fairfield-gold-tai-chi-qigong/2024-10-13/
LOCATION:Robinson Park\, 221 Fairfield Road\, Fairfield\, Queensland\, 4103\, Australia
GEO:-27.5099948;153.023042
X-APPLE-STRUCTURED-LOCATION;VALUE=URI;X-ADDRESS=Robinson Park 221 Fairfield Road Fairfield Queensland 4103 Australia;X-APPLE-RADIUS=500;X-TITLE=221 Fairfield Road:geo:153.023042,-27.5099948
END:VEVENT
BEGIN:VEVENT
DTSTART;TZID=Australia/Brisbane:20241006T080000
DTEND;TZID=Australia/Brisbane:20241006T090000
DTSTAMP:20260424T174034
CREATED:20240619T064723Z
LAST-MODIFIED:20240619T064723Z
UID:27445-1728201600-1728205200@nicolejohnston.com.au
SUMMARY:Fairfield | GOLD Tai Chi Qigong
DESCRIPTION:This dynamic activity is invigorating and will help you feel relaxed\, refreshed and calm. Rejuvenate your body and learn to create a tranquil mind. Join any week. \nThis is a GOLD event suitable for seniors. For more information phone Julian from Australian Academy of Tai Chi on 0439 073 860.
URL:https://nicolejohnston.com.au/event/fairfield-gold-tai-chi-qigong/2024-10-06/
LOCATION:Robinson Park\, 221 Fairfield Road\, Fairfield\, Queensland\, 4103\, Australia
GEO:-27.5099948;153.023042
X-APPLE-STRUCTURED-LOCATION;VALUE=URI;X-ADDRESS=Robinson Park 221 Fairfield Road Fairfield Queensland 4103 Australia;X-APPLE-RADIUS=500;X-TITLE=221 Fairfield Road:geo:153.023042,-27.5099948
END:VEVENT
BEGIN:VEVENT
DTSTART;TZID=Australia/Brisbane:20240908T080000
DTEND;TZID=Australia/Brisbane:20240908T090000
DTSTAMP:20260424T174034
CREATED:20240619T064723Z
LAST-MODIFIED:20240619T064723Z
UID:27444-1725782400-1725786000@nicolejohnston.com.au
SUMMARY:Fairfield | GOLD Tai Chi Qigong
DESCRIPTION:This dynamic activity is invigorating and will help you feel relaxed\, refreshed and calm. Rejuvenate your body and learn to create a tranquil mind. Join any week. \nThis is a GOLD event suitable for seniors. For more information phone Julian from Australian Academy of Tai Chi on 0439 073 860.
URL:https://nicolejohnston.com.au/event/fairfield-gold-tai-chi-qigong/2024-09-08/
LOCATION:Robinson Park\, 221 Fairfield Road\, Fairfield\, Queensland\, 4103\, Australia
GEO:-27.5099948;153.023042
X-APPLE-STRUCTURED-LOCATION;VALUE=URI;X-ADDRESS=Robinson Park 221 Fairfield Road Fairfield Queensland 4103 Australia;X-APPLE-RADIUS=500;X-TITLE=221 Fairfield Road:geo:153.023042,-27.5099948
END:VEVENT
BEGIN:VEVENT
DTSTART;TZID=Australia/Brisbane:20240825T080000
DTEND;TZID=Australia/Brisbane:20240825T090000
DTSTAMP:20260424T174034
CREATED:20240619T064723Z
LAST-MODIFIED:20240619T064723Z
UID:27443-1724572800-1724576400@nicolejohnston.com.au
SUMMARY:Fairfield | GOLD Tai Chi Qigong
DESCRIPTION:This dynamic activity is invigorating and will help you feel relaxed\, refreshed and calm. Rejuvenate your body and learn to create a tranquil mind. Join any week. \nThis is a GOLD event suitable for seniors. For more information phone Julian from Australian Academy of Tai Chi on 0439 073 860.
URL:https://nicolejohnston.com.au/event/fairfield-gold-tai-chi-qigong/2024-08-25/
LOCATION:Robinson Park\, 221 Fairfield Road\, Fairfield\, Queensland\, 4103\, Australia
GEO:-27.5099948;153.023042
X-APPLE-STRUCTURED-LOCATION;VALUE=URI;X-ADDRESS=Robinson Park 221 Fairfield Road Fairfield Queensland 4103 Australia;X-APPLE-RADIUS=500;X-TITLE=221 Fairfield Road:geo:153.023042,-27.5099948
END:VEVENT
BEGIN:VEVENT
DTSTART;TZID=Australia/Brisbane:20240818T080000
DTEND;TZID=Australia/Brisbane:20240818T090000
DTSTAMP:20260424T174034
CREATED:20240619T064723Z
LAST-MODIFIED:20240619T064723Z
UID:27442-1723968000-1723971600@nicolejohnston.com.au
SUMMARY:Fairfield | GOLD Tai Chi Qigong
DESCRIPTION:This dynamic activity is invigorating and will help you feel relaxed\, refreshed and calm. Rejuvenate your body and learn to create a tranquil mind. Join any week. \nThis is a GOLD event suitable for seniors. For more information phone Julian from Australian Academy of Tai Chi on 0439 073 860.
URL:https://nicolejohnston.com.au/event/fairfield-gold-tai-chi-qigong/2024-08-18/
LOCATION:Robinson Park\, 221 Fairfield Road\, Fairfield\, Queensland\, 4103\, Australia
GEO:-27.5099948;153.023042
X-APPLE-STRUCTURED-LOCATION;VALUE=URI;X-ADDRESS=Robinson Park 221 Fairfield Road Fairfield Queensland 4103 Australia;X-APPLE-RADIUS=500;X-TITLE=221 Fairfield Road:geo:153.023042,-27.5099948
END:VEVENT
BEGIN:VEVENT
DTSTART;TZID=Australia/Brisbane:20240811T080000
DTEND;TZID=Australia/Brisbane:20240811T090000
DTSTAMP:20260424T174034
CREATED:20240619T064723Z
LAST-MODIFIED:20240619T064723Z
UID:27441-1723363200-1723366800@nicolejohnston.com.au
SUMMARY:Fairfield | GOLD Tai Chi Qigong
DESCRIPTION:This dynamic activity is invigorating and will help you feel relaxed\, refreshed and calm. Rejuvenate your body and learn to create a tranquil mind. Join any week. \nThis is a GOLD event suitable for seniors. For more information phone Julian from Australian Academy of Tai Chi on 0439 073 860.
URL:https://nicolejohnston.com.au/event/fairfield-gold-tai-chi-qigong/2024-08-11/
LOCATION:Robinson Park\, 221 Fairfield Road\, Fairfield\, Queensland\, 4103\, Australia
GEO:-27.5099948;153.023042
X-APPLE-STRUCTURED-LOCATION;VALUE=URI;X-ADDRESS=Robinson Park 221 Fairfield Road Fairfield Queensland 4103 Australia;X-APPLE-RADIUS=500;X-TITLE=221 Fairfield Road:geo:153.023042,-27.5099948
END:VEVENT
BEGIN:VEVENT
DTSTART;TZID=Australia/Brisbane:20240804T080000
DTEND;TZID=Australia/Brisbane:20240804T090000
DTSTAMP:20260424T174034
CREATED:20240619T064723Z
LAST-MODIFIED:20240619T064723Z
UID:27440-1722758400-1722762000@nicolejohnston.com.au
SUMMARY:Fairfield | GOLD Tai Chi Qigong
DESCRIPTION:This dynamic activity is invigorating and will help you feel relaxed\, refreshed and calm. Rejuvenate your body and learn to create a tranquil mind. Join any week. \nThis is a GOLD event suitable for seniors. For more information phone Julian from Australian Academy of Tai Chi on 0439 073 860.
URL:https://nicolejohnston.com.au/event/fairfield-gold-tai-chi-qigong/2024-08-04/
LOCATION:Robinson Park\, 221 Fairfield Road\, Fairfield\, Queensland\, 4103\, Australia
GEO:-27.5099948;153.023042
X-APPLE-STRUCTURED-LOCATION;VALUE=URI;X-ADDRESS=Robinson Park 221 Fairfield Road Fairfield Queensland 4103 Australia;X-APPLE-RADIUS=500;X-TITLE=221 Fairfield Road:geo:153.023042,-27.5099948
END:VEVENT
BEGIN:VEVENT
DTSTART;TZID=Australia/Brisbane:20240728T080000
DTEND;TZID=Australia/Brisbane:20240728T090000
DTSTAMP:20260424T174034
CREATED:20240619T064723Z
LAST-MODIFIED:20240619T064723Z
UID:27439-1722153600-1722157200@nicolejohnston.com.au
SUMMARY:Fairfield | GOLD Tai Chi Qigong
DESCRIPTION:This dynamic activity is invigorating and will help you feel relaxed\, refreshed and calm. Rejuvenate your body and learn to create a tranquil mind. Join any week. \nThis is a GOLD event suitable for seniors. For more information phone Julian from Australian Academy of Tai Chi on 0439 073 860.
URL:https://nicolejohnston.com.au/event/fairfield-gold-tai-chi-qigong/2024-07-28/
LOCATION:Robinson Park\, 221 Fairfield Road\, Fairfield\, Queensland\, 4103\, Australia
GEO:-27.5099948;153.023042
X-APPLE-STRUCTURED-LOCATION;VALUE=URI;X-ADDRESS=Robinson Park 221 Fairfield Road Fairfield Queensland 4103 Australia;X-APPLE-RADIUS=500;X-TITLE=221 Fairfield Road:geo:153.023042,-27.5099948
END:VEVENT
BEGIN:VEVENT
DTSTART;TZID=Australia/Brisbane:20240721T080000
DTEND;TZID=Australia/Brisbane:20240721T090000
DTSTAMP:20260424T174034
CREATED:20240619T064723Z
LAST-MODIFIED:20240619T064723Z
UID:27438-1721548800-1721552400@nicolejohnston.com.au
SUMMARY:Fairfield | GOLD Tai Chi Qigong
DESCRIPTION:This dynamic activity is invigorating and will help you feel relaxed\, refreshed and calm. Rejuvenate your body and learn to create a tranquil mind. Join any week. \nThis is a GOLD event suitable for seniors. For more information phone Julian from Australian Academy of Tai Chi on 0439 073 860.
URL:https://nicolejohnston.com.au/event/fairfield-gold-tai-chi-qigong/2024-07-21/
LOCATION:Robinson Park\, 221 Fairfield Road\, Fairfield\, Queensland\, 4103\, Australia
GEO:-27.5099948;153.023042
X-APPLE-STRUCTURED-LOCATION;VALUE=URI;X-ADDRESS=Robinson Park 221 Fairfield Road Fairfield Queensland 4103 Australia;X-APPLE-RADIUS=500;X-TITLE=221 Fairfield Road:geo:153.023042,-27.5099948
END:VEVENT
BEGIN:VEVENT
DTSTART;TZID=Australia/Brisbane:20240714T080000
DTEND;TZID=Australia/Brisbane:20240714T090000
DTSTAMP:20260424T174034
CREATED:20240619T064723Z
LAST-MODIFIED:20240619T064723Z
UID:27437-1720944000-1720947600@nicolejohnston.com.au
SUMMARY:Fairfield | GOLD Tai Chi Qigong
DESCRIPTION:This dynamic activity is invigorating and will help you feel relaxed\, refreshed and calm. Rejuvenate your body and learn to create a tranquil mind. Join any week. \nThis is a GOLD event suitable for seniors. For more information phone Julian from Australian Academy of Tai Chi on 0439 073 860.
URL:https://nicolejohnston.com.au/event/fairfield-gold-tai-chi-qigong/2024-07-14/
LOCATION:Robinson Park\, 221 Fairfield Road\, Fairfield\, Queensland\, 4103\, Australia
GEO:-27.5099948;153.023042
X-APPLE-STRUCTURED-LOCATION;VALUE=URI;X-ADDRESS=Robinson Park 221 Fairfield Road Fairfield Queensland 4103 Australia;X-APPLE-RADIUS=500;X-TITLE=221 Fairfield Road:geo:153.023042,-27.5099948
END:VEVENT
BEGIN:VEVENT
DTSTART;TZID=Australia/Brisbane:20231202T161500
DTEND;TZID=Australia/Brisbane:20231202T200000
DTSTAMP:20260424T174034
CREATED:20231026T045403Z
LAST-MODIFIED:20231026T045406Z
UID:27016-1701533700-1701547200@nicolejohnston.com.au
SUMMARY:Fairfield | Fairfield Christmas Fair and Carols in the Park
DESCRIPTION:
URL:https://nicolejohnston.com.au/event/fairfield-fairfield-christmas-fair-and-carols-in-the-park/
LOCATION:Robinson Park\, 221 Fairfield Road\, Fairfield\, Queensland\, 4103\, Australia
CATEGORIES:Community Event
ATTACH;FMTTYPE=image/jpeg:https://nicolejohnston.com.au/wp-content/uploads/2023/10/2023-FCF-Christmas-Fair-Flyer-A5-with-nativity.jpg
GEO:-27.5099948;153.023042
X-APPLE-STRUCTURED-LOCATION;VALUE=URI;X-ADDRESS=Robinson Park 221 Fairfield Road Fairfield Queensland 4103 Australia;X-APPLE-RADIUS=500;X-TITLE=221 Fairfield Road:geo:153.023042,-27.5099948
END:VEVENT
BEGIN:VEVENT
DTSTART;TZID=Australia/Brisbane:20230723T080000
DTEND;TZID=Australia/Brisbane:20230723T090000
DTSTAMP:20260424T174034
CREATED:20230627T014654Z
LAST-MODIFIED:20230627T014654Z
UID:26410-1690099200-1690102800@nicolejohnston.com.au
SUMMARY:Fairfield | Tai Chi Qigong in the Park
DESCRIPTION:This dynamic activity is invigorating\, works with both your body AND your mind\, and will help you feel relaxed\, refreshed and calm. Tai Chi is becoming recognised as the world’s most beneficial health system. Rejuvenate your body and learn to create a tranquil mind. Join any week – all welcome! \nThis is a GOLD event suitable for seniors. For more information phone Julian on 0439 073 860.
URL:https://nicolejohnston.com.au/event/fairfield-tai-chi-qigong-in-the-park-2/2023-07-23/
LOCATION:Robinson Park\, 221 Fairfield Road\, Fairfield\, Queensland\, 4103\, Australia
GEO:-27.5099948;153.023042
X-APPLE-STRUCTURED-LOCATION;VALUE=URI;X-ADDRESS=Robinson Park 221 Fairfield Road Fairfield Queensland 4103 Australia;X-APPLE-RADIUS=500;X-TITLE=221 Fairfield Road:geo:153.023042,-27.5099948
END:VEVENT
BEGIN:VEVENT
DTSTART;TZID=Australia/Brisbane:20221203T161500
DTEND;TZID=Australia/Brisbane:20221203T200000
DTSTAMP:20260424T174034
CREATED:20221108T033441Z
LAST-MODIFIED:20221108T033442Z
UID:25847-1670084100-1670097600@nicolejohnston.com.au
SUMMARY:Fairfield | Christmas Carols in the Park
DESCRIPTION:Carols at 6:30pm. Free activities including rock climbing wall\, pony rides/animal farm\, face painting\, soccer game\, giant slide and jumping castle. \nFood stalls and food trucks to enjoy on the day. \nIn case of wet weather\, carols will be held at Fairfield Christian Family Church (51 Cross St\, Fairfield).
URL:https://nicolejohnston.com.au/event/fairfield-christmas-carols-in-the-park-3/
LOCATION:Robinson Park\, 221 Fairfield Road\, Fairfield\, Queensland\, 4103\, Australia
CATEGORIES:Community Event
ATTACH;FMTTYPE=image/jpeg:https://nicolejohnston.com.au/wp-content/uploads/2022/11/Christmas-in-the-Park-Carol-flyers-2022.jpg
GEO:-27.5099948;153.023042
X-APPLE-STRUCTURED-LOCATION;VALUE=URI;X-ADDRESS=Robinson Park 221 Fairfield Road Fairfield Queensland 4103 Australia;X-APPLE-RADIUS=500;X-TITLE=221 Fairfield Road:geo:153.023042,-27.5099948
END:VEVENT
BEGIN:VEVENT
DTSTART;TZID=Australia/Brisbane:20211204T161500
DTEND;TZID=Australia/Brisbane:20211204T200000
DTSTAMP:20260424T174034
CREATED:20211109T054304Z
LAST-MODIFIED:20211109T054304Z
UID:25167-1638634500-1638648000@nicolejohnston.com.au
SUMMARY:Fairfield | Christmas Fair and Carols in the Park
DESCRIPTION:
URL:https://nicolejohnston.com.au/event/fairfield-christmas-fair-and-carols-in-the-park/
LOCATION:Robinson Park\, 221 Fairfield Road\, Fairfield\, Queensland\, 4103\, Australia
CATEGORIES:Community Event
ATTACH;FMTTYPE=image/jpeg:https://nicolejohnston.com.au/wp-content/uploads/2021/11/2021-FCF-facebook-banner.jpg
GEO:-27.5099948;153.023042
X-APPLE-STRUCTURED-LOCATION;VALUE=URI;X-ADDRESS=Robinson Park 221 Fairfield Road Fairfield Queensland 4103 Australia;X-APPLE-RADIUS=500;X-TITLE=221 Fairfield Road:geo:153.023042,-27.5099948
END:VEVENT
BEGIN:VEVENT
DTSTART;TZID=Australia/Brisbane:20200719T080000
DTEND;TZID=Australia/Brisbane:20200719T170000
DTSTAMP:20260424T174034
CREATED:20200708T001609Z
LAST-MODIFIED:20200708T001609Z
UID:22122-1595145600-1595178000@nicolejohnston.com.au
SUMMARY:Fairfield | Tai Chi Qigong in the Park
DESCRIPTION:This dynamic activity is invigorating\, works with both your body AND your mind\, and will help you feel relaxed\, refreshed and calm. Tai Chi is becoming recognised as the world’s most beneficial health system. Rejuvenate your body and learn to create a tranquil mind. Join any week – all welcome! \nNo bookings required. For more information visit Australian Academy of Tai Chi or phone Julian on 0439 073 860. \nMeet near the playground\, off Sydney Street.
URL:https://nicolejohnston.com.au/event/fairfield-tai-chi-qigong-in-the-park/2020-07-19/
LOCATION:Robinson Park\, 221 Fairfield Road\, Fairfield\, Queensland\, 4103\, Australia
GEO:-27.5099948;153.023042
X-APPLE-STRUCTURED-LOCATION;VALUE=URI;X-ADDRESS=Robinson Park 221 Fairfield Road Fairfield Queensland 4103 Australia;X-APPLE-RADIUS=500;X-TITLE=221 Fairfield Road:geo:153.023042,-27.5099948
END:VEVENT
BEGIN:VEVENT
DTSTART;TZID=Australia/Brisbane:20200214T173000
DTEND;TZID=Australia/Brisbane:20200214T210000
DTSTAMP:20260424T174034
CREATED:20200107T061615Z
LAST-MODIFIED:20200107T061615Z
UID:20201-1581701400-1581714000@nicolejohnston.com.au
SUMMARY:Fairfield | Valentine's Day Movie in the Park
DESCRIPTION:Come along and enjoy a FREE screening of the classic film The Princess Bride. BBQ from 5:30pm\, movie from 6:45pm. \n  \nProudly supported by the Lord Mayor’s Community Fund and Cr Nicole Johnston\, Tennyson Ward.
URL:https://nicolejohnston.com.au/event/fairfield-valentines-day-movie-in-the-park/
LOCATION:Robinson Park\, 221 Fairfield Road\, Fairfield\, Queensland\, 4103\, Australia
GEO:-27.5099948;153.023042
X-APPLE-STRUCTURED-LOCATION;VALUE=URI;X-ADDRESS=Robinson Park 221 Fairfield Road Fairfield Queensland 4103 Australia;X-APPLE-RADIUS=500;X-TITLE=221 Fairfield Road:geo:153.023042,-27.5099948
END:VEVENT
BEGIN:VEVENT
DTSTART;TZID=Australia/Brisbane:20191208T161500
DTEND;TZID=Australia/Brisbane:20191208T200000
DTSTAMP:20260424T174034
CREATED:20191114T043038Z
LAST-MODIFIED:20191114T043048Z
UID:19846-1575821700-1575835200@nicolejohnston.com.au
SUMMARY:Fairfield | Christmas Carols in the Park
DESCRIPTION:
URL:https://nicolejohnston.com.au/event/fairfield-christmas-carols-in-the-park-2/
LOCATION:Robinson Park\, 221 Fairfield Road\, Fairfield\, Queensland\, 4103\, Australia
GEO:-27.5099948;153.023042
X-APPLE-STRUCTURED-LOCATION;VALUE=URI;X-ADDRESS=Robinson Park 221 Fairfield Road Fairfield Queensland 4103 Australia;X-APPLE-RADIUS=500;X-TITLE=221 Fairfield Road:geo:153.023042,-27.5099948
END:VEVENT
BEGIN:VEVENT
DTSTART;TZID=Australia/Brisbane:20181209T161500
DTEND;TZID=Australia/Brisbane:20181209T200000
DTSTAMP:20260424T174034
CREATED:20181122T043517Z
LAST-MODIFIED:20181122T043517Z
UID:18133-1544372100-1544385600@nicolejohnston.com.au
SUMMARY:Fairfield | Christmas Carols in the Park
DESCRIPTION:
URL:https://nicolejohnston.com.au/event/fairfield-christmas-carols-in-the-park/
LOCATION:Robinson Park\, 221 Fairfield Road\, Fairfield\, Queensland\, 4103\, Australia
GEO:-27.5099948;153.023042
X-APPLE-STRUCTURED-LOCATION;VALUE=URI;X-ADDRESS=Robinson Park 221 Fairfield Road Fairfield Queensland 4103 Australia;X-APPLE-RADIUS=500;X-TITLE=221 Fairfield Road:geo:153.023042,-27.5099948
END:VEVENT
BEGIN:VEVENT
DTSTART;TZID=Australia/Brisbane:20180526T140000
DTEND;TZID=Australia/Brisbane:20180526T200000
DTSTAMP:20260424T174034
CREATED:20180427T033456Z
LAST-MODIFIED:20180427T033727Z
UID:15418-1527343200-1527364800@nicolejohnston.com.au
SUMMARY:Fairfield Family Picnic and Movie in the Park
DESCRIPTION:
URL:https://nicolejohnston.com.au/event/fairfield-family-picnic-and-movie-in-the-park/
LOCATION:Robinson Park\, 221 Fairfield Road\, Fairfield\, Queensland\, 4103\, Australia
GEO:-27.5099948;153.023042
X-APPLE-STRUCTURED-LOCATION;VALUE=URI;X-ADDRESS=Robinson Park 221 Fairfield Road Fairfield Queensland 4103 Australia;X-APPLE-RADIUS=500;X-TITLE=221 Fairfield Road:geo:153.023042,-27.5099948
END:VEVENT
BEGIN:VEVENT
DTSTART;TZID=Australia/Brisbane:20161030T080000
DTEND;TZID=Australia/Brisbane:20161030T090000
DTSTAMP:20260424T174034
CREATED:20161026T034810Z
LAST-MODIFIED:20161026T034810Z
UID:10510-1477814400-1477818000@nicolejohnston.com.au
SUMMARY:Fairfield | Tai Chi Qigong
DESCRIPTION:This dynamic activity is invigorating\, works with both your body and your mind and will help you feel relaxed\, refreshed and calm.  The easy-to-follow moves are repeated each week to enable participants to get a feel for the gentle flowing exercise ‘moving meditation’.  Join any week all welcome!
URL:https://nicolejohnston.com.au/event/fairfield-tai-chi-qigong/2016-10-30/
LOCATION:Robinson Park\, 221 Fairfield Road\, Fairfield\, Queensland\, 4103\, Australia
GEO:-27.5099948;153.023042
X-APPLE-STRUCTURED-LOCATION;VALUE=URI;X-ADDRESS=Robinson Park 221 Fairfield Road Fairfield Queensland 4103 Australia;X-APPLE-RADIUS=500;X-TITLE=221 Fairfield Road:geo:153.023042,-27.5099948
END:VEVENT
BEGIN:VEVENT
DTSTART;TZID=Australia/Brisbane:20160410T080000
DTEND;TZID=Australia/Brisbane:20160410T090000
DTSTAMP:20260424T174034
CREATED:20150911T110100Z
LAST-MODIFIED:20160331T190244Z
UID:4212-1460275200-1460278800@nicolejohnston.com.au
SUMMARY:Fairfield | Tai Chi Qigong
DESCRIPTION:This dynamic mind and body activity is invigorating and will help you feel relaxed\, refreshed and calm.  The easy to follow moves are repeated each week to enable participants to get a feel for the gentle flowing exercise ‘moving meditation’. \nJoin any week – all welcome! Bookings not required. \nPlease have adequate sun protection and water.
URL:https://nicolejohnston.com.au/event/tai-chi-qigong-fairfield/2016-04-10/
LOCATION:Robinson Park\, 221 Fairfield Road\, Fairfield\, Queensland\, 4103\, Australia
GEO:-27.5099948;153.023042
X-APPLE-STRUCTURED-LOCATION;VALUE=URI;X-ADDRESS=Robinson Park 221 Fairfield Road Fairfield Queensland 4103 Australia;X-APPLE-RADIUS=500;X-TITLE=221 Fairfield Road:geo:153.023042,-27.5099948
END:VEVENT
BEGIN:VEVENT
DTSTART;TZID=Australia/Brisbane:20151206T160000
DTEND;TZID=Australia/Brisbane:20151206T190000
DTSTAMP:20260424T174034
CREATED:20150721T011039Z
LAST-MODIFIED:20150721T011039Z
UID:3539-1449417600-1449428400@nicolejohnston.com.au
SUMMARY:Fairfield Community Christmas Carols
DESCRIPTION:Community Christmas carols\, rides and BBQ for Fairfield and Yeronga  families
URL:https://nicolejohnston.com.au/event/fairfield-community-christmas-carols/
LOCATION:Robinson Park\, 221 Fairfield Road\, Fairfield\, Queensland\, 4103\, Australia
GEO:-27.5099948;153.023042
X-APPLE-STRUCTURED-LOCATION;VALUE=URI;X-ADDRESS=Robinson Park 221 Fairfield Road Fairfield Queensland 4103 Australia;X-APPLE-RADIUS=500;X-TITLE=221 Fairfield Road:geo:153.023042,-27.5099948
END:VEVENT
END:VCALENDAR