BEGIN:VCALENDAR
VERSION:2.0
PRODID:-//Nicole Johnston - ECPv6.15.20//NONSGML v1.0//EN
CALSCALE:GREGORIAN
METHOD:PUBLISH
X-WR-CALNAME:Nicole Johnston
X-ORIGINAL-URL:https://nicolejohnston.com.au
X-WR-CALDESC:Events for Nicole Johnston
REFRESH-INTERVAL;VALUE=DURATION:PT1H
X-Robots-Tag:noindex
X-PUBLISHED-TTL:PT1H
BEGIN:VTIMEZONE
TZID:Australia/Brisbane
BEGIN:STANDARD
TZOFFSETFROM:+1000
TZOFFSETTO:+1000
TZNAME:AEST
DTSTART:20140101T000000
END:STANDARD
END:VTIMEZONE
BEGIN:VEVENT
DTSTART;TZID=Australia/Brisbane:20151001T121500
DTEND;TZID=Australia/Brisbane:20151001T131500
DTSTAMP:20260425T112355
CREATED:20150913T104501Z
LAST-MODIFIED:20150913T104501Z
UID:4240-1443701700-1443705300@nicolejohnston.com.au
SUMMARY:Soccer Coaching
DESCRIPTION:Soccer games\, activities\, challenges and mini lessons that kids are sure to enjoy! \nExercise clothes\, sun protection and water bottles are essential. \nBookings required!  Meet at the playground.
URL:https://nicolejohnston.com.au/event/soccer-coaching/2015-10-01/
LOCATION:Sherwood Arboretum\, 57 Dewar Terrace\, Sherwood\, Queensland\, 4075\, Australia
GEO:-27.532253;152.977305
X-APPLE-STRUCTURED-LOCATION;VALUE=URI;X-ADDRESS=Sherwood Arboretum 57 Dewar Terrace Sherwood Queensland 4075 Australia;X-APPLE-RADIUS=500;X-TITLE=57 Dewar Terrace:geo:152.977305,-27.532253
END:VEVENT
BEGIN:VEVENT
DTSTART;TZID=Australia/Brisbane:20150928T100000
DTEND;TZID=Australia/Brisbane:20150928T120000
DTSTAMP:20260425T112355
CREATED:20150913T104148Z
LAST-MODIFIED:20150913T104148Z
UID:4239-1443434400-1443441600@nicolejohnston.com.au
SUMMARY:Adventure Kids
DESCRIPTION:Keep the kids active with lots of action in the outdoors.  Activities include putting up tents\, orienteering\, parachute games\, super rockets and more! \nIdeal for 10 – 17 years. \nSun protection and water bottles essential. \nBookings required – John 0412 004 603
URL:https://nicolejohnston.com.au/event/adventure-kids/2015-09-28/
LOCATION:Sherwood Arboretum\, 57 Dewar Terrace\, Sherwood\, Queensland\, 4075\, Australia
GEO:-27.532253;152.977305
X-APPLE-STRUCTURED-LOCATION;VALUE=URI;X-ADDRESS=Sherwood Arboretum 57 Dewar Terrace Sherwood Queensland 4075 Australia;X-APPLE-RADIUS=500;X-TITLE=57 Dewar Terrace:geo:152.977305,-27.532253
END:VEVENT
BEGIN:VEVENT
DTSTART;TZID=Australia/Brisbane:20150802T110000
DTEND;TZID=Australia/Brisbane:20150802T120000
DTSTAMP:20260425T112355
CREATED:20150526T052644Z
LAST-MODIFIED:20150526T052644Z
UID:3141-1438513200-1438516800@nicolejohnston.com.au
SUMMARY:Touch of Scotland
DESCRIPTION:Follow the call of the bagpipes with a morning concert.
URL:https://nicolejohnston.com.au/event/touch-of-scotland/
LOCATION:Sherwood Arboretum\, 57 Dewar Terrace\, Sherwood\, Queensland\, 4075\, Australia
GEO:-27.532253;152.977305
X-APPLE-STRUCTURED-LOCATION;VALUE=URI;X-ADDRESS=Sherwood Arboretum 57 Dewar Terrace Sherwood Queensland 4075 Australia;X-APPLE-RADIUS=500;X-TITLE=57 Dewar Terrace:geo:152.977305,-27.532253
END:VEVENT
BEGIN:VEVENT
DTSTART;TZID=Australia/Brisbane:20150722T153000
DTEND;TZID=Australia/Brisbane:20150722T163000
DTSTAMP:20260425T112355
CREATED:20150702T024052Z
LAST-MODIFIED:20150702T024052Z
UID:3410-1437579000-1437582600@nicolejohnston.com.au
SUMMARY:Active & Healthy: Fitness Circuit
DESCRIPTION:Come and have a workout while your children are having fun playing a different sport each week. \n*Bookings not required. \n*Meet a the playground.
URL:https://nicolejohnston.com.au/event/active-healthy-fitness-circuit/2015-07-22/
LOCATION:Sherwood Arboretum\, 57 Dewar Terrace\, Sherwood\, Queensland\, 4075\, Australia
GEO:-27.532253;152.977305
X-APPLE-STRUCTURED-LOCATION;VALUE=URI;X-ADDRESS=Sherwood Arboretum 57 Dewar Terrace Sherwood Queensland 4075 Australia;X-APPLE-RADIUS=500;X-TITLE=57 Dewar Terrace:geo:152.977305,-27.532253
END:VEVENT
BEGIN:VEVENT
DTSTART;TZID=Australia/Brisbane:20150528T090000
DTEND;TZID=Australia/Brisbane:20150528T100000
DTSTAMP:20260425T112355
CREATED:20150526T064405Z
LAST-MODIFIED:20150526T064405Z
UID:3147-1432803600-1432807200@nicolejohnston.com.au
SUMMARY:Active & Healthy: Low Impact Fitness & Pilates
DESCRIPTION:Easy movement and fitness exercises including warm up\, strength\, pilates and warm down.
URL:https://nicolejohnston.com.au/event/active-healthy-low-impact-fitness-pilates/2015-05-28/
LOCATION:Sherwood Arboretum\, 57 Dewar Terrace\, Sherwood\, Queensland\, 4075\, Australia
GEO:-27.532253;152.977305
X-APPLE-STRUCTURED-LOCATION;VALUE=URI;X-ADDRESS=Sherwood Arboretum 57 Dewar Terrace Sherwood Queensland 4075 Australia;X-APPLE-RADIUS=500;X-TITLE=57 Dewar Terrace:geo:152.977305,-27.532253
END:VEVENT
BEGIN:VEVENT
DTSTART;TZID=Australia/Brisbane:20150526T070000
DTEND;TZID=Australia/Brisbane:20150526T080000
DTSTAMP:20260425T112355
CREATED:20150518T063216Z
LAST-MODIFIED:20150518T063216Z
UID:3078-1432623600-1432627200@nicolejohnston.com.au
SUMMARY:Sorry Day Ceremony
DESCRIPTION:Annual Sorry Day Ceremony hosted by Benarrawa Aboriginal & Torres Strait Islander Solidarity Group. \nAll interested Indigenous and non-Indigenous community members are invited and encouraged to attend. \nMeet at the ‘Journey Plaque’ in the Sherwood Arboretum.
URL:https://nicolejohnston.com.au/event/sorry-day-ceremony/
LOCATION:Sherwood Arboretum\, 57 Dewar Terrace\, Sherwood\, Queensland\, 4075\, Australia
ORGANIZER;CN="Benarrawa Community Development Assn.":MAILTO:benarrawa@westnet.com.au
GEO:-27.532253;152.977305
X-APPLE-STRUCTURED-LOCATION;VALUE=URI;X-ADDRESS=Sherwood Arboretum 57 Dewar Terrace Sherwood Queensland 4075 Australia;X-APPLE-RADIUS=500;X-TITLE=57 Dewar Terrace:geo:152.977305,-27.532253
END:VEVENT
END:VCALENDAR