BEGIN:VCALENDAR
VERSION:2.0
PRODID:-//Nicole Johnston - ECPv6.15.20//NONSGML v1.0//EN
CALSCALE:GREGORIAN
METHOD:PUBLISH
X-WR-CALNAME:Nicole Johnston
X-ORIGINAL-URL:https://nicolejohnston.com.au
X-WR-CALDESC:Events for Nicole Johnston
REFRESH-INTERVAL;VALUE=DURATION:PT1H
X-Robots-Tag:noindex
X-PUBLISHED-TTL:PT1H
BEGIN:VTIMEZONE
TZID:Australia/Brisbane
BEGIN:STANDARD
TZOFFSETFROM:+1000
TZOFFSETTO:+1000
TZNAME:AEST
DTSTART:20230101T000000
END:STANDARD
END:VTIMEZONE
BEGIN:VEVENT
DTSTART;TZID=Australia/Brisbane:20250425T062000
DTEND;TZID=Australia/Brisbane:20250425T071500
DTSTAMP:20260424T101822
CREATED:20250408T032006Z
LAST-MODIFIED:20250408T032006Z
UID:29561-1745562000-1745565300@nicolejohnston.com.au
SUMMARY:Sherwood | Sherwood-Indooroopilly RSL Sub Branch ANZAC Day Service
DESCRIPTION:Please join us for the Sherwood ANZAC Day Service at the Sherwood Cemetery at 6.30am \nAll are welcome.
URL:https://nicolejohnston.com.au/event/sherwood-sherwood-indooroopilly-rsl-sub-branch-anzac-day-service/
LOCATION:Sherwood Cemetery\, 533 Sherwood Rd\, Sherwood\, QLD\, 4075\, Australia
CATEGORIES:Community Event
ATTACH;FMTTYPE=image/jpeg:https://nicolejohnston.com.au/wp-content/uploads/2025/04/ANZAC-Day-2025.jpg
END:VEVENT
BEGIN:VEVENT
DTSTART;TZID=Australia/Brisbane:20240425T063000
DTEND;TZID=Australia/Brisbane:20240425T070000
DTSTAMP:20260424T101822
CREATED:20240415T004124Z
LAST-MODIFIED:20240415T004125Z
UID:27150-1714026600-1714028400@nicolejohnston.com.au
SUMMARY:Sherwood | Sherwood-Indooroopilly RSL ANZAC Day Dawn Service
DESCRIPTION:All welcome to attend.
URL:https://nicolejohnston.com.au/event/sherwood-sherwood-indooroopilly-rsl-anzac-day-dawn-service/
LOCATION:Sherwood Cemetery\, 533 Sherwood Rd\, Sherwood\, QLD\, 4075\, Australia
CATEGORIES:Community Event
ATTACH;FMTTYPE=image/png:https://nicolejohnston.com.au/wp-content/uploads/2024/04/ANZAC-Day-2024.png
END:VEVENT
END:VCALENDAR