BEGIN:VCALENDAR
VERSION:2.0
PRODID:-//Nicole Johnston - ECPv6.15.20//NONSGML v1.0//EN
CALSCALE:GREGORIAN
METHOD:PUBLISH
X-WR-CALNAME:Nicole Johnston
X-ORIGINAL-URL:https://nicolejohnston.com.au
X-WR-CALDESC:Events for Nicole Johnston
REFRESH-INTERVAL;VALUE=DURATION:PT1H
X-Robots-Tag:noindex
X-PUBLISHED-TTL:PT1H
BEGIN:VTIMEZONE
TZID:Australia/Brisbane
BEGIN:STANDARD
TZOFFSETFROM:+1000
TZOFFSETTO:+1000
TZNAME:AEST
DTSTART:20140101T000000
END:STANDARD
END:VTIMEZONE
BEGIN:VEVENT
DTSTART;TZID=Australia/Brisbane:20211113T110000
DTEND;TZID=Australia/Brisbane:20211113T160000
DTSTAMP:20260424T145000
CREATED:20211109T051707Z
LAST-MODIFIED:20211109T051707Z
UID:25157-1636801200-1636819200@nicolejohnston.com.au
SUMMARY:Sherwood | Sherwood Festival Family Fun Day
DESCRIPTION:
URL:https://nicolejohnston.com.au/event/sherwood-sherwood-festival-family-fun-day/
LOCATION:Sherwood Community Festival\, Sherwood Rd (Between Oxley Rd & Hedges Ave)\, Sherwood\, Qld\, 4075\, Australia
CATEGORIES:Community Event
ATTACH;FMTTYPE=image/png:https://nicolejohnston.com.au/wp-content/uploads/2021/11/Sherwood-Community-Festival.png
ORGANIZER;CN="Sherwood Community Festival":MAILTO:enquiries@sherwoodfestival.com
GEO:-27.5317339;152.9799266
X-APPLE-STRUCTURED-LOCATION;VALUE=URI;X-ADDRESS=Sherwood Community Festival Sherwood Rd (Between Oxley Rd & Hedges Ave) Sherwood Qld 4075 Australia;X-APPLE-RADIUS=500;X-TITLE=Sherwood Rd (Between Oxley Rd & Hedges Ave):geo:152.9799266,-27.5317339
END:VEVENT
BEGIN:VEVENT
DTSTART;VALUE=DATE:20211113
DTEND;VALUE=DATE:20211122
DTSTAMP:20260424T145000
CREATED:20210924T071020Z
LAST-MODIFIED:20210924T071020Z
UID:24948-1636761600-1637539199@nicolejohnston.com.au
SUMMARY:Sherwood | Sherwood Community Food Week
DESCRIPTION:
URL:https://nicolejohnston.com.au/event/sherwood-sherwood-community-food-week/
LOCATION:Sherwood Community Festival\, Sherwood Rd (Between Oxley Rd & Hedges Ave)\, Sherwood\, Qld\, 4075\, Australia
ORGANIZER;CN="Sherwood Community Festival":MAILTO:enquiries@sherwoodfestival.com
GEO:-27.5317339;152.9799266
X-APPLE-STRUCTURED-LOCATION;VALUE=URI;X-ADDRESS=Sherwood Community Festival Sherwood Rd (Between Oxley Rd & Hedges Ave) Sherwood Qld 4075 Australia;X-APPLE-RADIUS=500;X-TITLE=Sherwood Rd (Between Oxley Rd & Hedges Ave):geo:152.9799266,-27.5317339
END:VEVENT
BEGIN:VEVENT
DTSTART;TZID=Australia/Brisbane:20161111T173000
DTEND;TZID=Australia/Brisbane:20161111T213000
DTSTAMP:20260424T145000
CREATED:20160914T034541Z
LAST-MODIFIED:20160914T034541Z
UID:10104-1478885400-1478899800@nicolejohnston.com.au
SUMMARY:Sherwood Community Festival
DESCRIPTION:The Sherwood Community Festival is a free family event\, sponsored by Brisbane City Council\, which each year keeps getting bigger and better. This year it will be on Friday\, 11th November\, from 5.30 pm to 9.30 pm. There will be a section dedicated to a huge variety of food stalls\, plus all the other market stalls\, rides and live entertainment! \nAttractions include: \n\nfree rides for the children\na petting farm\nmarket and food stalls\nlive entertainment including bands\, choirs\, dance troupes\na nativity play – complete with live camels\na raffle with some amazing prizes. Tickets are on sale outside Sherwood Woolworths on 22/10\, 29/10 and 5/11\, plus they can be purchased on the night from the information desk.\n\nEvent website: http://www.sherwoodfestival.com.au/
URL:https://nicolejohnston.com.au/event/sherwood-community-festival-2/
LOCATION:Sherwood Community Festival\, Sherwood Rd (Between Oxley Rd & Hedges Ave)\, Sherwood\, Qld\, 4075\, Australia
GEO:-27.5317339;152.9799266
X-APPLE-STRUCTURED-LOCATION;VALUE=URI;X-ADDRESS=Sherwood Community Festival Sherwood Rd (Between Oxley Rd & Hedges Ave) Sherwood Qld 4075 Australia;X-APPLE-RADIUS=500;X-TITLE=Sherwood Rd (Between Oxley Rd & Hedges Ave):geo:152.9799266,-27.5317339
END:VEVENT
BEGIN:VEVENT
DTSTART;TZID=Australia/Brisbane:20151113T173000
DTEND;TZID=Australia/Brisbane:20151113T210000
DTSTAMP:20260424T145000
CREATED:20151015T083243Z
LAST-MODIFIED:20151015T083243Z
UID:4505-1447435800-1447448400@nicolejohnston.com.au
SUMMARY:Sherwood Community Festival
DESCRIPTION:The count down to this years 20th Birthday celebration has begun!  \nWe Kick off with our ever popular Raffle – Tickets ON SALE from Saturday 24 October 9am – 3pm outside Woolworths Sherwood. Great Prizes to be won! \n\n  \nCome along as your favourite character or celebrity and dress up on Friday\, 13 November to celebrate the 20th anniversary of the Sherwood Community Festival!\n\nA time to celebrate\, have some fun and enjoy loads of free entertainment\, rides and stalls!\n\nProudly supported by Cr Nicole Johnston\, Tennyson Ward and the Lord Mayor’s Suburban Initiative Fund.
URL:https://nicolejohnston.com.au/event/sherwood-community-festival/
LOCATION:Sherwood Community Festival\, Sherwood Rd (Between Oxley Rd & Hedges Ave)\, Sherwood\, Qld\, 4075\, Australia
ORGANIZER;CN="Sherwood Community Festival":MAILTO:enquiries@sherwoodfestival.com
GEO:-27.5317339;152.9799266
X-APPLE-STRUCTURED-LOCATION;VALUE=URI;X-ADDRESS=Sherwood Community Festival Sherwood Rd (Between Oxley Rd & Hedges Ave) Sherwood Qld 4075 Australia;X-APPLE-RADIUS=500;X-TITLE=Sherwood Rd (Between Oxley Rd & Hedges Ave):geo:152.9799266,-27.5317339
END:VEVENT
END:VCALENDAR