BEGIN:VCALENDAR
VERSION:2.0
PRODID:-//Nicole Johnston - ECPv6.15.20//NONSGML v1.0//EN
CALSCALE:GREGORIAN
METHOD:PUBLISH
X-WR-CALNAME:Nicole Johnston
X-ORIGINAL-URL:https://nicolejohnston.com.au
X-WR-CALDESC:Events for Nicole Johnston
REFRESH-INTERVAL;VALUE=DURATION:PT1H
X-Robots-Tag:noindex
X-PUBLISHED-TTL:PT1H
BEGIN:VTIMEZONE
TZID:Australia/Brisbane
BEGIN:STANDARD
TZOFFSETFROM:+1000
TZOFFSETTO:+1000
TZNAME:AEST
DTSTART:20180101T000000
END:STANDARD
END:VTIMEZONE
BEGIN:VEVENT
DTSTART;TZID=Australia/Brisbane:20191115T173000
DTEND;TZID=Australia/Brisbane:20191115T213000
DTSTAMP:20260424T160923
CREATED:20191016T020332Z
LAST-MODIFIED:20191016T020333Z
UID:19685-1573839000-1573853400@nicolejohnston.com.au
SUMMARY:Sherwood Community Festival
DESCRIPTION:
URL:https://nicolejohnston.com.au/event/sherwood-community-festival-5/
LOCATION:Sherwood Rd\, Sherwood\, 686 Sherwood Rd\, Sherwood\, Qld\, 4075\, Australia
ORGANIZER;CN="Sherwood Community Festival":MAILTO:enquiries@sherwoodfestival.com
END:VEVENT
END:VCALENDAR