BEGIN:VCALENDAR
VERSION:2.0
PRODID:-//Nicole Johnston - ECPv6.15.20//NONSGML v1.0//EN
CALSCALE:GREGORIAN
METHOD:PUBLISH
X-WR-CALNAME:Nicole Johnston
X-ORIGINAL-URL:https://nicolejohnston.com.au
X-WR-CALDESC:Events for Nicole Johnston
REFRESH-INTERVAL;VALUE=DURATION:PT1H
X-Robots-Tag:noindex
X-PUBLISHED-TTL:PT1H
BEGIN:VTIMEZONE
TZID:Australia/Brisbane
BEGIN:STANDARD
TZOFFSETFROM:+1000
TZOFFSETTO:+1000
TZNAME:AEST
DTSTART:20250101T000000
END:STANDARD
END:VTIMEZONE
BEGIN:VEVENT
DTSTART;TZID=Australia/Brisbane:20260509T090000
DTEND;TZID=Australia/Brisbane:20260509T160000
DTSTAMP:20260424T060548
CREATED:20260413T031100Z
LAST-MODIFIED:20260413T031100Z
UID:32586-1778317200-1778342400@nicolejohnston.com.au
SUMMARY:Sherwood | Sherwood State School Fete
DESCRIPTION:Market day stalls\, rides\, food\, raffles\, entertainment and more.
URL:https://nicolejohnston.com.au/event/sherwood-sherwood-state-school-fete-4/
LOCATION:Sherwood State School\, 464 Oxley Rd\, Sherwood\, Qld\, 4075\, Australia
CATEGORIES:Community Event
ATTACH;FMTTYPE=image/png:https://nicolejohnston.com.au/wp-content/uploads/2026/04/Sherwod-SS-Fete.png
GEO:-27.5317202;152.9831449
X-APPLE-STRUCTURED-LOCATION;VALUE=URI;X-ADDRESS=Sherwood State School 464 Oxley Rd Sherwood Qld 4075 Australia;X-APPLE-RADIUS=500;X-TITLE=464 Oxley Rd:geo:152.9831449,-27.5317202
END:VEVENT
END:VCALENDAR