BEGIN:VCALENDAR
VERSION:2.0
PRODID:-//Nicole Johnston - ECPv6.15.20//NONSGML v1.0//EN
CALSCALE:GREGORIAN
METHOD:PUBLISH
X-WR-CALNAME:Nicole Johnston
X-ORIGINAL-URL:https://nicolejohnston.com.au
X-WR-CALDESC:Events for Nicole Johnston
REFRESH-INTERVAL;VALUE=DURATION:PT1H
X-Robots-Tag:noindex
X-PUBLISHED-TTL:PT1H
BEGIN:VTIMEZONE
TZID:Australia/Brisbane
BEGIN:STANDARD
TZOFFSETFROM:+1000
TZOFFSETTO:+1000
TZNAME:AEST
DTSTART:20150101T000000
END:STANDARD
END:VTIMEZONE
BEGIN:VEVENT
DTSTART;TZID=Australia/Brisbane:20171209T090000
DTEND;TZID=Australia/Brisbane:20171209T120000
DTSTAMP:20260424T142331
CREATED:20171117T000355Z
LAST-MODIFIED:20171117T000452Z
UID:14530-1512810000-1512820800@nicolejohnston.com.au
SUMMARY:Sherwood Uniting Church Market Day
DESCRIPTION:
URL:https://nicolejohnston.com.au/event/sherwood-uniting-church-market-day/
LOCATION:Sherwood Uniting Church\, cnr Thallon St and Sherwood Rd\, Sherwood\, qld\, 4075\, Australia
GEO:-27.5320991;152.9806216
X-APPLE-STRUCTURED-LOCATION;VALUE=URI;X-ADDRESS=Sherwood Uniting Church cnr Thallon St and Sherwood Rd Sherwood qld 4075 Australia;X-APPLE-RADIUS=500;X-TITLE=cnr Thallon St and Sherwood Rd:geo:152.9806216,-27.5320991
END:VEVENT
BEGIN:VEVENT
DTSTART;TZID=Australia/Brisbane:20161107T100000
DTEND;TZID=Australia/Brisbane:20161107T160000
DTSTAMP:20260424T142331
CREATED:20161027T014951Z
LAST-MODIFIED:20161027T014951Z
UID:10543-1478512800-1478534400@nicolejohnston.com.au
SUMMARY:Sherwood | Art Exhibition
DESCRIPTION:Sherwood Uniting Church is providing the venue for an Art Exhibition showing the work of two groups\, Chapel Gardens Artists and Brush Stroke Friends. The Exhibition is timed to coincide with the annual Sherwood Traders Street Festival on 11th November.  The Exhibition is to be officially opened on Monday\, 7th November by Rev. David Baker\, Moderator of the Uniting Church in Queensland\, at 10:30 am where light refreshments will be served. All are welcome. On Wednesday and Friday from 10:00am to noon there will be opportunity for visitors to try out a variety of media and on Tuesday and Thursday between 10:00am and noon there will be demonstrations by artist Bettie Botha. \nVenue: Sherwood Uniting Church\, cnr. Sherwood Road and Thallon Street\, Sherwood\, 4075. \nTime: Monday to Thursday – 10.00am to 4:00pm\, Friday – 10:am to 9:00pm (Street Festival)\, Saturday 10:00am to noon. \nContacts:  Anne 0422 843 390 Rowena 0408 004 053
URL:https://nicolejohnston.com.au/event/sherwood-art-exhibition/2016-11-07/
LOCATION:Sherwood Uniting Church\, cnr Thallon St and Sherwood Rd\, Sherwood\, qld\, 4075\, Australia
GEO:-27.5320991;152.9806216
X-APPLE-STRUCTURED-LOCATION;VALUE=URI;X-ADDRESS=Sherwood Uniting Church cnr Thallon St and Sherwood Rd Sherwood qld 4075 Australia;X-APPLE-RADIUS=500;X-TITLE=cnr Thallon St and Sherwood Rd:geo:152.9806216,-27.5320991
END:VEVENT
BEGIN:VEVENT
DTSTART;TZID=Australia/Brisbane:20161107T100000
DTEND;TZID=Australia/Brisbane:20161107T160000
DTSTAMP:20260424T142331
CREATED:20161024T004211Z
LAST-MODIFIED:20161024T004455Z
UID:10415-1478512800-1478534400@nicolejohnston.com.au
SUMMARY:'Our Wonderful World' Art Exhibition
DESCRIPTION:Join Chapel Gardens Art Group and Brush Stroke Friends Art Group on Monday 7 November for the official opening of their ‘Our Wonderful World’ art exhibition. The exhibition will run from Monday 7 to Thursday 10 November from 10am – 4pm for public viewing and as part of the Sherwood Street Festival on Friday 11 November from 10am – 9pm.
URL:https://nicolejohnston.com.au/event/our-wonderful-world-art-exhibition/2016-11-07/
LOCATION:Sherwood Uniting Church\, cnr Thallon St and Sherwood Rd\, Sherwood\, qld\, 4075\, Australia
GEO:-27.5320991;152.9806216
X-APPLE-STRUCTURED-LOCATION;VALUE=URI;X-ADDRESS=Sherwood Uniting Church cnr Thallon St and Sherwood Rd Sherwood qld 4075 Australia;X-APPLE-RADIUS=500;X-TITLE=cnr Thallon St and Sherwood Rd:geo:152.9806216,-27.5320991
END:VEVENT
BEGIN:VEVENT
DTSTART;TZID=Australia/Brisbane:20161008T090000
DTEND;TZID=Australia/Brisbane:20161008T120000
DTSTAMP:20260424T142331
CREATED:20160929T011911Z
LAST-MODIFIED:20160929T011911Z
UID:10201-1475917200-1475928000@nicolejohnston.com.au
SUMMARY:Sherwood || Market and Car Boot Sale
DESCRIPTION:Sherwood Uniting Church and Sherwood Neighbourhood Centre Market and Car Boot Sale is on 8 October from 9am – 12pm. \nCome on down for a sausage sizzle\, morning tea and pikelets with jam and cream\, drinks\, exotic cooking\, bric and brac\, art plants and lots more! \nIf you are interested in booking a site to sell your pre-loved goods\, please contact the following: \n\nMarket stall – Rowena 3379 6318 or 0408 004 053\nCar boot site – Claudia 3379 6963 or community@sherwoodnc.org\n\nCost per site is $10.
URL:https://nicolejohnston.com.au/event/sherwood-market-and-car-boot-sale/
LOCATION:Sherwood Uniting Church\, cnr Thallon St and Sherwood Rd\, Sherwood\, qld\, 4075\, Australia
GEO:-27.5320991;152.9806216
X-APPLE-STRUCTURED-LOCATION;VALUE=URI;X-ADDRESS=Sherwood Uniting Church cnr Thallon St and Sherwood Rd Sherwood qld 4075 Australia;X-APPLE-RADIUS=500;X-TITLE=cnr Thallon St and Sherwood Rd:geo:152.9806216,-27.5320991
END:VEVENT
BEGIN:VEVENT
DTSTART;TZID=Australia/Brisbane:20160910T080000
DTEND;TZID=Australia/Brisbane:20160910T123000
DTSTAMP:20260424T142331
CREATED:20160729T001643Z
LAST-MODIFIED:20160729T001643Z
UID:9715-1473494400-1473510600@nicolejohnston.com.au
SUMMARY:Refresh Your Stash Mega Craft Garage Sale
DESCRIPTION:Renew\, reduce\, or replenish your craft stash at Refresh Your Stash where sewing\, quilting\, scrapbooking\, card making\, vintage\, retro (and more) craft supplies will be on sale. Proceeds from the event will be used to support the Sherwood Neighbourhood Centre. $20 to book a table.
URL:https://nicolejohnston.com.au/event/refresh-your-stash-mega-craft-garage-sale/
LOCATION:Sherwood Uniting Church\, cnr Thallon St and Sherwood Rd\, Sherwood\, qld\, 4075\, Australia
GEO:-27.5320991;152.9806216
X-APPLE-STRUCTURED-LOCATION;VALUE=URI;X-ADDRESS=Sherwood Uniting Church cnr Thallon St and Sherwood Rd Sherwood qld 4075 Australia;X-APPLE-RADIUS=500;X-TITLE=cnr Thallon St and Sherwood Rd:geo:152.9806216,-27.5320991
END:VEVENT
BEGIN:VEVENT
DTSTART;TZID=Australia/Brisbane:20160618T090000
DTEND;TZID=Australia/Brisbane:20160618T120000
DTSTAMP:20260424T142331
CREATED:20160603T033031Z
LAST-MODIFIED:20160603T033031Z
UID:9257-1466240400-1466251200@nicolejohnston.com.au
SUMMARY:Car Boot Sale
DESCRIPTION:
URL:https://nicolejohnston.com.au/event/car-boot-sale/
LOCATION:Sherwood Uniting Church\, cnr Thallon St and Sherwood Rd\, Sherwood\, qld\, 4075\, Australia
GEO:-27.5320991;152.9806216
X-APPLE-STRUCTURED-LOCATION;VALUE=URI;X-ADDRESS=Sherwood Uniting Church cnr Thallon St and Sherwood Rd Sherwood qld 4075 Australia;X-APPLE-RADIUS=500;X-TITLE=cnr Thallon St and Sherwood Rd:geo:152.9806216,-27.5320991
END:VEVENT
BEGIN:VEVENT
DTSTART;TZID=Australia/Brisbane:20160423T140000
DTEND;TZID=Australia/Brisbane:20160423T170000
DTSTAMP:20260424T142331
CREATED:20160404T014131Z
LAST-MODIFIED:20160404T014531Z
UID:8864-1461420000-1461430800@nicolejohnston.com.au
SUMMARY:Refresh Your Stash Crafternoon and Market
DESCRIPTION:The Sherwood Uniting Church is holding a craft market and craft classes on Saturday 23 April. Suitable for older children and adults. If you want to help on the day\, donation of craft materials are welcome.
URL:https://nicolejohnston.com.au/event/refresh-your-stash-crafternoon-and-market/
LOCATION:Sherwood Uniting Church\, cnr Thallon St and Sherwood Rd\, Sherwood\, qld\, 4075\, Australia
ORGANIZER;CN="Sherwood Uniting Church":MAILTO:refreshyourstash@gmail.com
GEO:-27.5320991;152.9806216
X-APPLE-STRUCTURED-LOCATION;VALUE=URI;X-ADDRESS=Sherwood Uniting Church cnr Thallon St and Sherwood Rd Sherwood qld 4075 Australia;X-APPLE-RADIUS=500;X-TITLE=cnr Thallon St and Sherwood Rd:geo:152.9806216,-27.5320991
END:VEVENT
END:VCALENDAR